BEGIN:VCALENDAR
VERSION:2.0
PRODID:-//EZFacility.com, Inc.//EZL 2.5.5.28621
BEGIN:VEVENT
UID:16991374@ezleagues.ezfacility.com
DTSTAMP:20260426T035046Z
CREATED:20260426T035046Z
DTSTART:20260208T201500Z
DTEND:20260208T211000Z
LOCATION:Harmans Premier Field #5
CONTACT:
SUMMARY:2015 A3 Windsor VS. 2015 Broadneck Storm
DESCRIPTION:League Name: Youth Winter II SD2 Sat/Sun 2015 Girls U11 BRONZE\
 nGame Type: Regular\nGame Status: Complete\nHome Team: 2015 A3 Windsor\nAw
 ay Team: 2015 Broadneck Storm\nHome Score: 11\nAway Score: 3
END:VEVENT
BEGIN:VEVENT
UID:16991418@ezleagues.ezfacility.com
DTSTAMP:20260426T035046Z
CREATED:20260426T035046Z
DTSTART:20260215T173000Z
DTEND:20260215T182500Z
LOCATION:Harmans Premier Field #4
CONTACT:
SUMMARY:2016 HYSL Phoenix Strikers  VS. 2015 Broadneck Storm
DESCRIPTION:League Name: Youth Winter II SD2 Sat/Sun 2015 Girls U11 BRONZE\
 nGame Type: Regular\nGame Status: Complete\nHome Team: 2016 HYSL Phoenix S
 trikers \nAway Team: 2015 Broadneck Storm\nHome Score: 4\nAway Score: 3
END:VEVENT
BEGIN:VEVENT
UID:16991462@ezleagues.ezfacility.com
DTSTAMP:20260426T035046Z
CREATED:20260426T035046Z
DTSTART:20260221T192000Z
DTEND:20260221T201500Z
LOCATION:Harmans Premier Field #5
CONTACT:
SUMMARY:2015 Broadneck Storm VS. 2015 GSPAA Green Pandas
DESCRIPTION:League Name: Youth Winter II SD2 Sat/Sun 2015 Girls U11 BRONZE\
 nGame Type: Regular\nGame Status: Complete\nHome Team: 2015 Broadneck Stor
 m\nAway Team: 2015 GSPAA Green Pandas\nHome Score: 2\nAway Score: 7
END:VEVENT
BEGIN:VEVENT
UID:16991505@ezleagues.ezfacility.com
DTSTAMP:20260426T035046Z
CREATED:20260426T035046Z
DTSTART:20260301T154000Z
DTEND:20260301T163000Z
LOCATION:Harmans Premier Field #5
CONTACT:
SUMMARY:2016 SPGH Cheetahs  VS. 2015 Broadneck Storm
DESCRIPTION:League Name: Youth Winter II SD2 Sat/Sun 2015 Girls U11 BRONZE\
 nGame Type: Regular\nGame Status: Complete\nHome Team: 2016 SPGH Cheetahs 
 \nAway Team: 2015 Broadneck Storm\nHome Score: 8\nAway Score: 5
END:VEVENT
BEGIN:VEVENT
UID:16991547@ezleagues.ezfacility.com
DTSTAMP:20260426T035046Z
CREATED:20260426T035046Z
DTSTART:20260308T115500Z
DTEND:20260308T125000Z
LOCATION:Harmans Premier Field #5
CONTACT:
SUMMARY:2015 ASA Wildcats VS. 2015 Broadneck Storm
DESCRIPTION:League Name: Youth Winter II SD2 Sat/Sun 2015 Girls U11 BRONZE\
 nGame Type: Regular\nGame Status: Complete\nHome Team: 2015 ASA Wildcats\n
 Away Team: 2015 Broadneck Storm\nHome Score: 1\nAway Score: 8
END:VEVENT
BEGIN:VEVENT
UID:16991589@ezleagues.ezfacility.com
DTSTAMP:20260426T035046Z
CREATED:20260426T035046Z
DTSTART:20260314T125000Z
DTEND:20260314T134500Z
LOCATION:Harmans Premier Field #5
CONTACT:
SUMMARY:2015 Broadneck Storm VS. 2015 A3 Windsor
DESCRIPTION:League Name: Youth Winter II SD2 Sat/Sun 2015 Girls U11 BRONZE\
 nGame Type: Regular\nGame Status: Complete\nHome Team: 2015 Broadneck Stor
 m\nAway Team: 2015 A3 Windsor\nHome Score: 3\nAway Score: 10
END:VEVENT
BEGIN:VEVENT
UID:16991633@ezleagues.ezfacility.com
DTSTAMP:20260426T035046Z
CREATED:20260426T035046Z
DTSTART:20260322T153500Z
DTEND:20260322T163000Z
LOCATION:Harmans Premier Field #4
CONTACT:
SUMMARY:2015 Broadneck Storm VS. 2016 HYSL Phoenix Strikers 
DESCRIPTION:League Name: Youth Winter II SD2 Sat/Sun 2015 Girls U11 BRONZE\
 nGame Type: Regular\nGame Status: Complete\nHome Team: 2015 Broadneck Stor
 m\nAway Team: 2016 HYSL Phoenix Strikers \nHome Score: 5\nAway Score: 3
END:VEVENT
END:VCALENDAR
