BEGIN:VCALENDAR
VERSION:2.0
PRODID:-//EZFacility.com, Inc.//EZL 2.5.5.28621
BEGIN:VEVENT
UID:16539795@ezleagues.ezfacility.com
DTSTAMP:20260424T044310Z
CREATED:20260424T044310Z
DTSTART:20250708T010000Z
DTEND:20250708T014500Z
LOCATION:Soccer Hub Field
CONTACT:
SUMMARY:United AR  VS. Real Ale Madrid 
DESCRIPTION:League Name: Men's Over 30 Summer \nGame Type: Regular\nGame St
 atus: Complete\nHome Team: United AR \nAway Team: Real Ale Madrid \nHome S
 core: 16\nAway Score: 13
END:VEVENT
BEGIN:VEVENT
UID:16556469@ezleagues.ezfacility.com
DTSTAMP:20260424T044310Z
CREATED:20260424T044310Z
DTSTART:20250722T010000Z
DTEND:20250722T014500Z
LOCATION:ATX Futsal Court 1
CONTACT:
SUMMARY:United AR  VS. Thunder Buddies
DESCRIPTION:League Name: Men's Over 30 Summer \nGame Type: Regular\nGame St
 atus: Complete\nHome Team: United AR \nAway Team: Thunder Buddies\nHome Sc
 ore: 24\nAway Score: 21
END:VEVENT
BEGIN:VEVENT
UID:16556472@ezleagues.ezfacility.com
DTSTAMP:20260424T044310Z
CREATED:20260424T044310Z
DTSTART:20250729T010000Z
DTEND:20250729T014500Z
LOCATION:ATX Futsal Court 1
CONTACT:
SUMMARY:United AR  VS. Rattlers
DESCRIPTION:League Name: Men's Over 30 Summer \nGame Type: Regular\nGame St
 atus: Complete\nHome Team: United AR \nAway Team: Rattlers\nHome Score: 14
 \nAway Score: 18
END:VEVENT
BEGIN:VEVENT
UID:16573411@ezleagues.ezfacility.com
DTSTAMP:20260424T044310Z
CREATED:20260424T044310Z
DTSTART:20250805T023000Z
DTEND:20250805T031500Z
LOCATION:ATX Futsal Court 1
CONTACT:
SUMMARY:Austin Vatos VS. United AR 
DESCRIPTION:League Name: Men's Over 30 Summer \nGame Type: Regular\nGame St
 atus: Complete\nHome Team: Austin Vatos\nAway Team: United AR \nHome Score
 : 15\nAway Score: 10
END:VEVENT
BEGIN:VEVENT
UID:16579779@ezleagues.ezfacility.com
DTSTAMP:20260424T044310Z
CREATED:20260424T044310Z
DTSTART:20250812T010000Z
DTEND:20250812T014500Z
LOCATION:ATX Futsal Court 1
CONTACT:
SUMMARY:United AR  VS. The Dead Pixels
DESCRIPTION:League Name: Men's Over 30 Summer \nGame Type: Regular\nGame St
 atus: Complete\nHome Team: United AR \nAway Team: The Dead Pixels\nHome Sc
 ore: 14\nAway Score: 16
END:VEVENT
END:VCALENDAR
