BEGIN:VCALENDAR
VERSION:2.0
PRODID:-//EZFacility.com, Inc.//EZL 2.5.5.28621
BEGIN:VEVENT
UID:16543670@ezleagues.ezfacility.com
DTSTAMP:20260425T230822Z
CREATED:20260425T230822Z
DTSTART:20250710T230500Z
DTEND:20250711T000500Z
LOCATION:Premier Sports Court 3
CONTACT:
SUMMARY:LI Splash VS. Premier Black
DESCRIPTION:League Name: 2025 Premier Boys 8th Grade Summer League\nGame Ty
 pe: Regular\nGame Status: Complete\nHome Team: LI Splash\nAway Team: Premi
 er Black\nHome Score: 65\nAway Score: 49
END:VEVENT
BEGIN:VEVENT
UID:16547283@ezleagues.ezfacility.com
DTSTAMP:20260425T230822Z
CREATED:20260425T230822Z
DTSTART:20250720T140500Z
DTEND:20250720T150500Z
LOCATION:Premier Sports Court 3
CONTACT:
SUMMARY:Players Only East VS. Premier Black
DESCRIPTION:League Name: 2025 Premier Boys 8th Grade Summer League\nGame Ty
 pe: Regular\nGame Status: Complete\nHome Team: Players Only East\nAway Tea
 m: Premier Black\nHome Score: 40\nAway Score: 45
END:VEVENT
BEGIN:VEVENT
UID:16553862@ezleagues.ezfacility.com
DTSTAMP:20260425T230822Z
CREATED:20260425T230822Z
DTSTART:20250726T193000Z
DTEND:20250726T203000Z
LOCATION:Premier Sports Court 3
CONTACT:
SUMMARY:Premier Black VS. Develup Rust Jordan
DESCRIPTION:League Name: 2025 Premier Boys 8th Grade Summer League\nGame Ty
 pe: Regular\nGame Status: Complete\nHome Team: Premier Black\nAway Team: D
 evelup Rust Jordan\nHome Score: 45\nAway Score: 34
END:VEVENT
BEGIN:VEVENT
UID:16561597@ezleagues.ezfacility.com
DTSTAMP:20260425T230822Z
CREATED:20260425T230822Z
DTSTART:20250802T220000Z
DTEND:20250802T230000Z
LOCATION:Next Level Ct 1
CONTACT:
SUMMARY:LI Splash VS. Premier Black
DESCRIPTION:League Name: 2025 Premier Boys 8th Grade Summer League\nGame Ty
 pe: Regular\nGame Status: Complete\nHome Team: LI Splash\nAway Team: Premi
 er Black\nHome Score: 35\nAway Score: 63
END:VEVENT
BEGIN:VEVENT
UID:16570026@ezleagues.ezfacility.com
DTSTAMP:20260425T230822Z
CREATED:20260425T230822Z
DTSTART:20250809T160000Z
DTEND:20250809T170000Z
LOCATION:Next Level Ct 1
CONTACT:
SUMMARY:Spartans Select Agostino VS. Premier Black
DESCRIPTION:League Name: 2025 Premier Boys 8th Grade Summer League\nGame Ty
 pe: Regular\nGame Status: Complete\nHome Team: Spartans Select Agostino\nA
 way Team: Premier Black\nHome Score: 30\nAway Score: 46
END:VEVENT
BEGIN:VEVENT
UID:16577670@ezleagues.ezfacility.com
DTSTAMP:20260425T230822Z
CREATED:20260425T230822Z
DTSTART:20250817T130000Z
DTEND:20250817T140000Z
LOCATION:Brilliant Minds Basketball 54
CONTACT:
SUMMARY:Premier Black VS. Compound Nick
DESCRIPTION:League Name: 2025 Premier Boys 8th Grade Summer League\nGame Ty
 pe: Regular\nGame Status: Complete\nHome Team: Premier Black\nAway Team: C
 ompound Nick\nHome Score: 0\nAway Score: 15
END:VEVENT
BEGIN:VEVENT
UID:16582670@ezleagues.ezfacility.com
DTSTAMP:20260425T230822Z
CREATED:20260425T230822Z
DTSTART:20250823T182500Z
DTEND:20250823T192500Z
LOCATION:Premier Sports Court 3
CONTACT:
SUMMARY:Premier Black VS. Team Breakdown Red Boone
DESCRIPTION:League Name: 2025 Premier Boys 8th Grade Summer League\nGame Ty
 pe: Regular\nGame Status: Complete\nHome Team: Premier Black\nAway Team: T
 eam Breakdown Red Boone\nHome Score: 46\nAway Score: 33
END:VEVENT
BEGIN:VEVENT
UID:16582676@ezleagues.ezfacility.com
DTSTAMP:20260425T230822Z
CREATED:20260425T230822Z
DTSTART:20250824T151000Z
DTEND:20250824T161000Z
LOCATION:Premier Sports Court 3
CONTACT:
SUMMARY:Premier Black VS. Team Breakdown Black Myles
DESCRIPTION:League Name: 2025 Premier Boys 8th Grade Summer League\nGame Ty
 pe: Regular\nGame Status: Complete\nHome Team: Premier Black\nAway Team: T
 eam Breakdown Black Myles\nHome Score: 59\nAway Score: 36
END:VEVENT
BEGIN:VEVENT
UID:16600996@ezleagues.ezfacility.com
DTSTAMP:20260425T230822Z
CREATED:20260425T230822Z
DTSTART:20250830T001000Z
DTEND:20250830T011000Z
LOCATION:Premier Sports Court 3
CONTACT:
SUMMARY:Premier Black VS. Spartans Select Julian
DESCRIPTION:League Name: 2025 Premier Boys 8th Grade Summer League\nGame Ty
 pe: Postseason\nGame Status: Pending\nHome Team: Premier Black\nAway Team:
  Spartans Select Julian\n
END:VEVENT
BEGIN:VEVENT
UID:16608368@ezleagues.ezfacility.com
DTSTAMP:20260425T230822Z
CREATED:20260425T230822Z
DTSTART:20250831T130000Z
DTEND:20250831T140000Z
LOCATION:Premier Sports Court 2
CONTACT:
SUMMARY:Premier Black VS. Players Only East
DESCRIPTION:League Name: 2025 Premier Boys 8th Grade Summer League\nGame Ty
 pe: Postseason\nGame Status: Complete\nHome Team: Premier Black\nAway Team
 : Players Only East\nHome Score: 37\nAway Score: 30
END:VEVENT
END:VCALENDAR
