BEGIN:VCALENDAR
VERSION:2.0
PRODID:-//EZFacility.com, Inc.//EZL 2.5.5.28621
BEGIN:VEVENT
UID:16549155@ezleagues.ezfacility.com
DTSTAMP:20260424T043229Z
CREATED:20260424T043229Z
DTSTART:20250713T013000Z
DTEND:20250713T022000Z
LOCATION:Large Field
CONTACT:
SUMMARY:Galaxy VS. El Barrio
DESCRIPTION:League Name: Over 30 Co-Ed Summer 2 2025\nGame Type: Regular\nG
 ame Status: Complete\nHome Team: Galaxy\nAway Team: El Barrio\nHome Score:
  5\nAway Score: 28
END:VEVENT
BEGIN:VEVENT
UID:16549159@ezleagues.ezfacility.com
DTSTAMP:20260424T043229Z
CREATED:20260424T043229Z
DTSTART:20250720T022000Z
DTEND:20250720T031000Z
LOCATION:Large Field
CONTACT:
SUMMARY:Retired VS. Galaxy
DESCRIPTION:League Name: Over 30 Co-Ed Summer 2 2025\nGame Type: Regular\nG
 ame Status: Complete\nHome Team: Retired\nAway Team: Galaxy\nHome Score: 6
 \nAway Score: 7
END:VEVENT
BEGIN:VEVENT
UID:16549171@ezleagues.ezfacility.com
DTSTAMP:20260424T043229Z
CREATED:20260424T043229Z
DTSTART:20250803T004000Z
DTEND:20250803T013000Z
LOCATION:Large Field
CONTACT:
SUMMARY:Cuervos VS. Galaxy
DESCRIPTION:League Name: Over 30 Co-Ed Summer 2 2025\nGame Type: Regular\nG
 ame Status: Complete\nHome Team: Cuervos\nAway Team: Galaxy\nHome Score: 1
 1\nAway Score: 3
END:VEVENT
BEGIN:VEVENT
UID:16549177@ezleagues.ezfacility.com
DTSTAMP:20260424T043229Z
CREATED:20260424T043229Z
DTSTART:20250810T031000Z
DTEND:20250810T040000Z
LOCATION:Large Field
CONTACT:
SUMMARY:Galaxy VS. Rochi Fenix
DESCRIPTION:League Name: Over 30 Co-Ed Summer 2 2025\nGame Type: Regular\nG
 ame Status: Complete\nHome Team: Galaxy\nAway Team: Rochi Fenix\nHome Scor
 e: 9\nAway Score: 14
END:VEVENT
BEGIN:VEVENT
UID:16549183@ezleagues.ezfacility.com
DTSTAMP:20260424T043229Z
CREATED:20260424T043229Z
DTSTART:20250817T031000Z
DTEND:20250817T040000Z
LOCATION:Large Field
CONTACT:
SUMMARY:Amigos FC VS. Galaxy
DESCRIPTION:League Name: Over 30 Co-Ed Summer 2 2025\nGame Type: Regular\nG
 ame Status: Complete\nHome Team: Amigos FC\nAway Team: Galaxy\nHome Score:
  12\nAway Score: 10
END:VEVENT
BEGIN:VEVENT
UID:16549196@ezleagues.ezfacility.com
DTSTAMP:20260424T043229Z
CREATED:20260424T043229Z
DTSTART:20250914T013000Z
DTEND:20250914T022000Z
LOCATION:Large Field
CONTACT:
SUMMARY:BigBacks VS. Galaxy
DESCRIPTION:League Name: Over 30 Co-Ed Summer 2 2025\nGame Type: Regular\nG
 ame Status: Complete\nHome Team: BigBacks\nAway Team: Galaxy\nHome Score: 
 8\nAway Score: 11
END:VEVENT
BEGIN:VEVENT
UID:16549165@ezleagues.ezfacility.com
DTSTAMP:20260424T043229Z
CREATED:20260424T043229Z
DTSTART:20250921T004000Z
DTEND:20250921T013000Z
LOCATION:Large Field
CONTACT:
SUMMARY:Galaxy VS. Cruise Control FC
DESCRIPTION:League Name: Over 30 Co-Ed Summer 2 2025\nGame Type: Regular\nG
 ame Status: Complete\nHome Team: Galaxy\nAway Team: Cruise Control FC\nHom
 e Score: 3\nAway Score: 0
END:VEVENT
BEGIN:VEVENT
UID:16549188@ezleagues.ezfacility.com
DTSTAMP:20260424T043229Z
CREATED:20260424T043229Z
DTSTART:20250928T022000Z
DTEND:20250928T031000Z
LOCATION:Large Field
CONTACT:
SUMMARY:Galaxy VS. Still Young FC
DESCRIPTION:League Name: Over 30 Co-Ed Summer 2 2025\nGame Type: Regular\nG
 ame Status: Complete\nHome Team: Galaxy\nAway Team: Still Young FC\nHome S
 core: 25\nAway Score: 6
END:VEVENT
BEGIN:VEVENT
UID:16748463@ezleagues.ezfacility.com
DTSTAMP:20260424T043229Z
CREATED:20260424T043229Z
DTSTART:20251005T004000Z
DTEND:20251005T012500Z
LOCATION:Large Field
CONTACT:
SUMMARY:Galaxy VS. Rochi Fenix
DESCRIPTION:League Name: Over 30 Co-Ed Summer 2 2025\nGame Type: Regular\nG
 ame Status: Complete\nHome Team: Galaxy\nAway Team: Rochi Fenix\nHome Scor
 e: 6\nAway Score: 8
END:VEVENT
END:VCALENDAR
