BEGIN:VCALENDAR
VERSION:2.0
PRODID:-//EZFacility.com, Inc.//EZL 2.5.5.28621
BEGIN:VEVENT
UID:16550189@ezleagues.ezfacility.com
DTSTAMP:20260424T043917Z
CREATED:20260424T043917Z
DTSTART:20250726T001000Z
DTEND:20250726T011000Z
LOCATION:Premier Sports Court 2
CONTACT:
SUMMARY:Pro Skills VS. HI IQ
DESCRIPTION:League Name: 2025 Premier Boys 8th Grade Summer League\nGame Ty
 pe: Regular\nGame Status: Complete\nHome Team: Pro Skills\nAway Team: HI I
 Q\nHome Score: 39\nAway Score: 61
END:VEVENT
BEGIN:VEVENT
UID:16559690@ezleagues.ezfacility.com
DTSTAMP:20260424T043917Z
CREATED:20260424T043917Z
DTSTART:20250729T220000Z
DTEND:20250729T230000Z
LOCATION:Premier Sports Court 2
CONTACT:
SUMMARY:HI IQ VS. Players Only East
DESCRIPTION:League Name: 2025 Premier Boys 8th Grade Summer League\nGame Ty
 pe: Regular\nGame Status: Complete\nHome Team: HI IQ\nAway Team: Players O
 nly East\nHome Score: 59\nAway Score: 40
END:VEVENT
BEGIN:VEVENT
UID:16557179@ezleagues.ezfacility.com
DTSTAMP:20260424T043917Z
CREATED:20260424T043917Z
DTSTART:20250802T214000Z
DTEND:20250802T224000Z
LOCATION:Premier Sports Court 2
CONTACT:
SUMMARY:Level Up Coalman VS. HI IQ
DESCRIPTION:League Name: 2025 Premier Boys 8th Grade Summer League\nGame Ty
 pe: Regular\nGame Status: Complete\nHome Team: Level Up Coalman\nAway Team
 : HI IQ\nHome Score: 57\nAway Score: 30
END:VEVENT
BEGIN:VEVENT
UID:16570021@ezleagues.ezfacility.com
DTSTAMP:20260424T043917Z
CREATED:20260424T043917Z
DTSTART:20250809T235000Z
DTEND:20250810T005000Z
LOCATION:Premier Sports Court 3
CONTACT:
SUMMARY:Team Breakdown Red Boone VS. HI IQ
DESCRIPTION:League Name: 2025 Premier Boys 8th Grade Summer League\nGame Ty
 pe: Regular\nGame Status: Complete\nHome Team: Team Breakdown Red Boone\nA
 way Team: HI IQ\nHome Score: 44\nAway Score: 32
END:VEVENT
BEGIN:VEVENT
UID:16577669@ezleagues.ezfacility.com
DTSTAMP:20260424T043917Z
CREATED:20260424T043917Z
DTSTART:20250816T130000Z
DTEND:20250816T140000Z
LOCATION:Brilliant Minds Basketball 54
CONTACT:
SUMMARY:Premier Candemeres VS. HI IQ
DESCRIPTION:League Name: 2025 Premier Boys 8th Grade Summer League\nGame Ty
 pe: Regular\nGame Status: Complete\nHome Team: Premier Candemeres\nAway Te
 am: HI IQ\nHome Score: 48\nAway Score: 19
END:VEVENT
BEGIN:VEVENT
UID:16582678@ezleagues.ezfacility.com
DTSTAMP:20260424T043917Z
CREATED:20260424T043917Z
DTSTART:20250824T235000Z
DTEND:20250825T005000Z
LOCATION:Premier Sports Court 3
CONTACT:
SUMMARY:ATB VS. HI IQ
DESCRIPTION:League Name: 2025 Premier Boys 8th Grade Summer League\nGame Ty
 pe: Regular\nGame Status: Complete\nHome Team: ATB\nAway Team: HI IQ\nHome
  Score: 53\nAway Score: 37
END:VEVENT
END:VCALENDAR
