BEGIN:VCALENDAR
VERSION:2.0
PRODID:-//EZFacility.com, Inc.//EZL 2.5.5.28621
BEGIN:VEVENT
UID:1399412@ezleagues.ezfacility.com
DTSTAMP:20260426T033817Z
CREATED:20260426T033817Z
DTSTART:20080511T180000Z
DTEND:20080511T190000Z
LOCATION:Court
CONTACT:
SUMMARY:3rd Rail VS. Kozloff Stoudt
DESCRIPTION:League Name: Sunday Men's B Basketball West\nGame Type: Regular
 \nGame Status: Complete\nHome Team: 3rd Rail\nAway Team: Kozloff Stoudt\nH
 ome Score: 62\nAway Score: 87
END:VEVENT
BEGIN:VEVENT
UID:1399425@ezleagues.ezfacility.com
DTSTAMP:20260426T033817Z
CREATED:20260426T033817Z
DTSTART:20080601T200000Z
DTEND:20080601T210000Z
LOCATION:Court
CONTACT:
SUMMARY:Waddell and Reed MF's VS. 3rd Rail
DESCRIPTION:League Name: Sunday Men's B Basketball West\nGame Type: Regular
 \nGame Status: Complete\nHome Team: Waddell and Reed MF's\nAway Team: 3rd 
 Rail\nHome Score: 35\nAway Score: 73
END:VEVENT
BEGIN:VEVENT
UID:1399429@ezleagues.ezfacility.com
DTSTAMP:20260426T033817Z
CREATED:20260426T033817Z
DTSTART:20080608T210000Z
DTEND:20080608T220000Z
LOCATION:Court
CONTACT:
SUMMARY:3rd Rail VS. Savage KIA
DESCRIPTION:League Name: Sunday Men's B Basketball West\nGame Type: Regular
 \nGame Status: Complete\nHome Team: 3rd Rail\nAway Team: Savage KIA\nHome 
 Score: 56\nAway Score: 46
END:VEVENT
BEGIN:VEVENT
UID:1399432@ezleagues.ezfacility.com
DTSTAMP:20260426T033817Z
CREATED:20260426T033817Z
DTSTART:20080616T200000Z
DTEND:20080616T210000Z
LOCATION:Court
CONTACT:
SUMMARY:Long and Foster Real Estate VS. 3rd Rail
DESCRIPTION:League Name: Sunday Men's B Basketball West\nGame Type: Regular
 \nGame Status: Complete\nHome Team: Long and Foster Real Estate\nAway Team
 : 3rd Rail\nHome Score: 69\nAway Score: 66
END:VEVENT
BEGIN:VEVENT
UID:1399437@ezleagues.ezfacility.com
DTSTAMP:20260426T033817Z
CREATED:20260426T033817Z
DTSTART:20080622T190000Z
DTEND:20080622T200000Z
LOCATION:Court
CONTACT:
SUMMARY:3rd Rail VS. Jake 
DESCRIPTION:League Name: Sunday Men's B Basketball West\nGame Type: Regular
 \nGame Status: Complete\nHome Team: 3rd Rail\nAway Team: Jake \nHome Score
 : 75\nAway Score: 72
END:VEVENT
BEGIN:VEVENT
UID:1399440@ezleagues.ezfacility.com
DTSTAMP:20260426T033817Z
CREATED:20260426T033817Z
DTSTART:20080629T190000Z
DTEND:20080629T200000Z
LOCATION:Court
CONTACT:
SUMMARY:Kozloff Stoudt VS. 3rd Rail
DESCRIPTION:League Name: Sunday Men's B Basketball West\nGame Type: Regular
 \nGame Status: Complete\nHome Team: Kozloff Stoudt\nAway Team: 3rd Rail\nH
 ome Score: 55\nAway Score: 50
END:VEVENT
BEGIN:VEVENT
UID:1399448@ezleagues.ezfacility.com
DTSTAMP:20260426T033817Z
CREATED:20260426T033817Z
DTSTART:20080713T190000Z
DTEND:20080713T200000Z
LOCATION:Court
CONTACT:
SUMMARY:Run N Gun VS. 3rd Rail
DESCRIPTION:League Name: Sunday Men's B Basketball West\nGame Type: Regular
 \nGame Status: Complete\nHome Team: Run N Gun\nAway Team: 3rd Rail\nHome S
 core: 38\nAway Score: 42
END:VEVENT
BEGIN:VEVENT
UID:1399420@ezleagues.ezfacility.com
DTSTAMP:20260426T033817Z
CREATED:20260426T033817Z
DTSTART:20080720T170000Z
DTEND:20080720T180000Z
LOCATION:Court
CONTACT:
SUMMARY:3rd Rail VS. Run N Gun
DESCRIPTION:League Name: Sunday Men's B Basketball West\nGame Type: Regular
 \nGame Status: Complete\nHome Team: 3rd Rail\nAway Team: Run N Gun\nHome S
 core: 50\nAway Score: 40
END:VEVENT
BEGIN:VEVENT
UID:1399444@ezleagues.ezfacility.com
DTSTAMP:20260426T033817Z
CREATED:20260426T033817Z
DTSTART:20080803T180000Z
DTEND:20080803T190000Z
LOCATION:Court
CONTACT:
SUMMARY:3rd Rail VS. N.B.T.
DESCRIPTION:League Name: Sunday Men's B Basketball West\nGame Type: Regular
 \nGame Status: Complete\nHome Team: 3rd Rail\nAway Team: N.B.T.\nHome Scor
 e: 62\nAway Score: 66
END:VEVENT
BEGIN:VEVENT
UID:1399416@ezleagues.ezfacility.com
DTSTAMP:20260426T033817Z
CREATED:20260426T033817Z
DTSTART:20080804T200000Z
DTEND:20080804T210000Z
LOCATION:Court
CONTACT:
SUMMARY:N.B.T. VS. 3rd Rail
DESCRIPTION:League Name: Sunday Men's B Basketball West\nGame Type: Regular
 \nGame Status: Complete\nHome Team: N.B.T.\nAway Team: 3rd Rail\nHome Scor
 e: 49\nAway Score: 66
END:VEVENT
BEGIN:VEVENT
UID:1472848@ezleagues.ezfacility.com
DTSTAMP:20260426T033817Z
CREATED:20260426T033817Z
DTSTART:20080810T200000Z
DTEND:20080810T210000Z
LOCATION:Court
CONTACT:
SUMMARY:3rd Rail VS. West Lawn UMC
DESCRIPTION:League Name: Sunday Men's B Basketball West\nGame Type: Postsea
 son\nGame Status: Complete\nHome Team: 3rd Rail\nAway Team: West Lawn UMC\
 nHome Score: 63\nAway Score: 53
END:VEVENT
BEGIN:VEVENT
UID:1472892@ezleagues.ezfacility.com
DTSTAMP:20260426T033817Z
CREATED:20260426T033817Z
DTSTART:20080817T180000Z
DTEND:20080817T190000Z
LOCATION:Court
CONTACT:
SUMMARY:Kozloff Stoudt VS. 3rd Rail
DESCRIPTION:League Name: Sunday Men's B Basketball West\nGame Type: Postsea
 son\nGame Status: Complete\nHome Team: Kozloff Stoudt\nAway Team: 3rd Rail
 \nHome Score: 71\nAway Score: 49
END:VEVENT
END:VCALENDAR
