BEGIN:VCALENDAR
VERSION:2.0
PRODID:-//EZFacility.com, Inc.//EZL 2.5.5.28621
BEGIN:VEVENT
UID:1399418@ezleagues.ezfacility.com
DTSTAMP:20260426T033835Z
CREATED:20260426T033835Z
DTSTART:20080518T210000Z
DTEND:20080518T220000Z
LOCATION:Court
CONTACT:
SUMMARY:Long and Foster Real Estate VS. Savage KIA
DESCRIPTION:League Name: Sunday Men's B Basketball West\nGame Type: Regular
 \nGame Status: Complete\nHome Team: Long and Foster Real Estate\nAway Team
 : Savage KIA\nHome Score: 66\nAway Score: 58
END:VEVENT
BEGIN:VEVENT
UID:1399427@ezleagues.ezfacility.com
DTSTAMP:20260426T033835Z
CREATED:20260426T033835Z
DTSTART:20080602T200000Z
DTEND:20080602T210000Z
LOCATION:Court
CONTACT:
SUMMARY:Savage KIA VS. Run N Gun
DESCRIPTION:League Name: Sunday Men's B Basketball West\nGame Type: Regular
 \nGame Status: Complete\nHome Team: Savage KIA\nAway Team: Run N Gun\nHome
  Score: 67\nAway Score: 50
END:VEVENT
BEGIN:VEVENT
UID:1399429@ezleagues.ezfacility.com
DTSTAMP:20260426T033835Z
CREATED:20260426T033835Z
DTSTART:20080608T210000Z
DTEND:20080608T220000Z
LOCATION:Court
CONTACT:
SUMMARY:3rd Rail VS. Savage KIA
DESCRIPTION:League Name: Sunday Men's B Basketball West\nGame Type: Regular
 \nGame Status: Complete\nHome Team: 3rd Rail\nAway Team: Savage KIA\nHome 
 Score: 56\nAway Score: 46
END:VEVENT
BEGIN:VEVENT
UID:1399435@ezleagues.ezfacility.com
DTSTAMP:20260426T033835Z
CREATED:20260426T033835Z
DTSTART:20080615T190000Z
DTEND:20080615T200000Z
LOCATION:Court
CONTACT:
SUMMARY:Savage KIA VS. Jake 
DESCRIPTION:League Name: Sunday Men's B Basketball West\nGame Type: Regular
 \nGame Status: Complete\nHome Team: Savage KIA\nAway Team: Jake \nHome Sco
 re: 52\nAway Score: 69
END:VEVENT
BEGIN:VEVENT
UID:1399438@ezleagues.ezfacility.com
DTSTAMP:20260426T033835Z
CREATED:20260426T033835Z
DTSTART:20080622T210000Z
DTEND:20080622T220000Z
LOCATION:Court
CONTACT:
SUMMARY:N.B.T. VS. Savage KIA
DESCRIPTION:League Name: Sunday Men's B Basketball West\nGame Type: Regular
 \nGame Status: Complete\nHome Team: N.B.T.\nAway Team: Savage KIA\nHome Sc
 ore: 63\nAway Score: 55
END:VEVENT
BEGIN:VEVENT
UID:1399450@ezleagues.ezfacility.com
DTSTAMP:20260426T033835Z
CREATED:20260426T033835Z
DTSTART:20080713T210000Z
DTEND:20080713T220000Z
LOCATION:Court
CONTACT:
SUMMARY:Kozloff Stoudt VS. Savage KIA
DESCRIPTION:League Name: Sunday Men's B Basketball West\nGame Type: Regular
 \nGame Status: Complete\nHome Team: Kozloff Stoudt\nAway Team: Savage KIA\
 nHome Score: 0\nAway Score: 20
END:VEVENT
BEGIN:VEVENT
UID:1399422@ezleagues.ezfacility.com
DTSTAMP:20260426T033835Z
CREATED:20260426T033835Z
DTSTART:20080720T180000Z
DTEND:20080720T190000Z
LOCATION:Court
CONTACT:
SUMMARY:Savage KIA VS. Kozloff Stoudt
DESCRIPTION:League Name: Sunday Men's B Basketball West\nGame Type: Regular
 \nGame Status: Complete\nHome Team: Savage KIA\nAway Team: Kozloff Stoudt\
 nHome Score: 64\nAway Score: 104
END:VEVENT
BEGIN:VEVENT
UID:1399446@ezleagues.ezfacility.com
DTSTAMP:20260426T033835Z
CREATED:20260426T033835Z
DTSTART:20080727T200000Z
DTEND:20080727T210000Z
LOCATION:Court
CONTACT:
SUMMARY:Savage KIA VS. Long and Foster Real Estate
DESCRIPTION:League Name: Sunday Men's B Basketball West\nGame Type: Regular
 \nGame Status: Complete\nHome Team: Savage KIA\nAway Team: Long and Foster
  Real Estate\nHome Score: 57\nAway Score: 58
END:VEVENT
BEGIN:VEVENT
UID:1399443@ezleagues.ezfacility.com
DTSTAMP:20260426T033835Z
CREATED:20260426T033835Z
DTSTART:20080728T200000Z
DTEND:20080728T210000Z
LOCATION:Court
CONTACT:
SUMMARY:Savage KIA VS. Waddell and Reed MF's
DESCRIPTION:League Name: Sunday Men's B Basketball West\nGame Type: Regular
 \nGame Status: Complete\nHome Team: Savage KIA\nAway Team: Waddell and Ree
 d MF's\nHome Score: 58\nAway Score: 54
END:VEVENT
BEGIN:VEVENT
UID:1399415@ezleagues.ezfacility.com
DTSTAMP:20260426T033835Z
CREATED:20260426T033835Z
DTSTART:20080803T190000Z
DTEND:20080803T200000Z
LOCATION:Court
CONTACT:
SUMMARY:Waddell and Reed MF's VS. Savage KIA
DESCRIPTION:League Name: Sunday Men's B Basketball West\nGame Type: Regular
 \nGame Status: Complete\nHome Team: Waddell and Reed MF's\nAway Team: Sava
 ge KIA\nHome Score: 47\nAway Score: 57
END:VEVENT
BEGIN:VEVENT
UID:1472843@ezleagues.ezfacility.com
DTSTAMP:20260426T033835Z
CREATED:20260426T033835Z
DTSTART:20080811T200000Z
DTEND:20080811T210000Z
LOCATION:Court
CONTACT:
SUMMARY:Bectetts VS. Savage KIA
DESCRIPTION:League Name: Sunday Men's B Basketball West\nGame Type: Postsea
 son\nGame Status: Complete\nHome Team: Bectetts\nAway Team: Savage KIA\nHo
 me Score: 0\nAway Score: 20
END:VEVENT
BEGIN:VEVENT
UID:1472850@ezleagues.ezfacility.com
DTSTAMP:20260426T033835Z
CREATED:20260426T033835Z
DTSTART:20080817T160000Z
DTEND:20080817T170000Z
LOCATION:Court
CONTACT:
SUMMARY:Amity Fence VS. Savage KIA
DESCRIPTION:League Name: Sunday Men's B Basketball West\nGame Type: Postsea
 son\nGame Status: Complete\nHome Team: Amity Fence\nAway Team: Savage KIA\
 nHome Score: 71\nAway Score: 64
END:VEVENT
END:VCALENDAR
