BEGIN:VCALENDAR
VERSION:2.0
PRODID:-//EZFacility.com, Inc.//EZL 2.5.5.28621
BEGIN:VEVENT
UID:16576907@ezleagues.ezfacility.com
DTSTAMP:20260423T014304Z
CREATED:20260423T014304Z
DTSTART:20250812T003600Z
DTEND:20250812T012800Z
LOCATION:FS Indoor Field 2
CONTACT:
SUMMARY:The Skywalkers VS. Los Gigolos Gordos
DESCRIPTION:League Name: Late Summer Indoor 2025 (August)- Men's 50+ (M)\nG
 ame Type: Regular\nGame Status: Complete\nHome Team: The Skywalkers\nAway 
 Team: Los Gigolos Gordos\nHome Score: 11\nAway Score: 1
END:VEVENT
BEGIN:VEVENT
UID:16576911@ezleagues.ezfacility.com
DTSTAMP:20260423T014304Z
CREATED:20260423T014304Z
DTSTART:20250819T003600Z
DTEND:20250819T012800Z
LOCATION:FS Indoor Field 2
CONTACT:
SUMMARY:Hawaii Five O VS. The Skywalkers
DESCRIPTION:League Name: Late Summer Indoor 2025 (August)- Men's 50+ (M)\nG
 ame Type: Regular\nGame Status: Complete\nHome Team: Hawaii Five O\nAway T
 eam: The Skywalkers\nHome Score: 5\nAway Score: 4
END:VEVENT
BEGIN:VEVENT
UID:16576914@ezleagues.ezfacility.com
DTSTAMP:20260423T014304Z
CREATED:20260423T014304Z
DTSTART:20250825T234400Z
DTEND:20250826T003600Z
LOCATION:FS Indoor Field 2
CONTACT:
SUMMARY:Flash FC VS. The Skywalkers
DESCRIPTION:League Name: Late Summer Indoor 2025 (August)- Men's 50+ (M)\nG
 ame Type: Regular\nGame Status: Complete\nHome Team: Flash FC\nAway Team: 
 The Skywalkers\nHome Score: 7\nAway Score: 2
END:VEVENT
BEGIN:VEVENT
UID:16576920@ezleagues.ezfacility.com
DTSTAMP:20260423T014304Z
CREATED:20260423T014304Z
DTSTART:20250908T225200Z
DTEND:20250908T234400Z
LOCATION:FS Indoor Field 2
CONTACT:
SUMMARY:The Skywalkers VS. Blue Grinders
DESCRIPTION:League Name: Late Summer Indoor 2025 (August)- Men's 50+ (M)\nG
 ame Type: Regular\nGame Status: Complete\nHome Team: The Skywalkers\nAway 
 Team: Blue Grinders\nHome Score: 6\nAway Score: 3
END:VEVENT
BEGIN:VEVENT
UID:16576925@ezleagues.ezfacility.com
DTSTAMP:20260423T014304Z
CREATED:20260423T014304Z
DTSTART:20250915T234400Z
DTEND:20250916T003600Z
LOCATION:FS Indoor Field 2
CONTACT:
SUMMARY:The Skywalkers VS. Chuff Rats FC
DESCRIPTION:League Name: Late Summer Indoor 2025 (August)- Men's 50+ (M)\nG
 ame Type: Regular\nGame Status: Complete\nHome Team: The Skywalkers\nAway 
 Team: Chuff Rats FC\nHome Score: 8\nAway Score: 3
END:VEVENT
BEGIN:VEVENT
UID:16576930@ezleagues.ezfacility.com
DTSTAMP:20260423T014304Z
CREATED:20260423T014304Z
DTSTART:20250922T220000Z
DTEND:20250922T225200Z
LOCATION:FS Indoor Field 2
CONTACT:
SUMMARY:The Skywalkers VS. Internacionals+
DESCRIPTION:League Name: Late Summer Indoor 2025 (August)- Men's 50+ (M)\nG
 ame Type: Regular\nGame Status: Complete\nHome Team: The Skywalkers\nAway 
 Team: Internacionals+\nHome Score: 3\nAway Score: 7
END:VEVENT
BEGIN:VEVENT
UID:16576917@ezleagues.ezfacility.com
DTSTAMP:20260423T014304Z
CREATED:20260423T014304Z
DTSTART:20250929T220000Z
DTEND:20250929T225200Z
LOCATION:FS Indoor Field 2
CONTACT:
SUMMARY:Dial Square FC VS. The Skywalkers
DESCRIPTION:League Name: Late Summer Indoor 2025 (August)- Men's 50+ (M)\nG
 ame Type: Regular\nGame Status: Complete\nHome Team: Dial Square FC\nAway 
 Team: The Skywalkers\nHome Score: 3\nAway Score: 8
END:VEVENT
END:VCALENDAR
