BEGIN:VCALENDAR
VERSION:2.0
PRODID:-//EZFacility.com, Inc.//EZL 2.5.5.28621
BEGIN:VEVENT
UID:16553775@ezleagues.ezfacility.com
DTSTAMP:20260426T035012Z
CREATED:20260426T035012Z
DTSTART:20250724T225000Z
DTEND:20250724T233000Z
LOCATION:Indoor Field
CONTACT:
SUMMARY:Lil Straw Hats VS. LPF 
DESCRIPTION:League Name: 2021/2020 Mixed 4v4 League\nGame Type: Regular\nGa
 me Status: Complete\nHome Team: Lil Straw Hats\nAway Team: LPF \nHome Scor
 e: 10\nAway Score: 1
END:VEVENT
BEGIN:VEVENT
UID:16553780@ezleagues.ezfacility.com
DTSTAMP:20260426T035012Z
CREATED:20260426T035012Z
DTSTART:20250731T225000Z
DTEND:20250731T233000Z
LOCATION:Indoor Field
CONTACT:
SUMMARY:Lil Straw Hats VS. Sharks 
DESCRIPTION:League Name: 2021/2020 Mixed 4v4 League\nGame Type: Regular\nGa
 me Status: Complete\nHome Team: Lil Straw Hats\nAway Team: Sharks \nHome S
 core: 9\nAway Score: 0
END:VEVENT
BEGIN:VEVENT
UID:16553785@ezleagues.ezfacility.com
DTSTAMP:20260426T035012Z
CREATED:20260426T035012Z
DTSTART:20250807T225000Z
DTEND:20250807T233000Z
LOCATION:Indoor Field
CONTACT:
SUMMARY:Lil Straw Hats VS. Little Nitros
DESCRIPTION:League Name: 2021/2020 Mixed 4v4 League\nGame Type: Regular\nGa
 me Status: Complete\nHome Team: Lil Straw Hats\nAway Team: Little Nitros\n
 Home Score: 9\nAway Score: 2
END:VEVENT
BEGIN:VEVENT
UID:16553789@ezleagues.ezfacility.com
DTSTAMP:20260426T035012Z
CREATED:20260426T035012Z
DTSTART:20250814T233000Z
DTEND:20250815T001000Z
LOCATION:Indoor Field
CONTACT:
SUMMARY:Lil' Vipers VS. Lil Straw Hats
DESCRIPTION:League Name: 2021/2020 Mixed 4v4 League\nGame Type: Regular\nGa
 me Status: Complete\nHome Team: Lil' Vipers\nAway Team: Lil Straw Hats\nHo
 me Score: 2\nAway Score: 11
END:VEVENT
BEGIN:VEVENT
UID:16553792@ezleagues.ezfacility.com
DTSTAMP:20260426T035012Z
CREATED:20260426T035012Z
DTSTART:20250820T233000Z
DTEND:20250821T001000Z
LOCATION:Indoor Field
CONTACT:
SUMMARY:MP Premier Gold VS. Lil Straw Hats
DESCRIPTION:League Name: 2021/2020 Mixed 4v4 League\nGame Type: Regular\nGa
 me Status: Complete\nHome Team: MP Premier Gold\nAway Team: Lil Straw Hats
 \nHome Score: 3\nAway Score: 6
END:VEVENT
BEGIN:VEVENT
UID:16553795@ezleagues.ezfacility.com
DTSTAMP:20260426T035012Z
CREATED:20260426T035012Z
DTSTART:20250827T225000Z
DTEND:20250827T233000Z
LOCATION:Indoor Field
CONTACT:
SUMMARY:MP Premier Black VS. Lil Straw Hats
DESCRIPTION:League Name: 2021/2020 Mixed 4v4 League\nGame Type: Regular\nGa
 me Status: Complete\nHome Team: MP Premier Black\nAway Team: Lil Straw Hat
 s\nHome Score: 3\nAway Score: 8
END:VEVENT
BEGIN:VEVENT
UID:16553798@ezleagues.ezfacility.com
DTSTAMP:20260426T035012Z
CREATED:20260426T035012Z
DTSTART:20250903T233000Z
DTEND:20250904T001000Z
LOCATION:Indoor Field
CONTACT:
SUMMARY:Mini Marvels  VS. Lil Straw Hats
DESCRIPTION:League Name: 2021/2020 Mixed 4v4 League\nGame Type: Regular\nGa
 me Status: Complete\nHome Team: Mini Marvels \nAway Team: Lil Straw Hats\n
 Home Score: 0\nAway Score: 11
END:VEVENT
END:VCALENDAR
