BEGIN:VCALENDAR
VERSION:2.0
PRODID:-//EZFacility.com, Inc.//EZL 2.5.5.28621
BEGIN:VEVENT
UID:16555331@ezleagues.ezfacility.com
DTSTAMP:20260426T033832Z
CREATED:20260426T033832Z
DTSTART:20250716T230000Z
DTEND:20250716T232000Z
LOCATION:008 Ibrox
CONTACT:
SUMMARY:Unreal Madrid VS. Ballers
DESCRIPTION:League Name: Oliver Bozanic x Soccer5s Tournament U12s and U13s
 \nGame Type: Regular\nGame Status: Complete\nHome Team: Unreal Madrid\nAwa
 y Team: Ballers\nHome Score: 2\nAway Score: 5
END:VEVENT
BEGIN:VEVENT
UID:16555333@ezleagues.ezfacility.com
DTSTAMP:20260426T033832Z
CREATED:20260426T033832Z
DTSTART:20250716T232500Z
DTEND:20250716T234500Z
LOCATION:007 Celtic Park
CONTACT:
SUMMARY:Ballers VS. Meow.
DESCRIPTION:League Name: Oliver Bozanic x Soccer5s Tournament U12s and U13s
 \nGame Type: Regular\nGame Status: Complete\nHome Team: Ballers\nAway Team
 : Meow.\nHome Score: 5\nAway Score: 4
END:VEVENT
BEGIN:VEVENT
UID:16555335@ezleagues.ezfacility.com
DTSTAMP:20260426T033832Z
CREATED:20260426T033832Z
DTSTART:20250716T235000Z
DTEND:20250717T001000Z
LOCATION:006 Estadio do Dragao
CONTACT:
SUMMARY:All Starz VS. Ballers
DESCRIPTION:League Name: Oliver Bozanic x Soccer5s Tournament U12s and U13s
 \nGame Type: Regular\nGame Status: Complete\nHome Team: All Starz\nAway Te
 am: Ballers\nHome Score: 4\nAway Score: 3
END:VEVENT
BEGIN:VEVENT
UID:16555340@ezleagues.ezfacility.com
DTSTAMP:20260426T033832Z
CREATED:20260426T033832Z
DTSTART:20250717T001500Z
DTEND:20250717T003500Z
LOCATION:006 Estadio do Dragao
CONTACT:
SUMMARY:Reddies VS. Ballers
DESCRIPTION:League Name: Oliver Bozanic x Soccer5s Tournament U12s and U13s
 \nGame Type: Regular\nGame Status: Complete\nHome Team: Reddies\nAway Team
 : Ballers\nHome Score: 2\nAway Score: 5
END:VEVENT
BEGIN:VEVENT
UID:16555342@ezleagues.ezfacility.com
DTSTAMP:20260426T033832Z
CREATED:20260426T033832Z
DTSTART:20250717T004000Z
DTEND:20250717T010000Z
LOCATION:007 Celtic Park
CONTACT:
SUMMARY:Punktactics VS. Ballers
DESCRIPTION:League Name: Oliver Bozanic x Soccer5s Tournament U12s and U13s
 \nGame Type: Regular\nGame Status: Complete\nHome Team: Punktactics\nAway 
 Team: Ballers\nHome Score: 0\nAway Score: 12
END:VEVENT
BEGIN:VEVENT
UID:16555344@ezleagues.ezfacility.com
DTSTAMP:20260426T033832Z
CREATED:20260426T033832Z
DTSTART:20250717T013000Z
DTEND:20250717T015000Z
LOCATION:006 Estadio do Dragao
CONTACT:Kian
SUMMARY:All Starz VS. Ballers
DESCRIPTION:League Name: Oliver Bozanic x Soccer5s Tournament U12s and U13s
 \nGame Type: Postseason\nGame Status: Complete\nHome Team: All Starz\nAway
  Team: Ballers\nHome Score: 1\nAway Score: 3
END:VEVENT
END:VCALENDAR
