BEGIN:VCALENDAR
VERSION:2.0
PRODID:-//EZFacility.com, Inc.//EZL 2.5.5.28621
BEGIN:VEVENT
UID:16676836@ezleagues.ezfacility.com
DTSTAMP:20260426T033740Z
CREATED:20260426T033740Z
DTSTART:20250921T210000Z
DTEND:20250921T223000Z
LOCATION:McDowell Mtn (South)
CONTACT:
SUMMARY:D-1 FC 40 VS. Phoenix Monsoon 40
DESCRIPTION:League Name: 2025 Fall Over 40\nGame Type: Regular\nGame Status
 : Complete\nHome Team: D-1 FC 40\nAway Team: Phoenix Monsoon 40\nHome Scor
 e: 9\nAway Score: 0
END:VEVENT
BEGIN:VEVENT
UID:16676847@ezleagues.ezfacility.com
DTSTAMP:20260426T033740Z
CREATED:20260426T033740Z
DTSTART:20250928T210000Z
DTEND:20250928T223000Z
LOCATION:McDowell Mtn (South)
CONTACT:
SUMMARY:D-1 FC 40 VS. Four Peaks Brewers 40
DESCRIPTION:League Name: 2025 Fall Over 40\nGame Type: Regular\nGame Status
 : Complete\nHome Team: D-1 FC 40\nAway Team: Four Peaks Brewers 40\nHome S
 core: 6\nAway Score: 5
END:VEVENT
BEGIN:VEVENT
UID:16676857@ezleagues.ezfacility.com
DTSTAMP:20260426T033740Z
CREATED:20260426T033740Z
DTSTART:20251005T230000Z
DTEND:20251006T003000Z
LOCATION:McDowell Mtn (South)
CONTACT:
SUMMARY:D-1 FC 40 VS. Real AZ 40
DESCRIPTION:League Name: 2025 Fall Over 40\nGame Type: Regular\nGame Status
 : Complete\nHome Team: D-1 FC 40\nAway Team: Real AZ 40\nHome Score: 2\nAw
 ay Score: 3
END:VEVENT
BEGIN:VEVENT
UID:16676879@ezleagues.ezfacility.com
DTSTAMP:20260426T033740Z
CREATED:20260426T033740Z
DTSTART:20251019T170000Z
DTEND:20251019T183000Z
LOCATION:McDowell Mtn (South)
CONTACT:
SUMMARY:D-1 FC 40 VS. Sirocco 40
DESCRIPTION:League Name: 2025 Fall Over 40\nGame Type: Regular\nGame Status
 : Complete\nHome Team: D-1 FC 40\nAway Team: Sirocco 40\nHome Score: 4\nAw
 ay Score: 0
END:VEVENT
BEGIN:VEVENT
UID:16677783@ezleagues.ezfacility.com
DTSTAMP:20260426T033740Z
CREATED:20260426T033740Z
DTSTART:20251102T190000Z
DTEND:20251102T203000Z
LOCATION:McDowell Mtn (South)
CONTACT:
SUMMARY:D-1 FC 40 VS. Phoenix Monsoon 40
DESCRIPTION:League Name: 2025 Fall Over 40\nGame Type: Regular\nGame Status
 : Complete\nHome Team: D-1 FC 40\nAway Team: Phoenix Monsoon 40\nHome Scor
 e: 7\nAway Score: 0
END:VEVENT
BEGIN:VEVENT
UID:16677779@ezleagues.ezfacility.com
DTSTAMP:20260426T033740Z
CREATED:20260426T033740Z
DTSTART:20251109T190000Z
DTEND:20251109T203000Z
LOCATION:McDowell Mtn (South)
CONTACT:
SUMMARY:Four Peaks Brewers 40 VS. D-1 FC 40
DESCRIPTION:League Name: 2025 Fall Over 40\nGame Type: Regular\nGame Status
 : Complete\nHome Team: Four Peaks Brewers 40\nAway Team: D-1 FC 40\nHome S
 core: 7\nAway Score: 0
END:VEVENT
BEGIN:VEVENT
UID:16677775@ezleagues.ezfacility.com
DTSTAMP:20260426T033740Z
CREATED:20260426T033740Z
DTSTART:20251116T150000Z
DTEND:20251116T163000Z
LOCATION:Scottsdale Bell Road Field 14
CONTACT:
SUMMARY:Real AZ 40 VS. D-1 FC 40
DESCRIPTION:League Name: 2025 Fall Over 40\nGame Type: Regular\nGame Status
 : Complete\nHome Team: Real AZ 40\nAway Team: D-1 FC 40\nHome Score: 1\nAw
 ay Score: 3
END:VEVENT
BEGIN:VEVENT
UID:16676867@ezleagues.ezfacility.com
DTSTAMP:20260426T033740Z
CREATED:20260426T033740Z
DTSTART:20251207T210000Z
DTEND:20251207T223000Z
LOCATION:McDowell Mtn (North)
CONTACT:
SUMMARY:Next Level 40 VS. D-1 FC 40
DESCRIPTION:League Name: 2025 Fall Over 40\nGame Type: Regular\nGame Status
 : Complete\nHome Team: Next Level 40\nAway Team: D-1 FC 40\nHome Score: 0\
 nAway Score: 1
END:VEVENT
BEGIN:VEVENT
UID:16825984@ezleagues.ezfacility.com
DTSTAMP:20260426T033740Z
CREATED:20260426T033740Z
DTSTART:20251214T190000Z
DTEND:20251214T203000Z
LOCATION:McDowell Mtn (North)
CONTACT:
SUMMARY:D-1 FC 40 VS. Real AZ 40
DESCRIPTION:League Name: 2025 Fall Over 40\nGame Type: Postseason\nGame Sta
 tus: Complete\nHome Team: D-1 FC 40\nAway Team: Real AZ 40\nHome Score: 3\
 nAway Score: 0
END:VEVENT
BEGIN:VEVENT
UID:16825986@ezleagues.ezfacility.com
DTSTAMP:20260426T033740Z
CREATED:20260426T033740Z
DTSTART:20251221T150000Z
DTEND:20251221T163000Z
LOCATION:#21 Reata SSC 
CONTACT:
SUMMARY:Four Peaks Brewers 40 VS. D-1 FC 40
DESCRIPTION:League Name: 2025 Fall Over 40\nGame Type: Postseason\nGame Sta
 tus: Complete\nHome Team: Four Peaks Brewers 40\nAway Team: D-1 FC 40\nHom
 e Score: 0\nAway Score: 1
END:VEVENT
END:VCALENDAR
