BEGIN:VCALENDAR
VERSION:2.0
PRODID:-//EZFacility.com, Inc.//EZL 2.5.5.28621
BEGIN:VEVENT
UID:16557714@ezleagues.ezfacility.com
DTSTAMP:20260420T160218Z
CREATED:20260420T160218Z
DTSTART:20250721T000000Z
DTEND:20250721T010000Z
LOCATION:Field 2
CONTACT:
SUMMARY:NSF VS. MORELIA
DESCRIPTION:League Name: Coed Recreation\nGame Type: Regular\nGame Status: 
 Complete\nHome Team: NSF\nAway Team: MORELIA\nHome Score: 13\nAway Score: 
 3
END:VEVENT
BEGIN:VEVENT
UID:16557725@ezleagues.ezfacility.com
DTSTAMP:20260420T160218Z
CREATED:20260420T160218Z
DTSTART:20250728T010000Z
DTEND:20250728T020000Z
LOCATION:Field 1
CONTACT:
SUMMARY:Wu Tang Clan VS. MORELIA
DESCRIPTION:League Name: Coed Recreation\nGame Type: Regular\nGame Status: 
 Complete\nHome Team: Wu Tang Clan\nAway Team: MORELIA\nHome Score: 1\nAway
  Score: 6
END:VEVENT
BEGIN:VEVENT
UID:16557731@ezleagues.ezfacility.com
DTSTAMP:20260420T160218Z
CREATED:20260420T160218Z
DTSTART:20250804T020000Z
DTEND:20250804T030000Z
LOCATION:Field 1
CONTACT:
SUMMARY:MORELIA VS. The All Stars
DESCRIPTION:League Name: Coed Recreation\nGame Type: Regular\nGame Status: 
 Complete\nHome Team: MORELIA\nAway Team: The All Stars\nHome Score: 3\nAwa
 y Score: 10
END:VEVENT
BEGIN:VEVENT
UID:16557745@ezleagues.ezfacility.com
DTSTAMP:20260420T160218Z
CREATED:20260420T160218Z
DTSTART:20250811T010000Z
DTEND:20250811T020000Z
LOCATION:Field 2
CONTACT:
SUMMARY:MORELIA VS. FARMERS F.C.
DESCRIPTION:League Name: Coed Recreation\nGame Type: Regular\nGame Status: 
 Complete\nHome Team: MORELIA\nAway Team: FARMERS F.C.\nHome Score: 7\nAway
  Score: 6
END:VEVENT
BEGIN:VEVENT
UID:16557758@ezleagues.ezfacility.com
DTSTAMP:20260420T160218Z
CREATED:20260420T160218Z
DTSTART:20250818T020000Z
DTEND:20250818T030000Z
LOCATION:Field 2
CONTACT:
SUMMARY:MORELIA VS. Goal Diggers
DESCRIPTION:League Name: Coed Recreation\nGame Type: Regular\nGame Status: 
 Complete\nHome Team: MORELIA\nAway Team: Goal Diggers\nHome Score: 6\nAway
  Score: 3
END:VEVENT
BEGIN:VEVENT
UID:16557769@ezleagues.ezfacility.com
DTSTAMP:20260420T160218Z
CREATED:20260420T160218Z
DTSTART:20250825T030000Z
DTEND:20250825T040000Z
LOCATION:Field 2
CONTACT:
SUMMARY:Huskies VS. MORELIA
DESCRIPTION:League Name: Coed Recreation\nGame Type: Regular\nGame Status: 
 Complete\nHome Team: Huskies\nAway Team: MORELIA\nHome Score: 8\nAway Scor
 e: 4
END:VEVENT
BEGIN:VEVENT
UID:16557801@ezleagues.ezfacility.com
DTSTAMP:20260420T160218Z
CREATED:20260420T160218Z
DTSTART:20250908T030000Z
DTEND:20250908T040000Z
LOCATION:Field 2
CONTACT:
SUMMARY:Los Chingones VS. MORELIA
DESCRIPTION:League Name: Coed Recreation\nGame Type: Regular\nGame Status: 
 Complete\nHome Team: Los Chingones\nAway Team: MORELIA\nHome Score: 5\nAwa
 y Score: 8
END:VEVENT
BEGIN:VEVENT
UID:16557785@ezleagues.ezfacility.com
DTSTAMP:20260420T160218Z
CREATED:20260420T160218Z
DTSTART:20250915T010000Z
DTEND:20250915T020000Z
LOCATION:Field 1
CONTACT:
SUMMARY:CDL VS. MORELIA
DESCRIPTION:League Name: Coed Recreation\nGame Type: Regular\nGame Status: 
 Complete\nHome Team: CDL\nAway Team: MORELIA\nHome Score: 6\nAway Score: 7
END:VEVENT
END:VCALENDAR
