BEGIN:VCALENDAR
VERSION:2.0
PRODID:-//EZFacility.com, Inc.//EZL 2.5.5.28621
BEGIN:VEVENT
UID:16557715@ezleagues.ezfacility.com
DTSTAMP:20260420T100046Z
CREATED:20260420T100046Z
DTSTART:20250721T010000Z
DTEND:20250721T020000Z
LOCATION:Field 2
CONTACT:
SUMMARY:Unatletico De Madrid VS. CDL Jrs.
DESCRIPTION:League Name: Coed Recreation\nGame Type: Regular\nGame Status: 
 Complete\nHome Team: Unatletico De Madrid\nAway Team: CDL Jrs.\nHome Score
 : 9\nAway Score: 2
END:VEVENT
BEGIN:VEVENT
UID:16557726@ezleagues.ezfacility.com
DTSTAMP:20260420T100046Z
CREATED:20260420T100046Z
DTSTART:20250728T000000Z
DTEND:20250728T010000Z
LOCATION:Field 1
CONTACT:
SUMMARY:Rigoros VS. CDL Jrs.
DESCRIPTION:League Name: Coed Recreation\nGame Type: Regular\nGame Status: 
 Complete\nHome Team: Rigoros\nAway Team: CDL Jrs.\nHome Score: 0\nAway Sco
 re: 10
END:VEVENT
BEGIN:VEVENT
UID:16557737@ezleagues.ezfacility.com
DTSTAMP:20260420T100046Z
CREATED:20260420T100046Z
DTSTART:20250803T230000Z
DTEND:20250804T000000Z
LOCATION:Field 2
CONTACT:
SUMMARY:Phase 1 VS. CDL Jrs.
DESCRIPTION:League Name: Coed Recreation\nGame Type: Regular\nGame Status: 
 Complete\nHome Team: Phase 1\nAway Team: CDL Jrs.\nHome Score: 2\nAway Sco
 re: 4
END:VEVENT
BEGIN:VEVENT
UID:16557748@ezleagues.ezfacility.com
DTSTAMP:20260420T100046Z
CREATED:20260420T100046Z
DTSTART:20250811T000000Z
DTEND:20250811T010000Z
LOCATION:Field 1
CONTACT:
SUMMARY:CDL Jrs. VS. LFC
DESCRIPTION:League Name: Coed Recreation\nGame Type: Regular\nGame Status: 
 Complete\nHome Team: CDL Jrs.\nAway Team: LFC\nHome Score: 3\nAway Score: 
 2
END:VEVENT
BEGIN:VEVENT
UID:16557761@ezleagues.ezfacility.com
DTSTAMP:20260420T100046Z
CREATED:20260420T100046Z
DTSTART:20250817T230000Z
DTEND:20250818T000000Z
LOCATION:Field 2
CONTACT:
SUMMARY:Los Ramsies VS. CDL Jrs.
DESCRIPTION:League Name: Coed Recreation\nGame Type: Regular\nGame Status: 
 Complete\nHome Team: Los Ramsies\nAway Team: CDL Jrs.\nHome Score: 3\nAway
  Score: 1
END:VEVENT
BEGIN:VEVENT
UID:16557770@ezleagues.ezfacility.com
DTSTAMP:20260420T100046Z
CREATED:20260420T100046Z
DTSTART:20250824T220000Z
DTEND:20250824T230000Z
LOCATION:Field 1
CONTACT:
SUMMARY:Buzz Ballers VS. CDL Jrs.
DESCRIPTION:League Name: Coed Recreation\nGame Type: Regular\nGame Status: 
 Complete\nHome Team: Buzz Ballers\nAway Team: CDL Jrs.\nHome Score: 6\nAwa
 y Score: 9
END:VEVENT
BEGIN:VEVENT
UID:16557792@ezleagues.ezfacility.com
DTSTAMP:20260420T100046Z
CREATED:20260420T100046Z
DTSTART:20250907T220000Z
DTEND:20250907T230000Z
LOCATION:Field 1
CONTACT:
SUMMARY:Chato FC VS. CDL Jrs.
DESCRIPTION:League Name: Coed Recreation\nGame Type: Regular\nGame Status: 
 Complete\nHome Team: Chato FC\nAway Team: CDL Jrs.\nHome Score: 4\nAway Sc
 ore: 3
END:VEVENT
BEGIN:VEVENT
UID:16557789@ezleagues.ezfacility.com
DTSTAMP:20260420T100046Z
CREATED:20260420T100046Z
DTSTART:20250915T000000Z
DTEND:20250915T010000Z
LOCATION:Field 2
CONTACT:
SUMMARY:CDL Jrs. VS. Econo Air
DESCRIPTION:League Name: Coed Recreation\nGame Type: Regular\nGame Status: 
 Complete\nHome Team: CDL Jrs.\nAway Team: Econo Air\nHome Score: 4\nAway S
 core: 3
END:VEVENT
END:VCALENDAR
