BEGIN:VCALENDAR
VERSION:2.0
PRODID:-//EZFacility.com, Inc.//EZL 2.5.5.28621
BEGIN:VEVENT
UID:16566112@ezleagues.ezfacility.com
DTSTAMP:20260421T172002Z
CREATED:20260421T172002Z
DTSTART:20250726T133000Z
DTEND:20250726T135500Z
LOCATION:Field 1
CONTACT:
SUMMARY:Total Football VS. Warriors - White
DESCRIPTION:League Name: CSX 4v4 Summer Sizzler - U12/U13\nGame Type: Regul
 ar\nGame Status: Complete\nHome Team: Total Football\nAway Team: Warriors 
 - White\nHome Score: 9\nAway Score: 7
END:VEVENT
BEGIN:VEVENT
UID:16566237@ezleagues.ezfacility.com
DTSTAMP:20260421T172002Z
CREATED:20260421T172002Z
DTSTART:20250726T143000Z
DTEND:20250726T145500Z
LOCATION:Field 3
CONTACT:
SUMMARY:Warriors - White VS. Warwick SC
DESCRIPTION:League Name: CSX 4v4 Summer Sizzler - U12/U13\nGame Type: Regul
 ar\nGame Status: Complete\nHome Team: Warriors - White\nAway Team: Warwick
  SC\nHome Score: 5\nAway Score: 5
END:VEVENT
BEGIN:VEVENT
UID:16566239@ezleagues.ezfacility.com
DTSTAMP:20260421T172002Z
CREATED:20260421T172002Z
DTSTART:20250726T150000Z
DTEND:20250726T152500Z
LOCATION:Field 2
CONTACT:
SUMMARY:Warriors - White VS. Shooting Stars
DESCRIPTION:League Name: CSX 4v4 Summer Sizzler - U12/U13\nGame Type: Regul
 ar\nGame Status: Complete\nHome Team: Warriors - White\nAway Team: Shootin
 g Stars\nHome Score: 5\nAway Score: 5
END:VEVENT
BEGIN:VEVENT
UID:16566349@ezleagues.ezfacility.com
DTSTAMP:20260421T172002Z
CREATED:20260421T172002Z
DTSTART:20250726T163000Z
DTEND:20250726T165000Z
LOCATION:Field 5
CONTACT:
SUMMARY:Fuego FC VS. Warriors - White
DESCRIPTION:League Name: CSX 4v4 Summer Sizzler - U12/U13\nGame Type: Regul
 ar\nGame Status: Complete\nHome Team: Fuego FC\nAway Team: Warriors - Whit
 e\nHome Score: 6\nAway Score: 7
END:VEVENT
BEGIN:VEVENT
UID:16566246@ezleagues.ezfacility.com
DTSTAMP:20260421T172002Z
CREATED:20260421T172002Z
DTSTART:20250726T173000Z
DTEND:20250726T175500Z
LOCATION:Field 3
CONTACT:
SUMMARY:Warriors - Teal VS. Warriors - White
DESCRIPTION:League Name: CSX 4v4 Summer Sizzler - U12/U13\nGame Type: Regul
 ar\nGame Status: Complete\nHome Team: Warriors - Teal\nAway Team: Warriors
  - White\nHome Score: 3\nAway Score: 7
END:VEVENT
BEGIN:VEVENT
UID:16566247@ezleagues.ezfacility.com
DTSTAMP:20260421T172002Z
CREATED:20260421T172002Z
DTSTART:20250726T180000Z
DTEND:20250726T182500Z
LOCATION:Field 3
CONTACT:
SUMMARY:Warriors - Coral VS. Warriors - White
DESCRIPTION:League Name: CSX 4v4 Summer Sizzler - U12/U13\nGame Type: Regul
 ar\nGame Status: Complete\nHome Team: Warriors - Coral\nAway Team: Warrior
 s - White\nHome Score: 2\nAway Score: 9
END:VEVENT
END:VCALENDAR
