BEGIN:VCALENDAR
VERSION:2.0
PRODID:-//EZFacility.com, Inc.//EZL 2.5.5.28621
BEGIN:VEVENT
UID:16578616@ezleagues.ezfacility.com
DTSTAMP:20260424T044404Z
CREATED:20260424T044404Z
DTSTART:20250809T160000Z
DTEND:20250809T170000Z
LOCATION:Basketball Court 1
CONTACT:
SUMMARY:Brodie VS. SVBC ELITE
DESCRIPTION:League Name: TBK Bank Sports Complex Summer Men's Basketball To
 urnament\nGame Type: Regular\nGame Status: Complete\nHome Team: Brodie\nAw
 ay Team: SVBC ELITE\nHome Score: 57\nAway Score: 52
END:VEVENT
BEGIN:VEVENT
UID:16578623@ezleagues.ezfacility.com
DTSTAMP:20260424T044404Z
CREATED:20260424T044404Z
DTSTART:20250809T180000Z
DTEND:20250809T190000Z
LOCATION:Basketball Court 1
CONTACT:
SUMMARY:Brodie VS. Mint
DESCRIPTION:League Name: TBK Bank Sports Complex Summer Men's Basketball To
 urnament\nGame Type: Regular\nGame Status: Complete\nHome Team: Brodie\nAw
 ay Team: Mint\nHome Score: 52\nAway Score: 64
END:VEVENT
BEGIN:VEVENT
UID:16578627@ezleagues.ezfacility.com
DTSTAMP:20260424T044404Z
CREATED:20260424T044404Z
DTSTART:20250809T200000Z
DTEND:20250809T210000Z
LOCATION:Basketball Court 1
CONTACT:
SUMMARY:Free Agent Team  VS. Brodie
DESCRIPTION:League Name: TBK Bank Sports Complex Summer Men's Basketball To
 urnament\nGame Type: Regular\nGame Status: Complete\nHome Team: Free Agent
  Team \nAway Team: Brodie\nHome Score: 64\nAway Score: 82
END:VEVENT
END:VCALENDAR
