BEGIN:VCALENDAR
VERSION:2.0
PRODID:-//EZFacility.com, Inc.//EZL 2.5.5.28621
BEGIN:VEVENT
UID:16574854@ezleagues.ezfacility.com
DTSTAMP:20260423T031434Z
CREATED:20260423T031434Z
DTSTART:20250805T110500Z
DTEND:20250805T114500Z
LOCATION:Court 1
CONTACT:
SUMMARY:Netspressos VS. Wasted Talent
DESCRIPTION:League Name: Tuesday Women Netball Winter 2025/2\nGame Type: Re
 gular\nGame Status: Complete\nHome Team: Netspressos\nAway Team: Wasted Ta
 lent\nHome Score: 28\nAway Score: 26
END:VEVENT
BEGIN:VEVENT
UID:16574858@ezleagues.ezfacility.com
DTSTAMP:20260423T031434Z
CREATED:20260423T031434Z
DTSTART:20250812T112500Z
DTEND:20250812T120500Z
LOCATION:Court 2
CONTACT:
SUMMARY:Wasted Talent VS. Low Expectations
DESCRIPTION:League Name: Tuesday Women Netball Winter 2025/2\nGame Type: Re
 gular\nGame Status: Complete\nHome Team: Wasted Talent\nAway Team: Low Exp
 ectations\nHome Score: 29\nAway Score: 30
END:VEVENT
BEGIN:VEVENT
UID:16574862@ezleagues.ezfacility.com
DTSTAMP:20260423T031434Z
CREATED:20260423T031434Z
DTSTART:20250819T122500Z
DTEND:20250819T130500Z
LOCATION:Court 1
CONTACT:
SUMMARY:Wasted Talent VS. Fast But Not Furious
DESCRIPTION:League Name: Tuesday Women Netball Winter 2025/2\nGame Type: Re
 gular\nGame Status: Complete\nHome Team: Wasted Talent\nAway Team: Fast Bu
 t Not Furious\nHome Score: 20\nAway Score: 9
END:VEVENT
BEGIN:VEVENT
UID:16574874@ezleagues.ezfacility.com
DTSTAMP:20260423T031434Z
CREATED:20260423T031434Z
DTSTART:20250902T100500Z
DTEND:20250902T104500Z
LOCATION:Court 2
CONTACT:
SUMMARY:Wasted Talent VS. The Letdown
DESCRIPTION:League Name: Tuesday Women Netball Winter 2025/2\nGame Type: Re
 gular\nGame Status: Complete\nHome Team: Wasted Talent\nAway Team: The Let
 down\nHome Score: 32\nAway Score: 17
END:VEVENT
BEGIN:VEVENT
UID:16574880@ezleagues.ezfacility.com
DTSTAMP:20260423T031434Z
CREATED:20260423T031434Z
DTSTART:20250909T110500Z
DTEND:20250909T114500Z
LOCATION:Court 1
CONTACT:
SUMMARY:Jetts VS. Wasted Talent
DESCRIPTION:League Name: Tuesday Women Netball Winter 2025/2\nGame Type: Re
 gular\nGame Status: Complete\nHome Team: Jetts\nAway Team: Wasted Talent\n
 Home Score: 21\nAway Score: 16
END:VEVENT
BEGIN:VEVENT
UID:16574886@ezleagues.ezfacility.com
DTSTAMP:20260423T031434Z
CREATED:20260423T031434Z
DTSTART:20250916T122500Z
DTEND:20250916T130500Z
LOCATION:Court 1
CONTACT:
SUMMARY:Goal Diggers VS. Wasted Talent
DESCRIPTION:League Name: Tuesday Women Netball Winter 2025/2\nGame Type: Re
 gular\nGame Status: Complete\nHome Team: Goal Diggers\nAway Team: Wasted T
 alent\nHome Score: 24\nAway Score: 18
END:VEVENT
BEGIN:VEVENT
UID:16574891@ezleagues.ezfacility.com
DTSTAMP:20260423T031434Z
CREATED:20260423T031434Z
DTSTART:20250923T112500Z
DTEND:20250923T120500Z
LOCATION:Court 2
CONTACT:
SUMMARY:Wasted Talent VS. Sweaty Bettys
DESCRIPTION:League Name: Tuesday Women Netball Winter 2025/2\nGame Type: Re
 gular\nGame Status: Complete\nHome Team: Wasted Talent\nAway Team: Sweaty 
 Bettys\nHome Score: 26\nAway Score: 16
END:VEVENT
BEGIN:VEVENT
UID:16574895@ezleagues.ezfacility.com
DTSTAMP:20260423T031434Z
CREATED:20260423T031434Z
DTSTART:20250930T110500Z
DTEND:20250930T114500Z
LOCATION:Court 1
CONTACT:
SUMMARY:Freshies VS. Wasted Talent
DESCRIPTION:League Name: Tuesday Women Netball Winter 2025/2\nGame Type: Re
 gular\nGame Status: Complete\nHome Team: Freshies\nAway Team: Wasted Talen
 t\nHome Score: 34\nAway Score: 14
END:VEVENT
BEGIN:VEVENT
UID:16747379@ezleagues.ezfacility.com
DTSTAMP:20260423T031434Z
CREATED:20260423T031434Z
DTSTART:20251007T105000Z
DTEND:20251007T113000Z
LOCATION:Court 2
CONTACT:
SUMMARY:Wasted Talent VS. Netspressos
DESCRIPTION:League Name: Tuesday Women Netball Winter 2025/2\nGame Type: Po
 stseason\nGame Status: Complete\nHome Team: Wasted Talent\nAway Team: Nets
 pressos\nHome Score: 33\nAway Score: 13
END:VEVENT
END:VCALENDAR
