BEGIN:VCALENDAR
VERSION:2.0
PRODID:-//EZFacility.com, Inc.//EZL 2.5.5.28621
BEGIN:VEVENT
UID:16664296@ezleagues.ezfacility.com
DTSTAMP:20260422T013936Z
CREATED:20260422T013936Z
DTSTART:20250913T192000Z
DTEND:20250913T202000Z
LOCATION:Offsite - Young Guns Back
CONTACT:
SUMMARY:PA Ghost VS. Central Jersey Rebels
DESCRIPTION:League Name: Back to School Blues 11uB - 2025 Fall\nGame Type: 
 Regular\nGame Status: Complete\nHome Team: PA Ghost\nAway Team: Central Je
 rsey Rebels\nHome Score: 0\nAway Score: 17
END:VEVENT
BEGIN:VEVENT
UID:16664297@ezleagues.ezfacility.com
DTSTAMP:20260422T013936Z
CREATED:20260422T013936Z
DTSTART:20250913T211000Z
DTEND:20250913T221000Z
LOCATION:Offsite - Young Guns Back
CONTACT:
SUMMARY:Central Jersey Rebels VS. Philly Dragons Blue
DESCRIPTION:League Name: Back to School Blues 11uB - 2025 Fall\nGame Type: 
 Regular\nGame Status: Complete\nHome Team: Central Jersey Rebels\nAway Tea
 m: Philly Dragons Blue\nHome Score: 15\nAway Score: 3
END:VEVENT
BEGIN:VEVENT
UID:16664301@ezleagues.ezfacility.com
DTSTAMP:20260422T013936Z
CREATED:20260422T013936Z
DTSTART:20250914T183000Z
DTEND:20250914T193000Z
LOCATION:OFFSITE - Young Guns Front
CONTACT:
SUMMARY:Central Jersey Rebels VS. EAT Empire
DESCRIPTION:League Name: Back to School Blues 11uB - 2025 Fall\nGame Type: 
 Regular\nGame Status: Pending\nHome Team: Central Jersey Rebels\nAway Team
 : EAT Empire\n
END:VEVENT
END:VCALENDAR
