BEGIN:VCALENDAR
VERSION:2.0
PRODID:-//EZFacility.com, Inc.//EZL 2.5.5.28621
BEGIN:VEVENT
UID:16578324@ezleagues.ezfacility.com
DTSTAMP:20260420T190855Z
CREATED:20260420T190855Z
DTSTART:20250808T010500Z
DTEND:20250808T015500Z
LOCATION:Field 1
CONTACT:
SUMMARY:Bolimex VS. Castroville FC
DESCRIPTION:League Name: Session #4 - Men's Division 6A\nGame Type: Regular
 \nGame Status: Complete\nHome Team: Bolimex\nAway Team: Castroville FC\nHo
 me Score: 1\nAway Score: 8
END:VEVENT
BEGIN:VEVENT
UID:16578330@ezleagues.ezfacility.com
DTSTAMP:20260420T190855Z
CREATED:20260420T190855Z
DTSTART:20250815T024500Z
DTEND:20250815T033500Z
LOCATION:Field 2
CONTACT:
SUMMARY:Castroville FC VS. Merengues
DESCRIPTION:League Name: Session #4 - Men's Division 6A\nGame Type: Regular
 \nGame Status: Complete\nHome Team: Castroville FC\nAway Team: Merengues\n
 Home Score: 7\nAway Score: 6
END:VEVENT
BEGIN:VEVENT
UID:16578336@ezleagues.ezfacility.com
DTSTAMP:20260420T190855Z
CREATED:20260420T190855Z
DTSTART:20250822T015500Z
DTEND:20250822T024500Z
LOCATION:Field 1
CONTACT:Enrique 
SUMMARY:Castroville FC VS. Return of the Mack
DESCRIPTION:League Name: Session #4 - Men's Division 6A\nGame Type: Regular
 \nGame Status: Complete\nHome Team: Castroville FC\nAway Team: Return of t
 he Mack\nHome Score: 11\nAway Score: 4
END:VEVENT
BEGIN:VEVENT
UID:16578342@ezleagues.ezfacility.com
DTSTAMP:20260420T190855Z
CREATED:20260420T190855Z
DTSTART:20250829T042500Z
DTEND:20250829T051500Z
LOCATION:Field 2
CONTACT:JLuis 
SUMMARY:Castroville FC VS. Medio Metros
DESCRIPTION:League Name: Session #4 - Men's Division 6A\nGame Type: Regular
 \nGame Status: Complete\nHome Team: Castroville FC\nAway Team: Medio Metro
 s\nHome Score: 8\nAway Score: 2
END:VEVENT
BEGIN:VEVENT
UID:16578343@ezleagues.ezfacility.com
DTSTAMP:20260420T190855Z
CREATED:20260420T190855Z
DTSTART:20250905T033500Z
DTEND:20250905T042500Z
LOCATION:Field 1
CONTACT:Uriel 
SUMMARY:Castroville FC VS. Cachorros
DESCRIPTION:League Name: Session #4 - Men's Division 6A\nGame Type: Regular
 \nGame Status: Complete\nHome Team: Castroville FC\nAway Team: Cachorros\n
 Home Score: 6\nAway Score: 4
END:VEVENT
BEGIN:VEVENT
UID:16578352@ezleagues.ezfacility.com
DTSTAMP:20260420T190855Z
CREATED:20260420T190855Z
DTSTART:20250912T033500Z
DTEND:20250912T042500Z
LOCATION:Field 2
CONTACT:JLuis 
SUMMARY:Magoo FC VS. Castroville FC
DESCRIPTION:League Name: Session #4 - Men's Division 6A\nGame Type: Regular
 \nGame Status: Complete\nHome Team: Magoo FC\nAway Team: Castroville FC\nH
 ome Score: 5\nAway Score: 5
END:VEVENT
BEGIN:VEVENT
UID:16578356@ezleagues.ezfacility.com
DTSTAMP:20260420T190855Z
CREATED:20260420T190855Z
DTSTART:20250919T015500Z
DTEND:20250919T024500Z
LOCATION:Field 1
CONTACT:Uriel 
SUMMARY:Rancho Jr VS. Castroville FC
DESCRIPTION:League Name: Session #4 - Men's Division 6A\nGame Type: Regular
 \nGame Status: Complete\nHome Team: Rancho Jr\nAway Team: Castroville FC\n
 Home Score: 6\nAway Score: 8
END:VEVENT
BEGIN:VEVENT
UID:16578360@ezleagues.ezfacility.com
DTSTAMP:20260420T190855Z
CREATED:20260420T190855Z
DTSTART:20250926T042500Z
DTEND:20250926T051500Z
LOCATION:Field 2
CONTACT:Andrade
SUMMARY:Potros VS. Castroville FC
DESCRIPTION:League Name: Session #4 - Men's Division 6A\nGame Type: Regular
 \nGame Status: Complete\nHome Team: Potros\nAway Team: Castroville FC\nHom
 e Score: 5\nAway Score: 6
END:VEVENT
END:VCALENDAR
