BEGIN:VCALENDAR
VERSION:2.0
PRODID:-//EZFacility.com, Inc.//EZL 2.5.5.28621
BEGIN:VEVENT
UID:16578365@ezleagues.ezfacility.com
DTSTAMP:20260426T033807Z
CREATED:20260426T033807Z
DTSTART:20250808T024500Z
DTEND:20250808T033500Z
LOCATION:Field 2
CONTACT:Andrade
SUMMARY:Deportivo Cali VS. Leones Negros
DESCRIPTION:League Name: Session #4 - Men's Division 7B\nGame Type: Regular
 \nGame Status: Complete\nHome Team: Deportivo Cali\nAway Team: Leones Negr
 os\nHome Score: 3\nAway Score: 8
END:VEVENT
BEGIN:VEVENT
UID:16578369@ezleagues.ezfacility.com
DTSTAMP:20260426T033807Z
CREATED:20260426T033807Z
DTSTART:20250815T015500Z
DTEND:20250815T024500Z
LOCATION:Field 1
CONTACT:
SUMMARY:Deportivo Araro VS. Leones Negros
DESCRIPTION:League Name: Session #4 - Men's Division 7B\nGame Type: Regular
 \nGame Status: Complete\nHome Team: Deportivo Araro\nAway Team: Leones Neg
 ros\nHome Score: 3\nAway Score: 4
END:VEVENT
BEGIN:VEVENT
UID:16578373@ezleagues.ezfacility.com
DTSTAMP:20260426T033807Z
CREATED:20260426T033807Z
DTSTART:20250822T033500Z
DTEND:20250822T042500Z
LOCATION:Field 2
CONTACT:Andrade
SUMMARY:Allianza FC VS. Leones Negros
DESCRIPTION:League Name: Session #4 - Men's Division 7B\nGame Type: Regular
 \nGame Status: Complete\nHome Team: Allianza FC\nAway Team: Leones Negros\
 nHome Score: 5\nAway Score: 2
END:VEVENT
BEGIN:VEVENT
UID:16578379@ezleagues.ezfacility.com
DTSTAMP:20260426T033807Z
CREATED:20260426T033807Z
DTSTART:20250829T010500Z
DTEND:20250829T015500Z
LOCATION:Field 1
CONTACT:Enrique 
SUMMARY:Leones Negros VS. Real Halcones
DESCRIPTION:League Name: Session #4 - Men's Division 7B\nGame Type: Regular
 \nGame Status: Complete\nHome Team: Leones Negros\nAway Team: Real Halcone
 s\nHome Score: 2\nAway Score: 3
END:VEVENT
BEGIN:VEVENT
UID:16578385@ezleagues.ezfacility.com
DTSTAMP:20260426T033807Z
CREATED:20260426T033807Z
DTSTART:20250905T010500Z
DTEND:20250905T015500Z
LOCATION:Field 2
CONTACT:Andrade
SUMMARY:Leones Negros VS. Los Morros
DESCRIPTION:League Name: Session #4 - Men's Division 7B\nGame Type: Regular
 \nGame Status: Complete\nHome Team: Leones Negros\nAway Team: Los Morros\n
 Home Score: 4\nAway Score: 7
END:VEVENT
BEGIN:VEVENT
UID:16578391@ezleagues.ezfacility.com
DTSTAMP:20260426T033807Z
CREATED:20260426T033807Z
DTSTART:20250912T033500Z
DTEND:20250912T042500Z
LOCATION:Field 1
CONTACT:Enrique 
SUMMARY:Leones Negros VS. Athletico Watsonville
DESCRIPTION:League Name: Session #4 - Men's Division 7B\nGame Type: Regular
 \nGame Status: Complete\nHome Team: Leones Negros\nAway Team: Athletico Wa
 tsonville\nHome Score: 4\nAway Score: 7
END:VEVENT
BEGIN:VEVENT
UID:16578397@ezleagues.ezfacility.com
DTSTAMP:20260426T033807Z
CREATED:20260426T033807Z
DTSTART:20250919T010500Z
DTEND:20250919T015500Z
LOCATION:Field 2
CONTACT:Andrade
SUMMARY:Leones Negros VS. Dope Boys
DESCRIPTION:League Name: Session #4 - Men's Division 7B\nGame Type: Regular
 \nGame Status: Complete\nHome Team: Leones Negros\nAway Team: Dope Boys\nH
 ome Score: 3\nAway Score: 5
END:VEVENT
BEGIN:VEVENT
UID:16578402@ezleagues.ezfacility.com
DTSTAMP:20260426T033807Z
CREATED:20260426T033807Z
DTSTART:20250926T042500Z
DTEND:20250926T051500Z
LOCATION:Field 1
CONTACT:Uriel 
SUMMARY:Real Espana VS. Leones Negros
DESCRIPTION:League Name: Session #4 - Men's Division 7B\nGame Type: Regular
 \nGame Status: Complete\nHome Team: Real Espana\nAway Team: Leones Negros\
 nHome Score: 4\nAway Score: 2
END:VEVENT
END:VCALENDAR
