BEGIN:VCALENDAR
VERSION:2.0
PRODID:-//EZFacility.com, Inc.//EZL 2.5.5.28621
BEGIN:VEVENT
UID:16578470@ezleagues.ezfacility.com
DTSTAMP:20260426T033520Z
CREATED:20260426T033520Z
DTSTART:20250808T010000Z
DTEND:20250808T020000Z
LOCATION:Court 2A
CONTACT:
SUMMARY:Team 06 VS. Team 12
DESCRIPTION:League Name: Test League \nGame Type: Regular\nGame Status: Pen
 ding\nHome Team: Team 06\nAway Team: Team 12\n
END:VEVENT
BEGIN:VEVENT
UID:16578463@ezleagues.ezfacility.com
DTSTAMP:20260426T033520Z
CREATED:20260426T033520Z
DTSTART:20250813T000000Z
DTEND:20250813T010000Z
LOCATION:Court 3B
CONTACT:
SUMMARY:Team 09 VS. Team 06
DESCRIPTION:League Name: Test League \nGame Type: Regular\nGame Status: Pen
 ding\nHome Team: Team 09\nAway Team: Team 06\n
END:VEVENT
BEGIN:VEVENT
UID:16578483@ezleagues.ezfacility.com
DTSTAMP:20260426T033520Z
CREATED:20260426T033520Z
DTSTART:20250815T020000Z
DTEND:20250815T030000Z
LOCATION:Court 3B
CONTACT:
SUMMARY:Team 04 VS. Team 06
DESCRIPTION:League Name: Test League \nGame Type: Regular\nGame Status: Pen
 ding\nHome Team: Team 04\nAway Team: Team 06\n
END:VEVENT
BEGIN:VEVENT
UID:16578477@ezleagues.ezfacility.com
DTSTAMP:20260426T033520Z
CREATED:20260426T033520Z
DTSTART:20250820T020000Z
DTEND:20250820T030000Z
LOCATION:Court 3B
CONTACT:
SUMMARY:Team 06 VS. Team 08
DESCRIPTION:League Name: Test League \nGame Type: Regular\nGame Status: Pen
 ding\nHome Team: Team 06\nAway Team: Team 08\n
END:VEVENT
BEGIN:VEVENT
UID:16578493@ezleagues.ezfacility.com
DTSTAMP:20260426T033520Z
CREATED:20260426T033520Z
DTSTART:20250822T010000Z
DTEND:20250822T020000Z
LOCATION:Court 2A
CONTACT:
SUMMARY:Team 07 VS. Team 06
DESCRIPTION:League Name: Test League \nGame Type: Regular\nGame Status: Pen
 ding\nHome Team: Team 07\nAway Team: Team 06\n
END:VEVENT
BEGIN:VEVENT
UID:16578488@ezleagues.ezfacility.com
DTSTAMP:20260426T033520Z
CREATED:20260426T033520Z
DTSTART:20250827T010000Z
DTEND:20250827T020000Z
LOCATION:Court 3B
CONTACT:
SUMMARY:Team 03 VS. Team 06
DESCRIPTION:League Name: Test League \nGame Type: Regular\nGame Status: Pen
 ding\nHome Team: Team 03\nAway Team: Team 06\n
END:VEVENT
BEGIN:VEVENT
UID:16578503@ezleagues.ezfacility.com
DTSTAMP:20260426T033520Z
CREATED:20260426T033520Z
DTSTART:20250829T000000Z
DTEND:20250829T010000Z
LOCATION:Court 2A
CONTACT:
SUMMARY:Team 10 VS. Team 06
DESCRIPTION:League Name: Test League \nGame Type: Regular\nGame Status: Pen
 ding\nHome Team: Team 10\nAway Team: Team 06\n
END:VEVENT
BEGIN:VEVENT
UID:16578498@ezleagues.ezfacility.com
DTSTAMP:20260426T033520Z
CREATED:20260426T033520Z
DTSTART:20250903T000000Z
DTEND:20250903T010000Z
LOCATION:Court 2A
CONTACT:
SUMMARY:Team 11 VS. Team 06
DESCRIPTION:League Name: Test League \nGame Type: Regular\nGame Status: Pen
 ding\nHome Team: Team 11\nAway Team: Team 06\n
END:VEVENT
BEGIN:VEVENT
UID:16578515@ezleagues.ezfacility.com
DTSTAMP:20260426T033520Z
CREATED:20260426T033520Z
DTSTART:20250905T010000Z
DTEND:20250905T020000Z
LOCATION:Court 2A
CONTACT:
SUMMARY:Team 06 VS. Team 02
DESCRIPTION:League Name: Test League \nGame Type: Regular\nGame Status: Pen
 ding\nHome Team: Team 06\nAway Team: Team 02\n
END:VEVENT
BEGIN:VEVENT
UID:16578508@ezleagues.ezfacility.com
DTSTAMP:20260426T033520Z
CREATED:20260426T033520Z
DTSTART:20250910T000000Z
DTEND:20250910T010000Z
LOCATION:Court 3B
CONTACT:
SUMMARY:Team 06 VS. Team 01
DESCRIPTION:League Name: Test League \nGame Type: Regular\nGame Status: Pen
 ding\nHome Team: Team 06\nAway Team: Team 01\n
END:VEVENT
BEGIN:VEVENT
UID:16578529@ezleagues.ezfacility.com
DTSTAMP:20260426T033520Z
CREATED:20260426T033520Z
DTSTART:20250912T000000Z
DTEND:20250912T010000Z
LOCATION:Court 3B
CONTACT:
SUMMARY:Team 06 VS. Team 09
DESCRIPTION:League Name: Test League \nGame Type: Regular\nGame Status: Pen
 ding\nHome Team: Team 06\nAway Team: Team 09\n
END:VEVENT
BEGIN:VEVENT
UID:16578522@ezleagues.ezfacility.com
DTSTAMP:20260426T033520Z
CREATED:20260426T033520Z
DTSTART:20250917T020000Z
DTEND:20250917T030000Z
LOCATION:Court 2A
CONTACT:
SUMMARY:Team 06 VS. Team 05
DESCRIPTION:League Name: Test League \nGame Type: Regular\nGame Status: Pen
 ding\nHome Team: Team 06\nAway Team: Team 05\n
END:VEVENT
END:VCALENDAR
