BEGIN:VCALENDAR
VERSION:2.0
PRODID:-//EZFacility.com, Inc.//EZL 2.5.5.28621
BEGIN:VEVENT
UID:16578468@ezleagues.ezfacility.com
DTSTAMP:20260426T033622Z
CREATED:20260426T033622Z
DTSTART:20250808T020000Z
DTEND:20250808T030000Z
LOCATION:Court 2A
CONTACT:
SUMMARY:Team 02 VS. Team 09
DESCRIPTION:League Name: Test League \nGame Type: Regular\nGame Status: Pen
 ding\nHome Team: Team 02\nAway Team: Team 09\n
END:VEVENT
BEGIN:VEVENT
UID:16578463@ezleagues.ezfacility.com
DTSTAMP:20260426T033622Z
CREATED:20260426T033622Z
DTSTART:20250813T000000Z
DTEND:20250813T010000Z
LOCATION:Court 3B
CONTACT:
SUMMARY:Team 09 VS. Team 06
DESCRIPTION:League Name: Test League \nGame Type: Regular\nGame Status: Pen
 ding\nHome Team: Team 09\nAway Team: Team 06\n
END:VEVENT
BEGIN:VEVENT
UID:16578478@ezleagues.ezfacility.com
DTSTAMP:20260426T033622Z
CREATED:20260426T033622Z
DTSTART:20250815T010000Z
DTEND:20250815T020000Z
LOCATION:Court 3B
CONTACT:
SUMMARY:Team 01 VS. Team 09
DESCRIPTION:League Name: Test League \nGame Type: Regular\nGame Status: Pen
 ding\nHome Team: Team 01\nAway Team: Team 09\n
END:VEVENT
BEGIN:VEVENT
UID:16578473@ezleagues.ezfacility.com
DTSTAMP:20260426T033622Z
CREATED:20260426T033622Z
DTSTART:20250820T010000Z
DTEND:20250820T020000Z
LOCATION:Court 2A
CONTACT:
SUMMARY:Team 05 VS. Team 09
DESCRIPTION:League Name: Test League \nGame Type: Regular\nGame Status: Pen
 ding\nHome Team: Team 05\nAway Team: Team 09\n
END:VEVENT
BEGIN:VEVENT
UID:16578492@ezleagues.ezfacility.com
DTSTAMP:20260426T033622Z
CREATED:20260426T033622Z
DTSTART:20250822T000000Z
DTEND:20250822T010000Z
LOCATION:Court 2A
CONTACT:
SUMMARY:Team 09 VS. Team 08
DESCRIPTION:League Name: Test League \nGame Type: Regular\nGame Status: Pen
 ding\nHome Team: Team 09\nAway Team: Team 08\n
END:VEVENT
BEGIN:VEVENT
UID:16578485@ezleagues.ezfacility.com
DTSTAMP:20260426T033622Z
CREATED:20260426T033622Z
DTSTART:20250827T020000Z
DTEND:20250827T030000Z
LOCATION:Court 2A
CONTACT:
SUMMARY:Team 09 VS. Team 12
DESCRIPTION:League Name: Test League \nGame Type: Regular\nGame Status: Pen
 ding\nHome Team: Team 09\nAway Team: Team 12\n
END:VEVENT
BEGIN:VEVENT
UID:16578506@ezleagues.ezfacility.com
DTSTAMP:20260426T033622Z
CREATED:20260426T033622Z
DTSTART:20250829T000000Z
DTEND:20250829T010000Z
LOCATION:Court 3B
CONTACT:
SUMMARY:Team 09 VS. Team 03
DESCRIPTION:League Name: Test League \nGame Type: Regular\nGame Status: Pen
 ding\nHome Team: Team 09\nAway Team: Team 03\n
END:VEVENT
BEGIN:VEVENT
UID:16578499@ezleagues.ezfacility.com
DTSTAMP:20260426T033622Z
CREATED:20260426T033622Z
DTSTART:20250903T010000Z
DTEND:20250903T020000Z
LOCATION:Court 3B
CONTACT:
SUMMARY:Team 09 VS. Team 04
DESCRIPTION:League Name: Test League \nGame Type: Regular\nGame Status: Pen
 ding\nHome Team: Team 09\nAway Team: Team 04\n
END:VEVENT
BEGIN:VEVENT
UID:16578519@ezleagues.ezfacility.com
DTSTAMP:20260426T033622Z
CREATED:20260426T033622Z
DTSTART:20250905T020000Z
DTEND:20250905T030000Z
LOCATION:Court 3B
CONTACT:
SUMMARY:Team 11 VS. Team 09
DESCRIPTION:League Name: Test League \nGame Type: Regular\nGame Status: Pen
 ding\nHome Team: Team 11\nAway Team: Team 09\n
END:VEVENT
BEGIN:VEVENT
UID:16578513@ezleagues.ezfacility.com
DTSTAMP:20260426T033622Z
CREATED:20260426T033622Z
DTSTART:20250910T020000Z
DTEND:20250910T030000Z
LOCATION:Court 3B
CONTACT:
SUMMARY:Team 09 VS. Team 07
DESCRIPTION:League Name: Test League \nGame Type: Regular\nGame Status: Pen
 ding\nHome Team: Team 09\nAway Team: Team 07\n
END:VEVENT
BEGIN:VEVENT
UID:16578529@ezleagues.ezfacility.com
DTSTAMP:20260426T033622Z
CREATED:20260426T033622Z
DTSTART:20250912T000000Z
DTEND:20250912T010000Z
LOCATION:Court 3B
CONTACT:
SUMMARY:Team 06 VS. Team 09
DESCRIPTION:League Name: Test League \nGame Type: Regular\nGame Status: Pen
 ding\nHome Team: Team 06\nAway Team: Team 09\n
END:VEVENT
BEGIN:VEVENT
UID:16578524@ezleagues.ezfacility.com
DTSTAMP:20260426T033622Z
CREATED:20260426T033622Z
DTSTART:20250917T010000Z
DTEND:20250917T020000Z
LOCATION:Court 3B
CONTACT:
SUMMARY:Team 10 VS. Team 09
DESCRIPTION:League Name: Test League \nGame Type: Regular\nGame Status: Pen
 ding\nHome Team: Team 10\nAway Team: Team 09\n
END:VEVENT
END:VCALENDAR
