BEGIN:VCALENDAR
VERSION:2.0
PRODID:-//EZFacility.com, Inc.//EZL 2.5.5.28621
BEGIN:VEVENT
UID:16584808@ezleagues.ezfacility.com
DTSTAMP:20260424T044001Z
CREATED:20260424T044001Z
DTSTART:20250817T210000Z
DTEND:20250817T220000Z
LOCATION:Rossford Dome 9v9 Field 1
CONTACT:Ohene-Larbi
SUMMARY:SG4G VS. Internationals
DESCRIPTION:League Name: 2025 Rossford Dome Mens 40 Fall League\nGame Type:
  Regular\nGame Status: Complete\nHome Team: SG4G\nAway Team: International
 s\nHome Score: 3\nAway Score: 2
END:VEVENT
BEGIN:VEVENT
UID:16584812@ezleagues.ezfacility.com
DTSTAMP:20260424T044001Z
CREATED:20260424T044001Z
DTSTART:20250825T011500Z
DTEND:20250825T021500Z
LOCATION:Rossford Dome 9v9 Field 2
CONTACT:Ohene-Larbi
SUMMARY:Internationals VS. Celtics
DESCRIPTION:League Name: 2025 Rossford Dome Mens 40 Fall League\nGame Type:
  Regular\nGame Status: Complete\nHome Team: Internationals\nAway Team: Cel
 tics\nHome Score: 1\nAway Score: 1
END:VEVENT
BEGIN:VEVENT
UID:16584819@ezleagues.ezfacility.com
DTSTAMP:20260424T044001Z
CREATED:20260424T044001Z
DTSTART:20250907T230000Z
DTEND:20250908T000000Z
LOCATION:Rossford Dome 9v9 Field 1
CONTACT:
SUMMARY:Unity VS. Internationals
DESCRIPTION:League Name: 2025 Rossford Dome Mens 40 Fall League\nGame Type:
  Regular\nGame Status: Complete\nHome Team: Unity\nAway Team: Internationa
 ls\nHome Score: 4\nAway Score: 0
END:VEVENT
BEGIN:VEVENT
UID:16584821@ezleagues.ezfacility.com
DTSTAMP:20260424T044001Z
CREATED:20260424T044001Z
DTSTART:20250914T230000Z
DTEND:20250915T000000Z
LOCATION:Rossford Dome 9v9 Field 2
CONTACT:Pfeiffer
SUMMARY:Charlies VS. Internationals
DESCRIPTION:League Name: 2025 Rossford Dome Mens 40 Fall League\nGame Type:
  Regular\nGame Status: Complete\nHome Team: Charlies\nAway Team: Internati
 onals\nHome Score: 3\nAway Score: 6
END:VEVENT
BEGIN:VEVENT
UID:16584823@ezleagues.ezfacility.com
DTSTAMP:20260424T044001Z
CREATED:20260424T044001Z
DTSTART:20250922T010000Z
DTEND:20250922T020000Z
LOCATION:Rossford Dome 9v9 Field 1
CONTACT:Ohene-Larbi
SUMMARY:Internationals VS. SG4G
DESCRIPTION:League Name: 2025 Rossford Dome Mens 40 Fall League\nGame Type:
  Regular\nGame Status: Complete\nHome Team: Internationals\nAway Team: SG4
 G\nHome Score: 5\nAway Score: 1
END:VEVENT
BEGIN:VEVENT
UID:16585547@ezleagues.ezfacility.com
DTSTAMP:20260424T044001Z
CREATED:20260424T044001Z
DTSTART:20250928T233000Z
DTEND:20250929T003000Z
LOCATION:Rossford Dome 9v9 Field 2
CONTACT:Parker
SUMMARY:LFC VS. Internationals
DESCRIPTION:League Name: 2025 Rossford Dome Mens 40 Fall League\nGame Type:
  Regular\nGame Status: Complete\nHome Team: LFC\nAway Team: Internationals
 \nHome Score: 3\nAway Score: 1
END:VEVENT
BEGIN:VEVENT
UID:16584831@ezleagues.ezfacility.com
DTSTAMP:20260424T044001Z
CREATED:20260424T044001Z
DTSTART:20251006T013000Z
DTEND:20251006T023000Z
LOCATION:Rossford Dome 9v9 Field 1
CONTACT:Ohene-Larbi
SUMMARY:Internationals VS. Black Swamp
DESCRIPTION:League Name: 2025 Rossford Dome Mens 40 Fall League\nGame Type:
  Regular\nGame Status: Complete\nHome Team: Internationals\nAway Team: Bla
 ck Swamp\nHome Score: 4\nAway Score: 1
END:VEVENT
BEGIN:VEVENT
UID:16584816@ezleagues.ezfacility.com
DTSTAMP:20260424T044001Z
CREATED:20260424T044001Z
DTSTART:20251013T000000Z
DTEND:20251013T010000Z
LOCATION:Rossford Dome 9v9 Field 1
CONTACT:Gauger
SUMMARY:Black Swamp VS. Internationals
DESCRIPTION:League Name: 2025 Rossford Dome Mens 40 Fall League\nGame Type:
  Regular\nGame Status: Complete\nHome Team: Black Swamp\nAway Team: Intern
 ationals\nHome Score: 0\nAway Score: 4
END:VEVENT
END:VCALENDAR
