BEGIN:VCALENDAR
VERSION:2.0
PRODID:-//EZFacility.com, Inc.//EZL 2.5.5.28621
BEGIN:VEVENT
UID:16608579@ezleagues.ezfacility.com
DTSTAMP:20260424T044051Z
CREATED:20260424T044051Z
DTSTART:20250907T230000Z
DTEND:20250908T000000Z
LOCATION:Turf Field
CONTACT:Legate
SUMMARY:FC Eagles VS. Minto FC
DESCRIPTION:League Name: Fall 2025 Co-ed Soccer League\nGame Type: Regular\
 nGame Status: Complete\nHome Team: FC Eagles\nAway Team: Minto FC\nHome Sc
 ore: 2\nAway Score: 3
END:VEVENT
BEGIN:VEVENT
UID:16608583@ezleagues.ezfacility.com
DTSTAMP:20260424T044051Z
CREATED:20260424T044051Z
DTSTART:20250915T000000Z
DTEND:20250915T010000Z
LOCATION:Turf Field
CONTACT:Lee
SUMMARY:Southeners+ VS. Minto FC
DESCRIPTION:League Name: Fall 2025 Co-ed Soccer League\nGame Type: Regular\
 nGame Status: Complete\nHome Team: Southeners+\nAway Team: Minto FC\nHome 
 Score: 6\nAway Score: 2
END:VEVENT
BEGIN:VEVENT
UID:16608586@ezleagues.ezfacility.com
DTSTAMP:20260424T044051Z
CREATED:20260424T044051Z
DTSTART:20250922T000000Z
DTEND:20250922T010000Z
LOCATION:Turf Field
CONTACT:Legate
SUMMARY:Green Machine VS. Minto FC
DESCRIPTION:League Name: Fall 2025 Co-ed Soccer League\nGame Type: Regular\
 nGame Status: Complete\nHome Team: Green Machine\nAway Team: Minto FC\nHom
 e Score: 2\nAway Score: 2
END:VEVENT
BEGIN:VEVENT
UID:16608588@ezleagues.ezfacility.com
DTSTAMP:20260424T044051Z
CREATED:20260424T044051Z
DTSTART:20250928T230000Z
DTEND:20250929T000000Z
LOCATION:Turf Field
CONTACT:Lee
SUMMARY:Minto FC VS. Ravens
DESCRIPTION:League Name: Fall 2025 Co-ed Soccer League\nGame Type: Regular\
 nGame Status: Complete\nHome Team: Minto FC\nAway Team: Ravens\nHome Score
 : 1\nAway Score: 5
END:VEVENT
BEGIN:VEVENT
UID:16608591@ezleagues.ezfacility.com
DTSTAMP:20260424T044051Z
CREATED:20260424T044051Z
DTSTART:20251005T230000Z
DTEND:20251006T000000Z
LOCATION:Turf Field
CONTACT:Legate
SUMMARY:Minto FC VS. Newton FC
DESCRIPTION:League Name: Fall 2025 Co-ed Soccer League\nGame Type: Regular\
 nGame Status: Complete\nHome Team: Minto FC\nAway Team: Newton FC\nHome Sc
 ore: 1\nAway Score: 8
END:VEVENT
BEGIN:VEVENT
UID:16608598@ezleagues.ezfacility.com
DTSTAMP:20260424T044051Z
CREATED:20260424T044051Z
DTSTART:20251019T230000Z
DTEND:20251020T000000Z
LOCATION:Turf Field
CONTACT:Lee
SUMMARY:Southeners+ VS. Minto FC
DESCRIPTION:League Name: Fall 2025 Co-ed Soccer League\nGame Type: Regular\
 nGame Status: Complete\nHome Team: Southeners+\nAway Team: Minto FC\nHome 
 Score: 8\nAway Score: 3
END:VEVENT
BEGIN:VEVENT
UID:16608601@ezleagues.ezfacility.com
DTSTAMP:20260424T044051Z
CREATED:20260424T044051Z
DTSTART:20251026T230000Z
DTEND:20251027T000000Z
LOCATION:Turf Field
CONTACT:Legate
SUMMARY:Minto FC VS. Green Machine
DESCRIPTION:League Name: Fall 2025 Co-ed Soccer League\nGame Type: Regular\
 nGame Status: Complete\nHome Team: Minto FC\nAway Team: Green Machine\nHom
 e Score: 1\nAway Score: 0
END:VEVENT
BEGIN:VEVENT
UID:16608603@ezleagues.ezfacility.com
DTSTAMP:20260424T044051Z
CREATED:20260424T044051Z
DTSTART:20251103T010000Z
DTEND:20251103T020000Z
LOCATION:Turf Field
CONTACT:Lee
SUMMARY:Ravens VS. Minto FC
DESCRIPTION:League Name: Fall 2025 Co-ed Soccer League\nGame Type: Regular\
 nGame Status: Complete\nHome Team: Ravens\nAway Team: Minto FC\nHome Score
 : 6\nAway Score: 2
END:VEVENT
BEGIN:VEVENT
UID:16608606@ezleagues.ezfacility.com
DTSTAMP:20260424T044051Z
CREATED:20260424T044051Z
DTSTART:20251110T010000Z
DTEND:20251110T020000Z
LOCATION:Turf Field
CONTACT:Legate
SUMMARY:Newton FC VS. Minto FC
DESCRIPTION:League Name: Fall 2025 Co-ed Soccer League\nGame Type: Regular\
 nGame Status: Complete\nHome Team: Newton FC\nAway Team: Minto FC\nHome Sc
 ore: 8\nAway Score: 2
END:VEVENT
BEGIN:VEVENT
UID:16608609@ezleagues.ezfacility.com
DTSTAMP:20260424T044051Z
CREATED:20260424T044051Z
DTSTART:20251117T000000Z
DTEND:20251117T010000Z
LOCATION:Turf Field
CONTACT:Legate
SUMMARY:Minto FC VS. FC Eagles
DESCRIPTION:League Name: Fall 2025 Co-ed Soccer League\nGame Type: Regular\
 nGame Status: Complete\nHome Team: Minto FC\nAway Team: FC Eagles\nHome Sc
 ore: 0\nAway Score: 3
END:VEVENT
BEGIN:VEVENT
UID:16608613@ezleagues.ezfacility.com
DTSTAMP:20260424T044051Z
CREATED:20260424T044051Z
DTSTART:20251124T010000Z
DTEND:20251124T020000Z
LOCATION:Turf Field
CONTACT:Legate
SUMMARY:Minto FC VS. Southeners+
DESCRIPTION:League Name: Fall 2025 Co-ed Soccer League\nGame Type: Regular\
 nGame Status: Complete\nHome Team: Minto FC\nAway Team: Southeners+\nHome 
 Score: 0\nAway Score: 10
END:VEVENT
BEGIN:VEVENT
UID:16608594@ezleagues.ezfacility.com
DTSTAMP:20260424T044051Z
CREATED:20260424T044051Z
DTSTART:20251201T010000Z
DTEND:20251201T020000Z
LOCATION:Turf Field
CONTACT:Legate
SUMMARY:Minto FC VS. FC Eagles
DESCRIPTION:League Name: Fall 2025 Co-ed Soccer League\nGame Type: Regular\
 nGame Status: Complete\nHome Team: Minto FC\nAway Team: FC Eagles\nHome Sc
 ore: 1\nAway Score: 2
END:VEVENT
BEGIN:VEVENT
UID:16608617@ezleagues.ezfacility.com
DTSTAMP:20260424T044051Z
CREATED:20260424T044051Z
DTSTART:20251208T000000Z
DTEND:20251208T010000Z
LOCATION:Turf Field
CONTACT:Legate
SUMMARY:Minto FC VS. Green Machine
DESCRIPTION:League Name: Fall 2025 Co-ed Soccer League\nGame Type: Postseas
 on\nGame Status: Complete\nHome Team: Minto FC\nAway Team: Green Machine\n
 Home Score: 1\nAway Score: 3
END:VEVENT
BEGIN:VEVENT
UID:16608622@ezleagues.ezfacility.com
DTSTAMP:20260424T044051Z
CREATED:20260424T044051Z
DTSTART:20251215T000000Z
DTEND:20251215T010000Z
LOCATION:Turf Field
CONTACT:Lee
SUMMARY:Green Machine VS. Minto FC
DESCRIPTION:League Name: Fall 2025 Co-ed Soccer League\nGame Type: Postseas
 on\nGame Status: Complete\nHome Team: Green Machine\nAway Team: Minto FC\n
 Home Score: 4\nAway Score: 3
END:VEVENT
END:VCALENDAR
