BEGIN:VCALENDAR
VERSION:2.0
PRODID:-//EZFacility.com, Inc.//EZL 2.5.5.28621
BEGIN:VEVENT
UID:16737770@ezleagues.ezfacility.com
DTSTAMP:20260424T043240Z
CREATED:20260424T043240Z
DTSTART:20250925T000000Z
DTEND:20250925T004000Z
LOCATION:Court 2
CONTACT:
SUMMARY:Jaclyn Moncrieff VS. Susan Trzos
DESCRIPTION:League Name: FALL 2025 Women's 4's Volleyball League\nGame Type
 : Regular\nGame Status: Complete\nHome Team: Jaclyn Moncrieff\nAway Team: 
 Susan Trzos\nHome Score: 2\nAway Score: 19
END:VEVENT
BEGIN:VEVENT
UID:16737771@ezleagues.ezfacility.com
DTSTAMP:20260424T043240Z
CREATED:20260424T043240Z
DTSTART:20250925T000000Z
DTEND:20250925T004000Z
LOCATION:Court 2
CONTACT:
SUMMARY:Jaclyn Moncrieff VS. Susan Trzos
DESCRIPTION:League Name: FALL 2025 Women's 4's Volleyball League\nGame Type
 : Regular\nGame Status: Complete\nHome Team: Jaclyn Moncrieff\nAway Team: 
 Susan Trzos\nHome Score: 3\nAway Score: 19
END:VEVENT
BEGIN:VEVENT
UID:16737772@ezleagues.ezfacility.com
DTSTAMP:20260424T043240Z
CREATED:20260424T043240Z
DTSTART:20250925T000000Z
DTEND:20250925T004000Z
LOCATION:Court 2
CONTACT:
SUMMARY:Jaclyn Moncrieff VS. Susan Trzos
DESCRIPTION:League Name: FALL 2025 Women's 4's Volleyball League\nGame Type
 : Regular\nGame Status: Complete\nHome Team: Jaclyn Moncrieff\nAway Team: 
 Susan Trzos\nHome Score: 3\nAway Score: 19
END:VEVENT
BEGIN:VEVENT
UID:16737814@ezleagues.ezfacility.com
DTSTAMP:20260424T043240Z
CREATED:20260424T043240Z
DTSTART:20250925T004000Z
DTEND:20250925T012000Z
LOCATION:Court 1
CONTACT:
SUMMARY:Jaclyn Moncrieff VS. House Team
DESCRIPTION:League Name: FALL 2025 Women's 4's Volleyball League\nGame Type
 : Regular\nGame Status: Complete\nHome Team: Jaclyn Moncrieff\nAway Team: 
 House Team\nHome Score: 16\nAway Score: 19
END:VEVENT
BEGIN:VEVENT
UID:16737823@ezleagues.ezfacility.com
DTSTAMP:20260424T043240Z
CREATED:20260424T043240Z
DTSTART:20250925T004000Z
DTEND:20250925T012000Z
LOCATION:Court 1
CONTACT:
SUMMARY:Jaclyn Moncrieff VS. House Team
DESCRIPTION:League Name: FALL 2025 Women's 4's Volleyball League\nGame Type
 : Regular\nGame Status: Complete\nHome Team: Jaclyn Moncrieff\nAway Team: 
 House Team\nHome Score: 10\nAway Score: 19
END:VEVENT
BEGIN:VEVENT
UID:16737834@ezleagues.ezfacility.com
DTSTAMP:20260424T043240Z
CREATED:20260424T043240Z
DTSTART:20250925T004000Z
DTEND:20250925T012000Z
LOCATION:Court 1
CONTACT:
SUMMARY:Jaclyn Moncrieff VS. House Team
DESCRIPTION:League Name: FALL 2025 Women's 4's Volleyball League\nGame Type
 : Regular\nGame Status: Complete\nHome Team: Jaclyn Moncrieff\nAway Team: 
 House Team\nHome Score: 7\nAway Score: 19
END:VEVENT
BEGIN:VEVENT
UID:16747869@ezleagues.ezfacility.com
DTSTAMP:20260424T043240Z
CREATED:20260424T043240Z
DTSTART:20251001T223000Z
DTEND:20251001T231000Z
LOCATION:Court 1
CONTACT:
SUMMARY:Hannah Murdock VS. Jaclyn Moncrieff
DESCRIPTION:League Name: FALL 2025 Women's 4's Volleyball League\nGame Type
 : Regular\nGame Status: Complete\nHome Team: Hannah Murdock\nAway Team: Ja
 clyn Moncrieff\nHome Score: 19\nAway Score: 5
END:VEVENT
BEGIN:VEVENT
UID:16747870@ezleagues.ezfacility.com
DTSTAMP:20260424T043240Z
CREATED:20260424T043240Z
DTSTART:20251001T223000Z
DTEND:20251001T231000Z
LOCATION:Court 1
CONTACT:
SUMMARY:Hannah Murdock VS. Jaclyn Moncrieff
DESCRIPTION:League Name: FALL 2025 Women's 4's Volleyball League\nGame Type
 : Regular\nGame Status: Complete\nHome Team: Hannah Murdock\nAway Team: Ja
 clyn Moncrieff\nHome Score: 19\nAway Score: 5
END:VEVENT
BEGIN:VEVENT
UID:16747871@ezleagues.ezfacility.com
DTSTAMP:20260424T043240Z
CREATED:20260424T043240Z
DTSTART:20251001T223000Z
DTEND:20251001T231000Z
LOCATION:Court 1
CONTACT:
SUMMARY:Hannah Murdock VS. Jaclyn Moncrieff
DESCRIPTION:League Name: FALL 2025 Women's 4's Volleyball League\nGame Type
 : Regular\nGame Status: Complete\nHome Team: Hannah Murdock\nAway Team: Ja
 clyn Moncrieff\nHome Score: 19\nAway Score: 4
END:VEVENT
BEGIN:VEVENT
UID:16747885@ezleagues.ezfacility.com
DTSTAMP:20260424T043240Z
CREATED:20260424T043240Z
DTSTART:20251001T231000Z
DTEND:20251001T235000Z
LOCATION:Court 3
CONTACT:
SUMMARY:Jaclyn Moncrieff VS. Megan Hylton
DESCRIPTION:League Name: FALL 2025 Women's 4's Volleyball League\nGame Type
 : Regular\nGame Status: Complete\nHome Team: Jaclyn Moncrieff\nAway Team: 
 Megan Hylton\nHome Score: 5\nAway Score: 19
END:VEVENT
BEGIN:VEVENT
UID:16747886@ezleagues.ezfacility.com
DTSTAMP:20260424T043240Z
CREATED:20260424T043240Z
DTSTART:20251001T231000Z
DTEND:20251001T235000Z
LOCATION:Court 3
CONTACT:
SUMMARY:Jaclyn Moncrieff VS. Megan Hylton
DESCRIPTION:League Name: FALL 2025 Women's 4's Volleyball League\nGame Type
 : Regular\nGame Status: Complete\nHome Team: Jaclyn Moncrieff\nAway Team: 
 Megan Hylton\nHome Score: 6\nAway Score: 19
END:VEVENT
BEGIN:VEVENT
UID:16747887@ezleagues.ezfacility.com
DTSTAMP:20260424T043240Z
CREATED:20260424T043240Z
DTSTART:20251001T231000Z
DTEND:20251001T235000Z
LOCATION:Court 3
CONTACT:
SUMMARY:Jaclyn Moncrieff VS. Megan Hylton
DESCRIPTION:League Name: FALL 2025 Women's 4's Volleyball League\nGame Type
 : Regular\nGame Status: Complete\nHome Team: Jaclyn Moncrieff\nAway Team: 
 Megan Hylton\nHome Score: 6\nAway Score: 19
END:VEVENT
BEGIN:VEVENT
UID:16778785@ezleagues.ezfacility.com
DTSTAMP:20260424T043240Z
CREATED:20260424T043240Z
DTSTART:20251009T000000Z
DTEND:20251009T004000Z
LOCATION:Court 1
CONTACT:
SUMMARY:Ashley Rollman VS. Jaclyn Moncrieff
DESCRIPTION:League Name: FALL 2025 Women's 4's Volleyball League\nGame Type
 : Regular\nGame Status: Complete\nHome Team: Ashley Rollman\nAway Team: Ja
 clyn Moncrieff\nHome Score: 19\nAway Score: 12
END:VEVENT
BEGIN:VEVENT
UID:16778786@ezleagues.ezfacility.com
DTSTAMP:20260424T043240Z
CREATED:20260424T043240Z
DTSTART:20251009T000000Z
DTEND:20251009T004000Z
LOCATION:Court 1
CONTACT:
SUMMARY:Ashley Rollman VS. Jaclyn Moncrieff
DESCRIPTION:League Name: FALL 2025 Women's 4's Volleyball League\nGame Type
 : Regular\nGame Status: Complete\nHome Team: Ashley Rollman\nAway Team: Ja
 clyn Moncrieff\nHome Score: 19\nAway Score: 10
END:VEVENT
BEGIN:VEVENT
UID:16778787@ezleagues.ezfacility.com
DTSTAMP:20260424T043240Z
CREATED:20260424T043240Z
DTSTART:20251009T000000Z
DTEND:20251009T004000Z
LOCATION:Court 1
CONTACT:
SUMMARY:Ashley Rollman VS. Jaclyn Moncrieff
DESCRIPTION:League Name: FALL 2025 Women's 4's Volleyball League\nGame Type
 : Regular\nGame Status: Complete\nHome Team: Ashley Rollman\nAway Team: Ja
 clyn Moncrieff\nHome Score: 19\nAway Score: 14
END:VEVENT
BEGIN:VEVENT
UID:16778794@ezleagues.ezfacility.com
DTSTAMP:20260424T043240Z
CREATED:20260424T043240Z
DTSTART:20251009T004000Z
DTEND:20251009T012000Z
LOCATION:Court 1
CONTACT:
SUMMARY:Jaclyn Moncrieff VS. Ashley Shelbourne
DESCRIPTION:League Name: FALL 2025 Women's 4's Volleyball League\nGame Type
 : Regular\nGame Status: Complete\nHome Team: Jaclyn Moncrieff\nAway Team: 
 Ashley Shelbourne\nHome Score: 14\nAway Score: 19
END:VEVENT
BEGIN:VEVENT
UID:16778795@ezleagues.ezfacility.com
DTSTAMP:20260424T043240Z
CREATED:20260424T043240Z
DTSTART:20251009T004000Z
DTEND:20251009T012000Z
LOCATION:Court 1
CONTACT:
SUMMARY:Jaclyn Moncrieff VS. Ashley Shelbourne
DESCRIPTION:League Name: FALL 2025 Women's 4's Volleyball League\nGame Type
 : Regular\nGame Status: Complete\nHome Team: Jaclyn Moncrieff\nAway Team: 
 Ashley Shelbourne\nHome Score: 7\nAway Score: 19
END:VEVENT
BEGIN:VEVENT
UID:16778796@ezleagues.ezfacility.com
DTSTAMP:20260424T043240Z
CREATED:20260424T043240Z
DTSTART:20251009T004000Z
DTEND:20251009T012000Z
LOCATION:Court 1
CONTACT:
SUMMARY:Jaclyn Moncrieff VS. Ashley Shelbourne
DESCRIPTION:League Name: FALL 2025 Women's 4's Volleyball League\nGame Type
 : Regular\nGame Status: Complete\nHome Team: Jaclyn Moncrieff\nAway Team: 
 Ashley Shelbourne\nHome Score: 2\nAway Score: 19
END:VEVENT
BEGIN:VEVENT
UID:16806076@ezleagues.ezfacility.com
DTSTAMP:20260424T043240Z
CREATED:20260424T043240Z
DTSTART:20251023T000000Z
DTEND:20251023T004000Z
LOCATION:Court 3
CONTACT:
SUMMARY:Jaclyn Moncrieff VS. Emily Moir
DESCRIPTION:League Name: FALL 2025 Women's 4's Volleyball League\nGame Type
 : Regular\nGame Status: Complete\nHome Team: Jaclyn Moncrieff\nAway Team: 
 Emily Moir\nHome Score: 8\nAway Score: 19
END:VEVENT
BEGIN:VEVENT
UID:16806077@ezleagues.ezfacility.com
DTSTAMP:20260424T043240Z
CREATED:20260424T043240Z
DTSTART:20251023T000000Z
DTEND:20251023T004000Z
LOCATION:Court 3
CONTACT:
SUMMARY:Jaclyn Moncrieff VS. Emily Moir
DESCRIPTION:League Name: FALL 2025 Women's 4's Volleyball League\nGame Type
 : Regular\nGame Status: Complete\nHome Team: Jaclyn Moncrieff\nAway Team: 
 Emily Moir\nHome Score: 5\nAway Score: 19
END:VEVENT
BEGIN:VEVENT
UID:16806081@ezleagues.ezfacility.com
DTSTAMP:20260424T043240Z
CREATED:20260424T043240Z
DTSTART:20251023T000000Z
DTEND:20251023T004000Z
LOCATION:Court 3
CONTACT:
SUMMARY:Jaclyn Moncrieff VS. Emily Moir
DESCRIPTION:League Name: FALL 2025 Women's 4's Volleyball League\nGame Type
 : Regular\nGame Status: Complete\nHome Team: Jaclyn Moncrieff\nAway Team: 
 Emily Moir\nHome Score: 7\nAway Score: 19
END:VEVENT
BEGIN:VEVENT
UID:16806091@ezleagues.ezfacility.com
DTSTAMP:20260424T043240Z
CREATED:20260424T043240Z
DTSTART:20251023T004000Z
DTEND:20251023T012000Z
LOCATION:Court 3
CONTACT:
SUMMARY:Mackenzie Kepler VS. Jaclyn Moncrieff
DESCRIPTION:League Name: FALL 2025 Women's 4's Volleyball League\nGame Type
 : Regular\nGame Status: Complete\nHome Team: Mackenzie Kepler\nAway Team: 
 Jaclyn Moncrieff\nHome Score: 19\nAway Score: 7
END:VEVENT
BEGIN:VEVENT
UID:16806092@ezleagues.ezfacility.com
DTSTAMP:20260424T043240Z
CREATED:20260424T043240Z
DTSTART:20251023T004000Z
DTEND:20251023T012000Z
LOCATION:Court 3
CONTACT:
SUMMARY:Mackenzie Kepler VS. Jaclyn Moncrieff
DESCRIPTION:League Name: FALL 2025 Women's 4's Volleyball League\nGame Type
 : Regular\nGame Status: Complete\nHome Team: Mackenzie Kepler\nAway Team: 
 Jaclyn Moncrieff\nHome Score: 19\nAway Score: 3
END:VEVENT
BEGIN:VEVENT
UID:16806093@ezleagues.ezfacility.com
DTSTAMP:20260424T043240Z
CREATED:20260424T043240Z
DTSTART:20251023T004000Z
DTEND:20251023T012000Z
LOCATION:Court 3
CONTACT:
SUMMARY:Mackenzie Kepler VS. Jaclyn Moncrieff
DESCRIPTION:League Name: FALL 2025 Women's 4's Volleyball League\nGame Type
 : Regular\nGame Status: Complete\nHome Team: Mackenzie Kepler\nAway Team: 
 Jaclyn Moncrieff\nHome Score: 19\nAway Score: 12
END:VEVENT
BEGIN:VEVENT
UID:16821151@ezleagues.ezfacility.com
DTSTAMP:20260424T043240Z
CREATED:20260424T043240Z
DTSTART:20251029T223000Z
DTEND:20251029T231000Z
LOCATION:Court 2
CONTACT:
SUMMARY:Jaclyn Moncrieff VS. Lindsey Spoor
DESCRIPTION:League Name: FALL 2025 Women's 4's Volleyball League\nGame Type
 : Regular\nGame Status: Complete\nHome Team: Jaclyn Moncrieff\nAway Team: 
 Lindsey Spoor\nHome Score: 10\nAway Score: 19
END:VEVENT
BEGIN:VEVENT
UID:16821152@ezleagues.ezfacility.com
DTSTAMP:20260424T043240Z
CREATED:20260424T043240Z
DTSTART:20251029T223000Z
DTEND:20251029T231000Z
LOCATION:Court 2
CONTACT:
SUMMARY:Jaclyn Moncrieff VS. Lindsey Spoor
DESCRIPTION:League Name: FALL 2025 Women's 4's Volleyball League\nGame Type
 : Regular\nGame Status: Complete\nHome Team: Jaclyn Moncrieff\nAway Team: 
 Lindsey Spoor\nHome Score: 3\nAway Score: 19
END:VEVENT
BEGIN:VEVENT
UID:16821153@ezleagues.ezfacility.com
DTSTAMP:20260424T043240Z
CREATED:20260424T043240Z
DTSTART:20251029T223000Z
DTEND:20251029T231000Z
LOCATION:Court 2
CONTACT:
SUMMARY:Jaclyn Moncrieff VS. Lindsey Spoor
DESCRIPTION:League Name: FALL 2025 Women's 4's Volleyball League\nGame Type
 : Regular\nGame Status: Complete\nHome Team: Jaclyn Moncrieff\nAway Team: 
 Lindsey Spoor\nHome Score: 8\nAway Score: 19
END:VEVENT
BEGIN:VEVENT
UID:16821163@ezleagues.ezfacility.com
DTSTAMP:20260424T043240Z
CREATED:20260424T043240Z
DTSTART:20251029T231000Z
DTEND:20251029T235000Z
LOCATION:Court 3
CONTACT:
SUMMARY:Jaclyn Moncrieff VS. Sarah Gotts
DESCRIPTION:League Name: FALL 2025 Women's 4's Volleyball League\nGame Type
 : Regular\nGame Status: Complete\nHome Team: Jaclyn Moncrieff\nAway Team: 
 Sarah Gotts\nHome Score: 3\nAway Score: 19
END:VEVENT
BEGIN:VEVENT
UID:16821164@ezleagues.ezfacility.com
DTSTAMP:20260424T043240Z
CREATED:20260424T043240Z
DTSTART:20251029T231000Z
DTEND:20251029T235000Z
LOCATION:Court 3
CONTACT:
SUMMARY:Jaclyn Moncrieff VS. Sarah Gotts
DESCRIPTION:League Name: FALL 2025 Women's 4's Volleyball League\nGame Type
 : Regular\nGame Status: Complete\nHome Team: Jaclyn Moncrieff\nAway Team: 
 Sarah Gotts\nHome Score: 7\nAway Score: 19
END:VEVENT
BEGIN:VEVENT
UID:16821165@ezleagues.ezfacility.com
DTSTAMP:20260424T043240Z
CREATED:20260424T043240Z
DTSTART:20251029T231000Z
DTEND:20251029T235000Z
LOCATION:Court 3
CONTACT:
SUMMARY:Jaclyn Moncrieff VS. Sarah Gotts
DESCRIPTION:League Name: FALL 2025 Women's 4's Volleyball League\nGame Type
 : Regular\nGame Status: Complete\nHome Team: Jaclyn Moncrieff\nAway Team: 
 Sarah Gotts\nHome Score: 5\nAway Score: 19
END:VEVENT
BEGIN:VEVENT
UID:16838107@ezleagues.ezfacility.com
DTSTAMP:20260424T043240Z
CREATED:20260424T043240Z
DTSTART:20251106T010000Z
DTEND:20251106T014000Z
LOCATION:Court 2
CONTACT:
SUMMARY:Jaclyn Moncrieff VS. Jessica Wise
DESCRIPTION:League Name: FALL 2025 Women's 4's Volleyball League\nGame Type
 : Regular\nGame Status: Complete\nHome Team: Jaclyn Moncrieff\nAway Team: 
 Jessica Wise\nHome Score: 10\nAway Score: 19
END:VEVENT
BEGIN:VEVENT
UID:16838108@ezleagues.ezfacility.com
DTSTAMP:20260424T043240Z
CREATED:20260424T043240Z
DTSTART:20251106T010000Z
DTEND:20251106T014000Z
LOCATION:Court 2
CONTACT:
SUMMARY:Jaclyn Moncrieff VS. Jessica Wise
DESCRIPTION:League Name: FALL 2025 Women's 4's Volleyball League\nGame Type
 : Regular\nGame Status: Complete\nHome Team: Jaclyn Moncrieff\nAway Team: 
 Jessica Wise\nHome Score: 11\nAway Score: 19
END:VEVENT
BEGIN:VEVENT
UID:16838109@ezleagues.ezfacility.com
DTSTAMP:20260424T043240Z
CREATED:20260424T043240Z
DTSTART:20251106T010000Z
DTEND:20251106T014000Z
LOCATION:Court 2
CONTACT:
SUMMARY:Jaclyn Moncrieff VS. Jessica Wise
DESCRIPTION:League Name: FALL 2025 Women's 4's Volleyball League\nGame Type
 : Regular\nGame Status: Complete\nHome Team: Jaclyn Moncrieff\nAway Team: 
 Jessica Wise\nHome Score: 10\nAway Score: 19
END:VEVENT
BEGIN:VEVENT
UID:16838116@ezleagues.ezfacility.com
DTSTAMP:20260424T043240Z
CREATED:20260424T043240Z
DTSTART:20251106T014000Z
DTEND:20251106T022000Z
LOCATION:Court 2
CONTACT:
SUMMARY:Ashley Rollman VS. Jaclyn Moncrieff
DESCRIPTION:League Name: FALL 2025 Women's 4's Volleyball League\nGame Type
 : Regular\nGame Status: Complete\nHome Team: Ashley Rollman\nAway Team: Ja
 clyn Moncrieff\nHome Score: 19\nAway Score: 8
END:VEVENT
BEGIN:VEVENT
UID:16838117@ezleagues.ezfacility.com
DTSTAMP:20260424T043240Z
CREATED:20260424T043240Z
DTSTART:20251106T014000Z
DTEND:20251106T022000Z
LOCATION:Court 2
CONTACT:
SUMMARY:Ashley Rollman VS. Jaclyn Moncrieff
DESCRIPTION:League Name: FALL 2025 Women's 4's Volleyball League\nGame Type
 : Regular\nGame Status: Complete\nHome Team: Ashley Rollman\nAway Team: Ja
 clyn Moncrieff\nHome Score: 19\nAway Score: 8
END:VEVENT
BEGIN:VEVENT
UID:16838118@ezleagues.ezfacility.com
DTSTAMP:20260424T043240Z
CREATED:20260424T043240Z
DTSTART:20251106T014000Z
DTEND:20251106T022000Z
LOCATION:Court 2
CONTACT:
SUMMARY:Ashley Rollman VS. Jaclyn Moncrieff
DESCRIPTION:League Name: FALL 2025 Women's 4's Volleyball League\nGame Type
 : Regular\nGame Status: Complete\nHome Team: Ashley Rollman\nAway Team: Ja
 clyn Moncrieff\nHome Score: 19\nAway Score: 9
END:VEVENT
BEGIN:VEVENT
UID:16724372@ezleagues.ezfacility.com
DTSTAMP:20260424T043240Z
CREATED:20260424T043240Z
DTSTART:20251113T010000Z
DTEND:20251113T014000Z
LOCATION:Court 2
CONTACT:
SUMMARY:Jaclyn Moncrieff VS. Susan Trzos
DESCRIPTION:League Name: FALL 2025 Women's 4's Volleyball League\nGame Type
 : Regular\nGame Status: Pending\nHome Team: Jaclyn Moncrieff\nAway Team: S
 usan Trzos\n
END:VEVENT
BEGIN:VEVENT
UID:16855433@ezleagues.ezfacility.com
DTSTAMP:20260424T043240Z
CREATED:20260424T043240Z
DTSTART:20251113T010000Z
DTEND:20251113T014000Z
LOCATION:Court 2
CONTACT:
SUMMARY:Jaclyn Moncrieff VS. Susan Trzos
DESCRIPTION:League Name: FALL 2025 Women's 4's Volleyball League\nGame Type
 : Regular\nGame Status: Complete\nHome Team: Jaclyn Moncrieff\nAway Team: 
 Susan Trzos\nHome Score: 10\nAway Score: 19
END:VEVENT
BEGIN:VEVENT
UID:16855434@ezleagues.ezfacility.com
DTSTAMP:20260424T043240Z
CREATED:20260424T043240Z
DTSTART:20251113T010000Z
DTEND:20251113T014000Z
LOCATION:Court 2
CONTACT:
SUMMARY:Jaclyn Moncrieff VS. Susan Trzos
DESCRIPTION:League Name: FALL 2025 Women's 4's Volleyball League\nGame Type
 : Regular\nGame Status: Complete\nHome Team: Jaclyn Moncrieff\nAway Team: 
 Susan Trzos\nHome Score: 7\nAway Score: 19
END:VEVENT
BEGIN:VEVENT
UID:16855435@ezleagues.ezfacility.com
DTSTAMP:20260424T043240Z
CREATED:20260424T043240Z
DTSTART:20251113T010000Z
DTEND:20251113T014000Z
LOCATION:Court 2
CONTACT:
SUMMARY:Jaclyn Moncrieff VS. Susan Trzos
DESCRIPTION:League Name: FALL 2025 Women's 4's Volleyball League\nGame Type
 : Regular\nGame Status: Complete\nHome Team: Jaclyn Moncrieff\nAway Team: 
 Susan Trzos\nHome Score: 7\nAway Score: 19
END:VEVENT
BEGIN:VEVENT
UID:16855439@ezleagues.ezfacility.com
DTSTAMP:20260424T043240Z
CREATED:20260424T043240Z
DTSTART:20251113T014000Z
DTEND:20251113T022000Z
LOCATION:Court 1
CONTACT:
SUMMARY:Jaclyn Moncrieff VS. House Team
DESCRIPTION:League Name: FALL 2025 Women's 4's Volleyball League\nGame Type
 : Regular\nGame Status: Complete\nHome Team: Jaclyn Moncrieff\nAway Team: 
 House Team\nHome Score: 12\nAway Score: 19
END:VEVENT
BEGIN:VEVENT
UID:16855440@ezleagues.ezfacility.com
DTSTAMP:20260424T043240Z
CREATED:20260424T043240Z
DTSTART:20251113T014000Z
DTEND:20251113T022000Z
LOCATION:Court 1
CONTACT:
SUMMARY:Jaclyn Moncrieff VS. House Team
DESCRIPTION:League Name: FALL 2025 Women's 4's Volleyball League\nGame Type
 : Regular\nGame Status: Complete\nHome Team: Jaclyn Moncrieff\nAway Team: 
 House Team\nHome Score: 11\nAway Score: 19
END:VEVENT
BEGIN:VEVENT
UID:16855441@ezleagues.ezfacility.com
DTSTAMP:20260424T043240Z
CREATED:20260424T043240Z
DTSTART:20251113T014000Z
DTEND:20251113T022000Z
LOCATION:Court 1
CONTACT:
SUMMARY:Jaclyn Moncrieff VS. House Team
DESCRIPTION:League Name: FALL 2025 Women's 4's Volleyball League\nGame Type
 : Regular\nGame Status: Complete\nHome Team: Jaclyn Moncrieff\nAway Team: 
 House Team\nHome Score: 16\nAway Score: 19
END:VEVENT
BEGIN:VEVENT
UID:16724374@ezleagues.ezfacility.com
DTSTAMP:20260424T043240Z
CREATED:20260424T043240Z
DTSTART:20251113T014000Z
DTEND:20251113T022000Z
LOCATION:Court 1
CONTACT:
SUMMARY:Jaclyn Moncrieff VS. House Team
DESCRIPTION:League Name: FALL 2025 Women's 4's Volleyball League\nGame Type
 : Regular\nGame Status: Pending\nHome Team: Jaclyn Moncrieff\nAway Team: H
 ouse Team\n
END:VEVENT
END:VCALENDAR
