BEGIN:VCALENDAR
VERSION:2.0
PRODID:-//EZFacility.com, Inc.//EZL 2.5.5.28621
BEGIN:VEVENT
UID:16580660@ezleagues.ezfacility.com
DTSTAMP:20260424T044325Z
CREATED:20260424T044325Z
DTSTART:20250816T011500Z
DTEND:20250816T021500Z
LOCATION:Field 5
CONTACT:
SUMMARY:Los Retirados VS. Team Merica/CT Athletics
DESCRIPTION:League Name: 2025 S4 Fri Men's - Aug 15\nGame Type: Regular\nGa
 me Status: Complete\nHome Team: Los Retirados\nAway Team: Team Merica/CT A
 thletics\nHome Score: 9\nAway Score: 10
END:VEVENT
BEGIN:VEVENT
UID:16580661@ezleagues.ezfacility.com
DTSTAMP:20260424T044325Z
CREATED:20260424T044325Z
DTSTART:20250816T021500Z
DTEND:20250816T031500Z
LOCATION:Field 5
CONTACT:
SUMMARY:Team Merica/CT Athletics VS. Los Retirados
DESCRIPTION:League Name: 2025 S4 Fri Men's - Aug 15\nGame Type: Regular\nGa
 me Status: Complete\nHome Team: Team Merica/CT Athletics\nAway Team: Los R
 etirados\nHome Score: 6\nAway Score: 9
END:VEVENT
BEGIN:VEVENT
UID:16580684@ezleagues.ezfacility.com
DTSTAMP:20260424T044325Z
CREATED:20260424T044325Z
DTSTART:20250823T011500Z
DTEND:20250823T021500Z
LOCATION:Field 1
CONTACT:
SUMMARY:Free Ballers VS. Los Retirados
DESCRIPTION:League Name: 2025 S4 Fri Men's - Aug 15\nGame Type: Regular\nGa
 me Status: Complete\nHome Team: Free Ballers\nAway Team: Los Retirados\nHo
 me Score: 5\nAway Score: 15
END:VEVENT
BEGIN:VEVENT
UID:16580685@ezleagues.ezfacility.com
DTSTAMP:20260424T044325Z
CREATED:20260424T044325Z
DTSTART:20250823T021500Z
DTEND:20250823T031500Z
LOCATION:Field 1
CONTACT:
SUMMARY:Los Retirados VS. Free Ballers
DESCRIPTION:League Name: 2025 S4 Fri Men's - Aug 15\nGame Type: Regular\nGa
 me Status: Complete\nHome Team: Los Retirados\nAway Team: Free Ballers\nHo
 me Score: 7\nAway Score: 19
END:VEVENT
BEGIN:VEVENT
UID:16580704@ezleagues.ezfacility.com
DTSTAMP:20260424T044325Z
CREATED:20260424T044325Z
DTSTART:20250830T011500Z
DTEND:20250830T021500Z
LOCATION:Field 2
CONTACT:
SUMMARY:Bonez VS. Los Retirados
DESCRIPTION:League Name: 2025 S4 Fri Men's - Aug 15\nGame Type: Regular\nGa
 me Status: Complete\nHome Team: Bonez\nAway Team: Los Retirados\nHome Scor
 e: 7\nAway Score: 15
END:VEVENT
BEGIN:VEVENT
UID:16580705@ezleagues.ezfacility.com
DTSTAMP:20260424T044325Z
CREATED:20260424T044325Z
DTSTART:20250830T021500Z
DTEND:20250830T031500Z
LOCATION:Field 2
CONTACT:
SUMMARY:Los Retirados VS. Bonez
DESCRIPTION:League Name: 2025 S4 Fri Men's - Aug 15\nGame Type: Regular\nGa
 me Status: Complete\nHome Team: Los Retirados\nAway Team: Bonez\nHome Scor
 e: 17\nAway Score: 19
END:VEVENT
BEGIN:VEVENT
UID:16580728@ezleagues.ezfacility.com
DTSTAMP:20260424T044325Z
CREATED:20260424T044325Z
DTSTART:20250906T031500Z
DTEND:20250906T041500Z
LOCATION:Field 3
CONTACT:
SUMMARY:Mouth Breathers VS. Los Retirados
DESCRIPTION:League Name: 2025 S4 Fri Men's - Aug 15\nGame Type: Regular\nGa
 me Status: Complete\nHome Team: Mouth Breathers\nAway Team: Los Retirados\
 nHome Score: 16\nAway Score: 6
END:VEVENT
BEGIN:VEVENT
UID:16580729@ezleagues.ezfacility.com
DTSTAMP:20260424T044325Z
CREATED:20260424T044325Z
DTSTART:20250906T041500Z
DTEND:20250906T051500Z
LOCATION:Field 3
CONTACT:
SUMMARY:Los Retirados VS. Mouth Breathers
DESCRIPTION:League Name: 2025 S4 Fri Men's - Aug 15\nGame Type: Regular\nGa
 me Status: Complete\nHome Team: Los Retirados\nAway Team: Mouth Breathers\
 nHome Score: 8\nAway Score: 13
END:VEVENT
BEGIN:VEVENT
UID:16580754@ezleagues.ezfacility.com
DTSTAMP:20260424T044325Z
CREATED:20260424T044325Z
DTSTART:20250913T031500Z
DTEND:20250913T041500Z
LOCATION:Field 3
CONTACT:
SUMMARY:Los Retirados VS. Alcoholics Anonymous
DESCRIPTION:League Name: 2025 S4 Fri Men's - Aug 15\nGame Type: Regular\nGa
 me Status: Complete\nHome Team: Los Retirados\nAway Team: Alcoholics Anony
 mous\nHome Score: 18\nAway Score: 4
END:VEVENT
BEGIN:VEVENT
UID:16580755@ezleagues.ezfacility.com
DTSTAMP:20260424T044325Z
CREATED:20260424T044325Z
DTSTART:20250913T041500Z
DTEND:20250913T051500Z
LOCATION:Field 3
CONTACT:
SUMMARY:Alcoholics Anonymous VS. Los Retirados
DESCRIPTION:League Name: 2025 S4 Fri Men's - Aug 15\nGame Type: Regular\nGa
 me Status: Complete\nHome Team: Alcoholics Anonymous\nAway Team: Los Retir
 ados\nHome Score: 15\nAway Score: 5
END:VEVENT
BEGIN:VEVENT
UID:16580776@ezleagues.ezfacility.com
DTSTAMP:20260424T044325Z
CREATED:20260424T044325Z
DTSTART:20251004T031500Z
DTEND:20251004T041500Z
LOCATION:Field 4
CONTACT:
SUMMARY:Los Retirados VS. Bad Boys
DESCRIPTION:League Name: 2025 S4 Fri Men's - Aug 15\nGame Type: Regular\nGa
 me Status: Complete\nHome Team: Los Retirados\nAway Team: Bad Boys\nHome S
 core: 10\nAway Score: 9
END:VEVENT
BEGIN:VEVENT
UID:16580777@ezleagues.ezfacility.com
DTSTAMP:20260424T044325Z
CREATED:20260424T044325Z
DTSTART:20251004T041500Z
DTEND:20251004T051500Z
LOCATION:Field 4
CONTACT:
SUMMARY:Bad Boys VS. Los Retirados
DESCRIPTION:League Name: 2025 S4 Fri Men's - Aug 15\nGame Type: Regular\nGa
 me Status: Complete\nHome Team: Bad Boys\nAway Team: Los Retirados\nHome S
 core: 8\nAway Score: 14
END:VEVENT
BEGIN:VEVENT
UID:16779814@ezleagues.ezfacility.com
DTSTAMP:20260424T044325Z
CREATED:20260424T044325Z
DTSTART:20251018T031500Z
DTEND:20251018T041500Z
LOCATION:Field 3
CONTACT:
SUMMARY:Team Merica/CT Athletics VS. Los Retirados
DESCRIPTION:League Name: 2025 S4 Fri Men's - Aug 15\nGame Type: Postseason\
 nGame Status: Complete\nHome Team: Team Merica/CT Athletics\nAway Team: Lo
 s Retirados\nHome Score: 11\nAway Score: 14
END:VEVENT
END:VCALENDAR
