BEGIN:VCALENDAR
VERSION:2.0
PRODID:-//EZFacility.com, Inc.//EZL 2.5.5.28621
BEGIN:VEVENT
UID:16583093@ezleagues.ezfacility.com
DTSTAMP:20260424T044136Z
CREATED:20260424T044136Z
DTSTART:20250812T000000Z
DTEND:20250812T010000Z
LOCATION:Field 2 BLD
CONTACT:
SUMMARY:Guerrero VS. Red Bull
DESCRIPTION:League Name: LUNES LIBRE 8/11\nGame Type: Regular\nGame Status:
  Complete\nHome Team: Guerrero\nAway Team: Red Bull\nHome Score: 11\nAway 
 Score: 12
END:VEVENT
BEGIN:VEVENT
UID:16594975@ezleagues.ezfacility.com
DTSTAMP:20260424T044136Z
CREATED:20260424T044136Z
DTSTART:20250819T010000Z
DTEND:20250819T020000Z
LOCATION:Field 2 BLD
CONTACT:
SUMMARY:Guerrero VS. LA FC
DESCRIPTION:League Name: LUNES LIBRE 8/11\nGame Type: Regular\nGame Status:
  Complete\nHome Team: Guerrero\nAway Team: LA FC\nHome Score: 12\nAway Sco
 re: 8
END:VEVENT
BEGIN:VEVENT
UID:16677718@ezleagues.ezfacility.com
DTSTAMP:20260424T044136Z
CREATED:20260424T044136Z
DTSTART:20250909T010000Z
DTEND:20250909T020000Z
LOCATION:Field 2 BLD
CONTACT:
SUMMARY:Dptvo. Correcaminos VS. Guerrero
DESCRIPTION:League Name: LUNES LIBRE 8/11\nGame Type: Regular\nGame Status:
  Complete\nHome Team: Dptvo. Correcaminos\nAway Team: Guerrero\nHome Score
 : 9\nAway Score: 12
END:VEVENT
BEGIN:VEVENT
UID:16722738@ezleagues.ezfacility.com
DTSTAMP:20260424T044136Z
CREATED:20260424T044136Z
DTSTART:20250916T010000Z
DTEND:20250916T020000Z
LOCATION:Field 1 BLD
CONTACT:
SUMMARY:Guerrero VS. Extraditables
DESCRIPTION:League Name: LUNES LIBRE 8/11\nGame Type: Regular\nGame Status:
  Complete\nHome Team: Guerrero\nAway Team: Extraditables\nHome Score: 14\n
 Away Score: 9
END:VEVENT
BEGIN:VEVENT
UID:16726079@ezleagues.ezfacility.com
DTSTAMP:20260424T044136Z
CREATED:20260424T044136Z
DTSTART:20250923T000000Z
DTEND:20250923T010000Z
LOCATION:Field 5 BLD
CONTACT:
SUMMARY:Bayern FC (Dptvo Mary) VS. Guerrero
DESCRIPTION:League Name: LUNES LIBRE 8/11\nGame Type: Regular\nGame Status:
  Complete\nHome Team: Bayern FC (Dptvo Mary)\nAway Team: Guerrero\nHome Sc
 ore: 13\nAway Score: 8
END:VEVENT
BEGIN:VEVENT
UID:16747910@ezleagues.ezfacility.com
DTSTAMP:20260424T044136Z
CREATED:20260424T044136Z
DTSTART:20250930T000000Z
DTEND:20250930T010000Z
LOCATION:Field 4 BLD
CONTACT:
SUMMARY:OUT Roma VS. Guerrero
DESCRIPTION:League Name: LUNES LIBRE 8/11\nGame Type: Regular\nGame Status:
  Complete\nHome Team: OUT Roma\nAway Team: Guerrero\nHome Score: 10\nAway 
 Score: 13
END:VEVENT
BEGIN:VEVENT
UID:16765700@ezleagues.ezfacility.com
DTSTAMP:20260424T044136Z
CREATED:20260424T044136Z
DTSTART:20251007T000000Z
DTEND:20251007T010000Z
LOCATION:Field 1 BLD
CONTACT:
SUMMARY:Guerrero VS. OUT Pachuca
DESCRIPTION:League Name: LUNES LIBRE 8/11\nGame Type: Regular\nGame Status:
  Complete\nHome Team: Guerrero\nAway Team: OUT Pachuca\nHome Score: 1\nAwa
 y Score: 0
END:VEVENT
BEGIN:VEVENT
UID:16782137@ezleagues.ezfacility.com
DTSTAMP:20260424T044136Z
CREATED:20260424T044136Z
DTSTART:20251014T000000Z
DTEND:20251014T010000Z
LOCATION:Field 3 BLD
CONTACT:
SUMMARY:Guerrero VS. Z Fighters
DESCRIPTION:League Name: LUNES LIBRE 8/11\nGame Type: Regular\nGame Status:
  Complete\nHome Team: Guerrero\nAway Team: Z Fighters\nHome Score: 26\nAwa
 y Score: 11
END:VEVENT
BEGIN:VEVENT
UID:16806087@ezleagues.ezfacility.com
DTSTAMP:20260424T044136Z
CREATED:20260424T044136Z
DTSTART:20251021T010000Z
DTEND:20251021T020000Z
LOCATION:Field 5 BLD
CONTACT:
SUMMARY:Guerrero VS. Mexico FC
DESCRIPTION:League Name: LUNES LIBRE 8/11\nGame Type: Regular\nGame Status:
  Complete\nHome Team: Guerrero\nAway Team: Mexico FC\nHome Score: 9\nAway 
 Score: 8
END:VEVENT
BEGIN:VEVENT
UID:16823511@ezleagues.ezfacility.com
DTSTAMP:20260424T044136Z
CREATED:20260424T044136Z
DTSTART:20251028T010000Z
DTEND:20251028T020000Z
LOCATION:Field 5 BLD
CONTACT:
SUMMARY:Red Bull VS. Guerrero
DESCRIPTION:League Name: LUNES LIBRE 8/11\nGame Type: Regular\nGame Status:
  Complete\nHome Team: Red Bull\nAway Team: Guerrero\nHome Score: 3\nAway S
 core: 12
END:VEVENT
BEGIN:VEVENT
UID:16846794@ezleagues.ezfacility.com
DTSTAMP:20260424T044136Z
CREATED:20260424T044136Z
DTSTART:20251104T020000Z
DTEND:20251104T030000Z
LOCATION:Field 2 BLD
CONTACT:
SUMMARY:Guerrero VS. Guanajuato
DESCRIPTION:League Name: LUNES LIBRE 8/11\nGame Type: Regular\nGame Status:
  Complete\nHome Team: Guerrero\nAway Team: Guanajuato\nHome Score: 11\nAwa
 y Score: 15
END:VEVENT
BEGIN:VEVENT
UID:16848905@ezleagues.ezfacility.com
DTSTAMP:20260424T044136Z
CREATED:20260424T044136Z
DTSTART:20251111T020000Z
DTEND:20251111T030000Z
LOCATION:Field 2 BLD
CONTACT:
SUMMARY:Real Villa Allende VS. Guerrero
DESCRIPTION:League Name: LUNES LIBRE 8/11\nGame Type: Regular\nGame Status:
  Complete\nHome Team: Real Villa Allende\nAway Team: Guerrero\nHome Score:
  6\nAway Score: 8
END:VEVENT
BEGIN:VEVENT
UID:16866262@ezleagues.ezfacility.com
DTSTAMP:20260424T044136Z
CREATED:20260424T044136Z
DTSTART:20251118T020000Z
DTEND:20251118T030000Z
LOCATION:Field 4 BLD
CONTACT:
SUMMARY:Guerrero VS. Extraditables
DESCRIPTION:League Name: LUNES LIBRE 8/11\nGame Type: Regular\nGame Status:
  Complete\nHome Team: Guerrero\nAway Team: Extraditables\nHome Score: 12\n
 Away Score: 14
END:VEVENT
END:VCALENDAR
