BEGIN:VCALENDAR
VERSION:2.0
PRODID:-//EZFacility.com, Inc.//EZL 2.5.5.28621
BEGIN:VEVENT
UID:16584385@ezleagues.ezfacility.com
DTSTAMP:20260426T033720Z
CREATED:20260426T033720Z
DTSTART:20250903T224500Z
DTEND:20250903T234500Z
LOCATION:RK Smith GYM
CONTACT:
SUMMARY:Mimosa-McStay VS. Destrehan-Hempel
DESCRIPTION:League Name: 2025 Volleyball 9-11yr. Division \nGame Type: Regu
 lar\nGame Status: Complete\nHome Team: Mimosa-McStay\nAway Team: Destrehan
 -Hempel\nHome Score: 1\nAway Score: 2
END:VEVENT
BEGIN:VEVENT
UID:16584352@ezleagues.ezfacility.com
DTSTAMP:20260426T033720Z
CREATED:20260426T033720Z
DTSTART:20250904T234500Z
DTEND:20250905T004500Z
LOCATION:RK Smith GYM
CONTACT:
SUMMARY:Mimosa-McStay VS. Destrehan-Prout
DESCRIPTION:League Name: 2025 Volleyball 9-11yr. Division \nGame Type: Regu
 lar\nGame Status: Complete\nHome Team: Mimosa-McStay\nAway Team: Destrehan
 -Prout\nHome Score: 2\nAway Score: 1
END:VEVENT
BEGIN:VEVENT
UID:16584347@ezleagues.ezfacility.com
DTSTAMP:20260426T033720Z
CREATED:20260426T033720Z
DTSTART:20250911T004500Z
DTEND:20250911T014500Z
LOCATION:EAD Gym Court 1
CONTACT:
SUMMARY:Destrehan-Vial VS. Mimosa-McStay
DESCRIPTION:League Name: 2025 Volleyball 9-11yr. Division \nGame Type: Regu
 lar\nGame Status: Complete\nHome Team: Destrehan-Vial\nAway Team: Mimosa-M
 cStay\nHome Score: 0\nAway Score: 3
END:VEVENT
BEGIN:VEVENT
UID:16584364@ezleagues.ezfacility.com
DTSTAMP:20260426T033720Z
CREATED:20260426T033720Z
DTSTART:20250911T224500Z
DTEND:20250911T234500Z
LOCATION:EAD Gym Court 1
CONTACT:
SUMMARY:Mimosa-Muller VS. Mimosa-McStay
DESCRIPTION:League Name: 2025 Volleyball 9-11yr. Division \nGame Type: Regu
 lar\nGame Status: Complete\nHome Team: Mimosa-Muller\nAway Team: Mimosa-Mc
 Stay\nHome Score: 2\nAway Score: 1
END:VEVENT
BEGIN:VEVENT
UID:16584357@ezleagues.ezfacility.com
DTSTAMP:20260426T033720Z
CREATED:20260426T033720Z
DTSTART:20250917T224500Z
DTEND:20250917T234500Z
LOCATION:EAD Gym Court 1
CONTACT:
SUMMARY:Mimosa-McStay VS. Luling-King
DESCRIPTION:League Name: 2025 Volleyball 9-11yr. Division \nGame Type: Regu
 lar\nGame Status: Complete\nHome Team: Mimosa-McStay\nAway Team: Luling-Ki
 ng\nHome Score: 2\nAway Score: 1
END:VEVENT
BEGIN:VEVENT
UID:16584378@ezleagues.ezfacility.com
DTSTAMP:20260426T033720Z
CREATED:20260426T033720Z
DTSTART:20250918T224500Z
DTEND:20250918T234500Z
LOCATION:EAD Gym Court 1
CONTACT:
SUMMARY:Mimosa-McStay VS. Luling-James
DESCRIPTION:League Name: 2025 Volleyball 9-11yr. Division \nGame Type: Regu
 lar\nGame Status: Complete\nHome Team: Mimosa-McStay\nAway Team: Luling-Ja
 mes\nHome Score: 3\nAway Score: 0
END:VEVENT
BEGIN:VEVENT
UID:16584371@ezleagues.ezfacility.com
DTSTAMP:20260426T033720Z
CREATED:20260426T033720Z
DTSTART:20250925T004500Z
DTEND:20250925T014500Z
LOCATION:Landry GYM
CONTACT:
SUMMARY:Mimosa-McStay VS. Mimosa-Wedge
DESCRIPTION:League Name: 2025 Volleyball 9-11yr. Division \nGame Type: Regu
 lar\nGame Status: Complete\nHome Team: Mimosa-McStay\nAway Team: Mimosa-We
 dge\nHome Score: 2\nAway Score: 1
END:VEVENT
BEGIN:VEVENT
UID:16584392@ezleagues.ezfacility.com
DTSTAMP:20260426T033720Z
CREATED:20260426T033720Z
DTSTART:20250925T234500Z
DTEND:20250926T004500Z
LOCATION:Landry GYM
CONTACT:
SUMMARY:Norco-St. Pierre  VS. Mimosa-McStay
DESCRIPTION:League Name: 2025 Volleyball 9-11yr. Division \nGame Type: Regu
 lar\nGame Status: Complete\nHome Team: Norco-St. Pierre \nAway Team: Mimos
 a-McStay\nHome Score: 3\nAway Score: 0
END:VEVENT
BEGIN:VEVENT
UID:16584398@ezleagues.ezfacility.com
DTSTAMP:20260426T033720Z
CREATED:20260426T033720Z
DTSTART:20251008T234500Z
DTEND:20251009T004500Z
LOCATION:EAD Gym Court 1
CONTACT:
SUMMARY:Mimosa-Palmer VS. Mimosa-McStay
DESCRIPTION:League Name: 2025 Volleyball 9-11yr. Division \nGame Type: Regu
 lar\nGame Status: Complete\nHome Team: Mimosa-Palmer\nAway Team: Mimosa-Mc
 Stay\nHome Score: 0\nAway Score: 3
END:VEVENT
END:VCALENDAR
