BEGIN:VCALENDAR
VERSION:2.0
PRODID:-//EZFacility.com, Inc.//EZL 2.5.5.28621
BEGIN:VEVENT
UID:16584862@ezleagues.ezfacility.com
DTSTAMP:20260426T015258Z
CREATED:20260426T015258Z
DTSTART:20250904T233000Z
DTEND:20250905T003000Z
LOCATION:UCB Field
CONTACT:
SUMMARY:Ducks/Rachel VS. Horned Frogs/Peterson
DESCRIPTION:League Name: 2025 Traction FNA Fall Flag Football League - 3rd 
 Grade Division\nGame Type: Regular\nGame Status: Pending\nHome Team: Ducks
 /Rachel\nAway Team: Horned Frogs/Peterson\n
END:VEVENT
BEGIN:VEVENT
UID:16584866@ezleagues.ezfacility.com
DTSTAMP:20260426T015258Z
CREATED:20260426T015258Z
DTSTART:20250911T233000Z
DTEND:20250912T003000Z
LOCATION:Relief Windows Right Field
CONTACT:
SUMMARY:Ducks/Rachel VS. Volunteers/Kosienski
DESCRIPTION:League Name: 2025 Traction FNA Fall Flag Football League - 3rd 
 Grade Division\nGame Type: Regular\nGame Status: Complete\nHome Team: Duck
 s/Rachel\nAway Team: Volunteers/Kosienski\nHome Score: 6\nAway Score: 12
END:VEVENT
BEGIN:VEVENT
UID:16584875@ezleagues.ezfacility.com
DTSTAMP:20260426T015258Z
CREATED:20260426T015258Z
DTSTART:20250918T233000Z
DTEND:20250919T003000Z
LOCATION:UCB Field
CONTACT:
SUMMARY:Ducks/Rachel VS. Tigers/Guillot
DESCRIPTION:League Name: 2025 Traction FNA Fall Flag Football League - 3rd 
 Grade Division\nGame Type: Regular\nGame Status: Complete\nHome Team: Duck
 s/Rachel\nAway Team: Tigers/Guillot\nHome Score: 7\nAway Score: 13
END:VEVENT
BEGIN:VEVENT
UID:16584882@ezleagues.ezfacility.com
DTSTAMP:20260426T015258Z
CREATED:20260426T015258Z
DTSTART:20250925T233000Z
DTEND:20250926T003000Z
LOCATION:UCB Field
CONTACT:
SUMMARY:Ducks/Rachel VS. Gators/Collette
DESCRIPTION:League Name: 2025 Traction FNA Fall Flag Football League - 3rd 
 Grade Division\nGame Type: Regular\nGame Status: Complete\nHome Team: Duck
 s/Rachel\nAway Team: Gators/Collette\nHome Score: 36\nAway Score: 26
END:VEVENT
BEGIN:VEVENT
UID:16584884@ezleagues.ezfacility.com
DTSTAMP:20260426T015258Z
CREATED:20260426T015258Z
DTSTART:20251002T233000Z
DTEND:20251003T003000Z
LOCATION:Parish Construction Field
CONTACT:
SUMMARY:Buckeyes/Koch  Miller VS. Ducks/Rachel
DESCRIPTION:League Name: 2025 Traction FNA Fall Flag Football League - 3rd 
 Grade Division\nGame Type: Regular\nGame Status: Complete\nHome Team: Buck
 eyes/Koch  Miller\nAway Team: Ducks/Rachel\nHome Score: 6\nAway Score: 27
END:VEVENT
BEGIN:VEVENT
UID:16584894@ezleagues.ezfacility.com
DTSTAMP:20260426T015258Z
CREATED:20260426T015258Z
DTSTART:20251010T003000Z
DTEND:20251010T013000Z
LOCATION:UCB Field
CONTACT:
SUMMARY:Fighting Irish/Grissom VS. Ducks/Rachel
DESCRIPTION:League Name: 2025 Traction FNA Fall Flag Football League - 3rd 
 Grade Division\nGame Type: Regular\nGame Status: Complete\nHome Team: Figh
 ting Irish/Grissom\nAway Team: Ducks/Rachel\nHome Score: 13\nAway Score: 2
 5
END:VEVENT
BEGIN:VEVENT
UID:16584899@ezleagues.ezfacility.com
DTSTAMP:20260426T015258Z
CREATED:20260426T015258Z
DTSTART:20251017T003000Z
DTEND:20251017T013000Z
LOCATION:Parish Construction Field
CONTACT:
SUMMARY:Longhorns/Wascom  Lovell VS. Ducks/Rachel
DESCRIPTION:League Name: 2025 Traction FNA Fall Flag Football League - 3rd 
 Grade Division\nGame Type: Regular\nGame Status: Complete\nHome Team: Long
 horns/Wascom  Lovell\nAway Team: Ducks/Rachel\nHome Score: 6\nAway Score: 
 47
END:VEVENT
BEGIN:VEVENT
UID:16584904@ezleagues.ezfacility.com
DTSTAMP:20260426T015258Z
CREATED:20260426T015258Z
DTSTART:20251024T003000Z
DTEND:20251024T013000Z
LOCATION:UCB Field
CONTACT:
SUMMARY:Wolverines/Boyd VS. Ducks/Rachel
DESCRIPTION:League Name: 2025 Traction FNA Fall Flag Football League - 3rd 
 Grade Division\nGame Type: Regular\nGame Status: Complete\nHome Team: Wolv
 erines/Boyd\nAway Team: Ducks/Rachel\nHome Score: 18\nAway Score: 34
END:VEVENT
BEGIN:VEVENT
UID:16584910@ezleagues.ezfacility.com
DTSTAMP:20260426T015258Z
CREATED:20260426T015258Z
DTSTART:20251031T003000Z
DTEND:20251031T013000Z
LOCATION:UCB Field
CONTACT:
SUMMARY:Hurricanes/Ashby VS. Ducks/Rachel
DESCRIPTION:League Name: 2025 Traction FNA Fall Flag Football League - 3rd 
 Grade Division\nGame Type: Regular\nGame Status: Complete\nHome Team: Hurr
 icanes/Ashby\nAway Team: Ducks/Rachel\nHome Score: 26\nAway Score: 6
END:VEVENT
END:VCALENDAR
