BEGIN:VCALENDAR
VERSION:2.0
PRODID:-//EZFacility.com, Inc.//EZL 2.5.5.28621
BEGIN:VEVENT
UID:16586441@ezleagues.ezfacility.com
DTSTAMP:20260424T043911Z
CREATED:20260424T043911Z
DTSTART:20250826T025000Z
DTEND:20250826T035000Z
LOCATION:RCF East - Barcelona
CONTACT:
SUMMARY:Rudeboys VS. Dirty Dancers
DESCRIPTION:League Name: RCF East Fall AL 2025 -East Weekday-Mens D4 Silver
  (M/F)\nGame Type: Regular\nGame Status: Complete\nHome Team: Rudeboys\nAw
 ay Team: Dirty Dancers\nHome Score: 3\nAway Score: 10
END:VEVENT
BEGIN:VEVENT
UID:16586465@ezleagues.ezfacility.com
DTSTAMP:20260424T043911Z
CREATED:20260424T043911Z
DTSTART:20250909T021000Z
DTEND:20250909T031000Z
LOCATION:RCF East - Portland
CONTACT:
SUMMARY:Rudeboys VS. Los Gansos
DESCRIPTION:League Name: RCF East Fall AL 2025 -East Weekday-Mens D4 Silver
  (M/F)\nGame Type: Regular\nGame Status: Complete\nHome Team: Rudeboys\nAw
 ay Team: Los Gansos\nHome Score: 7\nAway Score: 7
END:VEVENT
BEGIN:VEVENT
UID:16586477@ezleagues.ezfacility.com
DTSTAMP:20260424T043911Z
CREATED:20260424T043911Z
DTSTART:20250920T041000Z
DTEND:20250920T051000Z
LOCATION:RCF East - Portland
CONTACT:
SUMMARY:Rudeboys VS. AL FC
DESCRIPTION:League Name: RCF East Fall AL 2025 -East Weekday-Mens D4 Silver
  (M/F)\nGame Type: Regular\nGame Status: Complete\nHome Team: Rudeboys\nAw
 ay Team: AL FC\nHome Score: 4\nAway Score: 3
END:VEVENT
BEGIN:VEVENT
UID:16586491@ezleagues.ezfacility.com
DTSTAMP:20260424T043911Z
CREATED:20260424T043911Z
DTSTART:20250923T051000Z
DTEND:20250923T061000Z
LOCATION:RCF East - Portland
CONTACT:
SUMMARY:Rudeboys VS. Calm SC
DESCRIPTION:League Name: RCF East Fall AL 2025 -East Weekday-Mens D4 Silver
  (M/F)\nGame Type: Regular\nGame Status: Complete\nHome Team: Rudeboys\nAw
 ay Team: Calm SC\nHome Score: 9\nAway Score: 6
END:VEVENT
BEGIN:VEVENT
UID:16586453@ezleagues.ezfacility.com
DTSTAMP:20260424T043911Z
CREATED:20260424T043911Z
DTSTART:20250927T035000Z
DTEND:20250927T045000Z
LOCATION:RCF East - Barcelona
CONTACT:
SUMMARY:Asturias Fc VS. Rudeboys
DESCRIPTION:League Name: RCF East Fall AL 2025 -East Weekday-Mens D4 Silver
  (M/F)\nGame Type: Regular\nGame Status: Complete\nHome Team: Asturias Fc\
 nAway Team: Rudeboys\nHome Score: 4\nAway Score: 10
END:VEVENT
BEGIN:VEVENT
UID:16586505@ezleagues.ezfacility.com
DTSTAMP:20260424T043911Z
CREATED:20260424T043911Z
DTSTART:20250930T033000Z
DTEND:20250930T043000Z
LOCATION:RCF East - Rio
CONTACT:
SUMMARY:BSFC VS. Rudeboys
DESCRIPTION:League Name: RCF East Fall AL 2025 -East Weekday-Mens D4 Silver
  (M/F)\nGame Type: Regular\nGame Status: Complete\nHome Team: BSFC\nAway T
 eam: Rudeboys\nHome Score: 7\nAway Score: 6
END:VEVENT
BEGIN:VEVENT
UID:16586519@ezleagues.ezfacility.com
DTSTAMP:20260424T043911Z
CREATED:20260424T043911Z
DTSTART:20251007T031000Z
DTEND:20251007T041000Z
LOCATION:RCF East - Portland
CONTACT:
SUMMARY:Rudeboys VS. Green and Gold
DESCRIPTION:League Name: RCF East Fall AL 2025 -East Weekday-Mens D4 Silver
  (M/F)\nGame Type: Regular\nGame Status: Complete\nHome Team: Rudeboys\nAw
 ay Team: Green and Gold\nHome Score: 4\nAway Score: 7
END:VEVENT
BEGIN:VEVENT
UID:16586532@ezleagues.ezfacility.com
DTSTAMP:20260424T043911Z
CREATED:20260424T043911Z
DTSTART:20251014T013000Z
DTEND:20251014T023000Z
LOCATION:RCF East - Rio
CONTACT:
SUMMARY:Dirty Dancers VS. Rudeboys
DESCRIPTION:League Name: RCF East Fall AL 2025 -East Weekday-Mens D4 Silver
  (M/F)\nGame Type: Regular\nGame Status: Complete\nHome Team: Dirty Dancer
 s\nAway Team: Rudeboys\nHome Score: 9\nAway Score: 8
END:VEVENT
BEGIN:VEVENT
UID:16586544@ezleagues.ezfacility.com
DTSTAMP:20260424T043911Z
CREATED:20260424T043911Z
DTSTART:20251021T013000Z
DTEND:20251021T023000Z
LOCATION:RCF East - Rio
CONTACT:
SUMMARY:Asturias Fc VS. Rudeboys
DESCRIPTION:League Name: RCF East Fall AL 2025 -East Weekday-Mens D4 Silver
  (M/F)\nGame Type: Regular\nGame Status: Complete\nHome Team: Asturias Fc\
 nAway Team: Rudeboys\nHome Score: 6\nAway Score: 11
END:VEVENT
BEGIN:VEVENT
UID:16586556@ezleagues.ezfacility.com
DTSTAMP:20260424T043911Z
CREATED:20260424T043911Z
DTSTART:20251028T053000Z
DTEND:20251028T063000Z
LOCATION:Cancellation
CONTACT:
SUMMARY:Los Gansos VS. Rudeboys
DESCRIPTION:League Name: RCF East Fall AL 2025 -East Weekday-Mens D4 Silver
  (M/F)\nGame Type: Regular\nGame Status: Complete\nHome Team: Los Gansos\n
 Away Team: Rudeboys\nHome Score: 0\nAway Score: 7
END:VEVENT
END:VCALENDAR
