BEGIN:VCALENDAR
VERSION:2.0
PRODID:-//EZFacility.com, Inc.//EZL 2.5.5.28621
BEGIN:VEVENT
UID:16651362@ezleagues.ezfacility.com
DTSTAMP:20260424T043209Z
CREATED:20260424T043209Z
DTSTART:20250904T020000Z
DTEND:20250904T030000Z
LOCATION:Field 1
CONTACT:
SUMMARY:Los Caguamos  VS. Jaguares
DESCRIPTION:League Name: Wednesday Men's Open\nGame Type: Regular\nGame Sta
 tus: Complete\nHome Team: Los Caguamos \nAway Team: Jaguares\nHome Score: 
 3\nAway Score: 5
END:VEVENT
BEGIN:VEVENT
UID:16651368@ezleagues.ezfacility.com
DTSTAMP:20260424T043209Z
CREATED:20260424T043209Z
DTSTART:20250911T030000Z
DTEND:20250911T040000Z
LOCATION:Field 2
CONTACT:
SUMMARY:Jaguares VS. Deportivo Livingston
DESCRIPTION:League Name: Wednesday Men's Open\nGame Type: Regular\nGame Sta
 tus: Complete\nHome Team: Jaguares\nAway Team: Deportivo Livingston\nHome 
 Score: 6\nAway Score: 5
END:VEVENT
BEGIN:VEVENT
UID:16651374@ezleagues.ezfacility.com
DTSTAMP:20260424T043209Z
CREATED:20260424T043209Z
DTSTART:20250918T020000Z
DTEND:20250918T030000Z
LOCATION:Field 1
CONTACT:
SUMMARY:Jaguares VS. Zorra FC
DESCRIPTION:League Name: Wednesday Men's Open\nGame Type: Regular\nGame Sta
 tus: Complete\nHome Team: Jaguares\nAway Team: Zorra FC\nHome Score: 2\nAw
 ay Score: 5
END:VEVENT
BEGIN:VEVENT
UID:16651380@ezleagues.ezfacility.com
DTSTAMP:20260424T043209Z
CREATED:20260424T043209Z
DTSTART:20250925T020000Z
DTEND:20250925T030000Z
LOCATION:Field 1
CONTACT:
SUMMARY:Jaguares VS. San Jose FC
DESCRIPTION:League Name: Wednesday Men's Open\nGame Type: Regular\nGame Sta
 tus: Complete\nHome Team: Jaguares\nAway Team: San Jose FC\nHome Score: 8\
 nAway Score: 1
END:VEVENT
BEGIN:VEVENT
UID:16651386@ezleagues.ezfacility.com
DTSTAMP:20260424T043209Z
CREATED:20260424T043209Z
DTSTART:20251002T030000Z
DTEND:20251002T040000Z
LOCATION:Field 1
CONTACT:
SUMMARY:Jaguares VS. WSM Boys
DESCRIPTION:League Name: Wednesday Men's Open\nGame Type: Regular\nGame Sta
 tus: Complete\nHome Team: Jaguares\nAway Team: WSM Boys\nHome Score: 1\nAw
 ay Score: 14
END:VEVENT
BEGIN:VEVENT
UID:16651391@ezleagues.ezfacility.com
DTSTAMP:20260424T043209Z
CREATED:20260424T043209Z
DTSTART:20251009T030000Z
DTEND:20251009T040000Z
LOCATION:Field 2
CONTACT:
SUMMARY:New Generation VS. Jaguares
DESCRIPTION:League Name: Wednesday Men's Open\nGame Type: Regular\nGame Sta
 tus: Complete\nHome Team: New Generation\nAway Team: Jaguares\nHome Score:
  5\nAway Score: 5
END:VEVENT
BEGIN:VEVENT
UID:16651395@ezleagues.ezfacility.com
DTSTAMP:20260424T043209Z
CREATED:20260424T043209Z
DTSTART:20251016T030000Z
DTEND:20251016T040000Z
LOCATION:Field 1
CONTACT:
SUMMARY:los Galacticos VS. Jaguares
DESCRIPTION:League Name: Wednesday Men's Open\nGame Type: Regular\nGame Sta
 tus: Complete\nHome Team: los Galacticos\nAway Team: Jaguares\nHome Score:
  5\nAway Score: 1
END:VEVENT
BEGIN:VEVENT
UID:16651399@ezleagues.ezfacility.com
DTSTAMP:20260424T043209Z
CREATED:20260424T043209Z
DTSTART:20251023T030000Z
DTEND:20251023T040000Z
LOCATION:Field 2
CONTACT:
SUMMARY:Los Favoritos VS. Jaguares
DESCRIPTION:League Name: Wednesday Men's Open\nGame Type: Regular\nGame Sta
 tus: Complete\nHome Team: Los Favoritos\nAway Team: Jaguares\nHome Score: 
 13\nAway Score: 4
END:VEVENT
END:VCALENDAR
