BEGIN:VCALENDAR
VERSION:2.0
PRODID:-//EZFacility.com, Inc.//EZL 2.5.5.28621
BEGIN:VEVENT
UID:16651363@ezleagues.ezfacility.com
DTSTAMP:20260424T044132Z
CREATED:20260424T044132Z
DTSTART:20250904T030000Z
DTEND:20250904T040000Z
LOCATION:Field 1
CONTACT:
SUMMARY:WSM Boys VS. New Generation
DESCRIPTION:League Name: Wednesday Men's Open\nGame Type: Regular\nGame Sta
 tus: Complete\nHome Team: WSM Boys\nAway Team: New Generation\nHome Score:
  5\nAway Score: 7
END:VEVENT
BEGIN:VEVENT
UID:16651367@ezleagues.ezfacility.com
DTSTAMP:20260424T044132Z
CREATED:20260424T044132Z
DTSTART:20250911T020000Z
DTEND:20250911T030000Z
LOCATION:Field 2
CONTACT:
SUMMARY:Los Caguamos  VS. New Generation
DESCRIPTION:League Name: Wednesday Men's Open\nGame Type: Regular\nGame Sta
 tus: Complete\nHome Team: Los Caguamos \nAway Team: New Generation\nHome S
 core: 5\nAway Score: 8
END:VEVENT
BEGIN:VEVENT
UID:16651373@ezleagues.ezfacility.com
DTSTAMP:20260424T044132Z
CREATED:20260424T044132Z
DTSTART:20250918T040000Z
DTEND:20250918T050000Z
LOCATION:Field 1
CONTACT:
SUMMARY:New Generation VS. los Galacticos
DESCRIPTION:League Name: Wednesday Men's Open\nGame Type: Regular\nGame Sta
 tus: Complete\nHome Team: New Generation\nAway Team: los Galacticos\nHome 
 Score: 6\nAway Score: 6
END:VEVENT
BEGIN:VEVENT
UID:16651379@ezleagues.ezfacility.com
DTSTAMP:20260424T044132Z
CREATED:20260424T044132Z
DTSTART:20250925T040000Z
DTEND:20250925T050000Z
LOCATION:Field 1
CONTACT:
SUMMARY:New Generation VS. Los Favoritos
DESCRIPTION:League Name: Wednesday Men's Open\nGame Type: Regular\nGame Sta
 tus: Complete\nHome Team: New Generation\nAway Team: Los Favoritos\nHome S
 core: 5\nAway Score: 0
END:VEVENT
BEGIN:VEVENT
UID:16651385@ezleagues.ezfacility.com
DTSTAMP:20260424T044132Z
CREATED:20260424T044132Z
DTSTART:20251002T030000Z
DTEND:20251002T040000Z
LOCATION:Field 2
CONTACT:
SUMMARY:New Generation VS. Gama FC
DESCRIPTION:League Name: Wednesday Men's Open\nGame Type: Regular\nGame Sta
 tus: Complete\nHome Team: New Generation\nAway Team: Gama FC\nHome Score: 
 6\nAway Score: 2
END:VEVENT
BEGIN:VEVENT
UID:16651391@ezleagues.ezfacility.com
DTSTAMP:20260424T044132Z
CREATED:20260424T044132Z
DTSTART:20251009T030000Z
DTEND:20251009T040000Z
LOCATION:Field 2
CONTACT:
SUMMARY:New Generation VS. Jaguares
DESCRIPTION:League Name: Wednesday Men's Open\nGame Type: Regular\nGame Sta
 tus: Complete\nHome Team: New Generation\nAway Team: Jaguares\nHome Score:
  5\nAway Score: 5
END:VEVENT
BEGIN:VEVENT
UID:16651396@ezleagues.ezfacility.com
DTSTAMP:20260424T044132Z
CREATED:20260424T044132Z
DTSTART:20251016T020000Z
DTEND:20251016T030000Z
LOCATION:Field 1
CONTACT:
SUMMARY:Deportivo Livingston VS. New Generation
DESCRIPTION:League Name: Wednesday Men's Open\nGame Type: Regular\nGame Sta
 tus: Complete\nHome Team: Deportivo Livingston\nAway Team: New Generation\
 nHome Score: 5\nAway Score: 9
END:VEVENT
BEGIN:VEVENT
UID:16651400@ezleagues.ezfacility.com
DTSTAMP:20260424T044132Z
CREATED:20260424T044132Z
DTSTART:20251023T020000Z
DTEND:20251023T030000Z
LOCATION:Field 1
CONTACT:
SUMMARY:Zorra FC VS. New Generation
DESCRIPTION:League Name: Wednesday Men's Open\nGame Type: Regular\nGame Sta
 tus: Complete\nHome Team: Zorra FC\nAway Team: New Generation\nHome Score:
  0\nAway Score: 10
END:VEVENT
BEGIN:VEVENT
UID:16805435@ezleagues.ezfacility.com
DTSTAMP:20260424T044132Z
CREATED:20260424T044132Z
DTSTART:20251030T020000Z
DTEND:20251030T024800Z
LOCATION:Field 1
CONTACT:
SUMMARY:New Generation VS. WSM Boys
DESCRIPTION:League Name: Wednesday Men's Open\nGame Type: Postseason\nGame 
 Status: Complete\nHome Team: New Generation\nAway Team: WSM Boys\nHome Sco
 re: 8\nAway Score: 1
END:VEVENT
BEGIN:VEVENT
UID:16820817@ezleagues.ezfacility.com
DTSTAMP:20260424T044132Z
CREATED:20260424T044132Z
DTSTART:20251106T040000Z
DTEND:20251106T044800Z
LOCATION:Field 1
CONTACT:
SUMMARY:New Generation VS. Los Favoritos
DESCRIPTION:League Name: Wednesday Men's Open\nGame Type: Postseason\nGame 
 Status: Complete\nHome Team: New Generation\nAway Team: Los Favoritos\nHom
 e Score: 0\nAway Score: 6
END:VEVENT
END:VCALENDAR
