BEGIN:VCALENDAR
VERSION:2.0
PRODID:-//EZFacility.com, Inc.//EZL 2.5.5.28621
BEGIN:VEVENT
UID:16657122@ezleagues.ezfacility.com
DTSTAMP:20260424T043227Z
CREATED:20260424T043227Z
DTSTART:20250905T030000Z
DTEND:20250905T040000Z
LOCATION:Field 2
CONTACT:
SUMMARY:C.F Retro Strikers VS. Cali F.C.
DESCRIPTION:League Name: Men's Over 40 Thursdays\nGame Type: Regular\nGame 
 Status: Complete\nHome Team: C.F Retro Strikers\nAway Team: Cali F.C.\nHom
 e Score: 1\nAway Score: 2
END:VEVENT
BEGIN:VEVENT
UID:16657127@ezleagues.ezfacility.com
DTSTAMP:20260424T043227Z
CREATED:20260424T043227Z
DTSTART:20250912T040000Z
DTEND:20250912T050000Z
LOCATION:Field 1
CONTACT:
SUMMARY:Cali F.C. VS. Torrecillas F.C. 
DESCRIPTION:League Name: Men's Over 40 Thursdays\nGame Type: Regular\nGame 
 Status: Complete\nHome Team: Cali F.C.\nAway Team: Torrecillas F.C. \nHome
  Score: 1\nAway Score: 3
END:VEVENT
BEGIN:VEVENT
UID:16657131@ezleagues.ezfacility.com
DTSTAMP:20260424T043227Z
CREATED:20260424T043227Z
DTSTART:20250919T020000Z
DTEND:20250919T030000Z
LOCATION:Field 1
CONTACT:
SUMMARY:Jacona VS. Cali F.C.
DESCRIPTION:League Name: Men's Over 40 Thursdays\nGame Type: Regular\nGame 
 Status: Complete\nHome Team: Jacona\nAway Team: Cali F.C.\nHome Score: 1\n
 Away Score: 7
END:VEVENT
BEGIN:VEVENT
UID:16657134@ezleagues.ezfacility.com
DTSTAMP:20260424T043227Z
CREATED:20260424T043227Z
DTSTART:20250926T040000Z
DTEND:20250926T050000Z
LOCATION:Field 1
CONTACT:
SUMMARY:Extra Anejo VS. Cali F.C.
DESCRIPTION:League Name: Men's Over 40 Thursdays\nGame Type: Regular\nGame 
 Status: Complete\nHome Team: Extra Anejo\nAway Team: Cali F.C.\nHome Score
 : 5\nAway Score: 4
END:VEVENT
BEGIN:VEVENT
UID:16657137@ezleagues.ezfacility.com
DTSTAMP:20260424T043227Z
CREATED:20260424T043227Z
DTSTART:20251003T030000Z
DTEND:20251003T040000Z
LOCATION:Field 1
CONTACT:
SUMMARY:A.C Babylon VS. Cali F.C.
DESCRIPTION:League Name: Men's Over 40 Thursdays\nGame Type: Regular\nGame 
 Status: Complete\nHome Team: A.C Babylon\nAway Team: Cali F.C.\nHome Score
 : 5\nAway Score: 3
END:VEVENT
BEGIN:VEVENT
UID:16657140@ezleagues.ezfacility.com
DTSTAMP:20260424T043227Z
CREATED:20260424T043227Z
DTSTART:20251010T010000Z
DTEND:20251010T020000Z
LOCATION:Field 1
CONTACT:
SUMMARY:Cali F.C. VS. Cuervos F.C.
DESCRIPTION:League Name: Men's Over 40 Thursdays\nGame Type: Regular\nGame 
 Status: Complete\nHome Team: Cali F.C.\nAway Team: Cuervos F.C.\nHome Scor
 e: 2\nAway Score: 6
END:VEVENT
BEGIN:VEVENT
UID:16657145@ezleagues.ezfacility.com
DTSTAMP:20260424T043227Z
CREATED:20260424T043227Z
DTSTART:20251017T020000Z
DTEND:20251017T030000Z
LOCATION:Field 1
CONTACT:
SUMMARY:Cali F.C. VS. Artilleros
DESCRIPTION:League Name: Men's Over 40 Thursdays\nGame Type: Regular\nGame 
 Status: Complete\nHome Team: Cali F.C.\nAway Team: Artilleros\nHome Score:
  3\nAway Score: 4
END:VEVENT
BEGIN:VEVENT
UID:16657150@ezleagues.ezfacility.com
DTSTAMP:20260424T043227Z
CREATED:20260424T043227Z
DTSTART:20251024T010000Z
DTEND:20251024T020000Z
LOCATION:Field 1
CONTACT:
SUMMARY:Cali F.C. VS. C.F Retro Strikers
DESCRIPTION:League Name: Men's Over 40 Thursdays\nGame Type: Regular\nGame 
 Status: Complete\nHome Team: Cali F.C.\nAway Team: C.F Retro Strikers\nHom
 e Score: 9\nAway Score: 3
END:VEVENT
END:VCALENDAR
