BEGIN:VCALENDAR
VERSION:2.0
PRODID:-//EZFacility.com, Inc.//EZL 2.5.5.28621
BEGIN:VEVENT
UID:16657123@ezleagues.ezfacility.com
DTSTAMP:20260424T044143Z
CREATED:20260424T044143Z
DTSTART:20250905T040000Z
DTEND:20250905T050000Z
LOCATION:Field 1
CONTACT:
SUMMARY:A.C Babylon VS. Torrecillas F.C. 
DESCRIPTION:League Name: Men's Over 40 Thursdays\nGame Type: Regular\nGame 
 Status: Complete\nHome Team: A.C Babylon\nAway Team: Torrecillas F.C. \nHo
 me Score: 3\nAway Score: 3
END:VEVENT
BEGIN:VEVENT
UID:16657127@ezleagues.ezfacility.com
DTSTAMP:20260424T044143Z
CREATED:20260424T044143Z
DTSTART:20250912T040000Z
DTEND:20250912T050000Z
LOCATION:Field 1
CONTACT:
SUMMARY:Cali F.C. VS. Torrecillas F.C. 
DESCRIPTION:League Name: Men's Over 40 Thursdays\nGame Type: Regular\nGame 
 Status: Complete\nHome Team: Cali F.C.\nAway Team: Torrecillas F.C. \nHome
  Score: 1\nAway Score: 3
END:VEVENT
BEGIN:VEVENT
UID:16657130@ezleagues.ezfacility.com
DTSTAMP:20260424T044143Z
CREATED:20260424T044143Z
DTSTART:20250919T030000Z
DTEND:20250919T040000Z
LOCATION:Field 1
CONTACT:
SUMMARY:Artilleros VS. Torrecillas F.C. 
DESCRIPTION:League Name: Men's Over 40 Thursdays\nGame Type: Regular\nGame 
 Status: Complete\nHome Team: Artilleros\nAway Team: Torrecillas F.C. \nHom
 e Score: 3\nAway Score: 3
END:VEVENT
BEGIN:VEVENT
UID:16657133@ezleagues.ezfacility.com
DTSTAMP:20260424T044143Z
CREATED:20260424T044143Z
DTSTART:20250926T010000Z
DTEND:20250926T020000Z
LOCATION:Field 1
CONTACT:
SUMMARY:C.F Retro Strikers VS. Torrecillas F.C. 
DESCRIPTION:League Name: Men's Over 40 Thursdays\nGame Type: Regular\nGame 
 Status: Complete\nHome Team: C.F Retro Strikers\nAway Team: Torrecillas F.
 C. \nHome Score: 1\nAway Score: 5
END:VEVENT
BEGIN:VEVENT
UID:16657136@ezleagues.ezfacility.com
DTSTAMP:20260424T044143Z
CREATED:20260424T044143Z
DTSTART:20251003T020000Z
DTEND:20251003T030000Z
LOCATION:Field 1
CONTACT:
SUMMARY:Torrecillas F.C.  VS. Cuervos F.C.
DESCRIPTION:League Name: Men's Over 40 Thursdays\nGame Type: Regular\nGame 
 Status: Complete\nHome Team: Torrecillas F.C. \nAway Team: Cuervos F.C.\nH
 ome Score: 4\nAway Score: 2
END:VEVENT
BEGIN:VEVENT
UID:16657141@ezleagues.ezfacility.com
DTSTAMP:20260424T044143Z
CREATED:20260424T044143Z
DTSTART:20251010T030000Z
DTEND:20251010T040000Z
LOCATION:Field 1
CONTACT:
SUMMARY:Torrecillas F.C.  VS. Jacona
DESCRIPTION:League Name: Men's Over 40 Thursdays\nGame Type: Regular\nGame 
 Status: Complete\nHome Team: Torrecillas F.C. \nAway Team: Jacona\nHome Sc
 ore: 8\nAway Score: 3
END:VEVENT
BEGIN:VEVENT
UID:16657146@ezleagues.ezfacility.com
DTSTAMP:20260424T044143Z
CREATED:20260424T044143Z
DTSTART:20251017T010000Z
DTEND:20251017T020000Z
LOCATION:Field 1
CONTACT:
SUMMARY:Torrecillas F.C.  VS. Extra Anejo
DESCRIPTION:League Name: Men's Over 40 Thursdays\nGame Type: Regular\nGame 
 Status: Complete\nHome Team: Torrecillas F.C. \nAway Team: Extra Anejo\nHo
 me Score: 5\nAway Score: 3
END:VEVENT
BEGIN:VEVENT
UID:16657151@ezleagues.ezfacility.com
DTSTAMP:20260424T044143Z
CREATED:20260424T044143Z
DTSTART:20251024T020000Z
DTEND:20251024T030000Z
LOCATION:Field 1
CONTACT:
SUMMARY:Torrecillas F.C.  VS. A.C Babylon
DESCRIPTION:League Name: Men's Over 40 Thursdays\nGame Type: Regular\nGame 
 Status: Complete\nHome Team: Torrecillas F.C. \nAway Team: A.C Babylon\nHo
 me Score: 4\nAway Score: 1
END:VEVENT
BEGIN:VEVENT
UID:16807796@ezleagues.ezfacility.com
DTSTAMP:20260424T044143Z
CREATED:20260424T044143Z
DTSTART:20251031T030000Z
DTEND:20251031T040000Z
LOCATION:Field 1
CONTACT:
SUMMARY:Torrecillas F.C.  VS. A.C Babylon
DESCRIPTION:League Name: Men's Over 40 Thursdays\nGame Type: Postseason\nGa
 me Status: Complete\nHome Team: Torrecillas F.C. \nAway Team: A.C Babylon\
 nHome Score: 3\nAway Score: 4
END:VEVENT
BEGIN:VEVENT
UID:16828371@ezleagues.ezfacility.com
DTSTAMP:20260424T044143Z
CREATED:20260424T044143Z
DTSTART:20251107T030000Z
DTEND:20251107T040000Z
LOCATION:Field 1
CONTACT:
SUMMARY:Torrecillas F.C.  VS. Artilleros
DESCRIPTION:League Name: Men's Over 40 Thursdays\nGame Type: Postseason\nGa
 me Status: Complete\nHome Team: Torrecillas F.C. \nAway Team: Artilleros\n
 Home Score: 5\nAway Score: 4
END:VEVENT
END:VCALENDAR
