BEGIN:VCALENDAR
VERSION:2.0
PRODID:-//EZFacility.com, Inc.//EZL 2.5.5.28621
BEGIN:VEVENT
UID:16657123@ezleagues.ezfacility.com
DTSTAMP:20260424T044022Z
CREATED:20260424T044022Z
DTSTART:20250905T040000Z
DTEND:20250905T050000Z
LOCATION:Field 1
CONTACT:
SUMMARY:A.C Babylon VS. Torrecillas F.C. 
DESCRIPTION:League Name: Men's Over 40 Thursdays\nGame Type: Regular\nGame 
 Status: Complete\nHome Team: A.C Babylon\nAway Team: Torrecillas F.C. \nHo
 me Score: 3\nAway Score: 3
END:VEVENT
BEGIN:VEVENT
UID:16657126@ezleagues.ezfacility.com
DTSTAMP:20260424T044022Z
CREATED:20260424T044022Z
DTSTART:20250912T010000Z
DTEND:20250912T020000Z
LOCATION:Field 1
CONTACT:
SUMMARY:Jacona VS. A.C Babylon
DESCRIPTION:League Name: Men's Over 40 Thursdays\nGame Type: Regular\nGame 
 Status: Complete\nHome Team: Jacona\nAway Team: A.C Babylon\nHome Score: 1
 \nAway Score: 7
END:VEVENT
BEGIN:VEVENT
UID:16657129@ezleagues.ezfacility.com
DTSTAMP:20260424T044022Z
CREATED:20260424T044022Z
DTSTART:20250919T010000Z
DTEND:20250919T020000Z
LOCATION:Field 1
CONTACT:
SUMMARY:Extra Anejo VS. A.C Babylon
DESCRIPTION:League Name: Men's Over 40 Thursdays\nGame Type: Regular\nGame 
 Status: Complete\nHome Team: Extra Anejo\nAway Team: A.C Babylon\nHome Sco
 re: 2\nAway Score: 7
END:VEVENT
BEGIN:VEVENT
UID:16657132@ezleagues.ezfacility.com
DTSTAMP:20260424T044022Z
CREATED:20260424T044022Z
DTSTART:20250926T020000Z
DTEND:20250926T030000Z
LOCATION:Field 1
CONTACT:
SUMMARY:Cuervos F.C. VS. A.C Babylon
DESCRIPTION:League Name: Men's Over 40 Thursdays\nGame Type: Regular\nGame 
 Status: Complete\nHome Team: Cuervos F.C.\nAway Team: A.C Babylon\nHome Sc
 ore: 6\nAway Score: 4
END:VEVENT
BEGIN:VEVENT
UID:16657137@ezleagues.ezfacility.com
DTSTAMP:20260424T044022Z
CREATED:20260424T044022Z
DTSTART:20251003T030000Z
DTEND:20251003T040000Z
LOCATION:Field 1
CONTACT:
SUMMARY:A.C Babylon VS. Cali F.C.
DESCRIPTION:League Name: Men's Over 40 Thursdays\nGame Type: Regular\nGame 
 Status: Complete\nHome Team: A.C Babylon\nAway Team: Cali F.C.\nHome Score
 : 5\nAway Score: 3
END:VEVENT
BEGIN:VEVENT
UID:16657142@ezleagues.ezfacility.com
DTSTAMP:20260424T044022Z
CREATED:20260424T044022Z
DTSTART:20251010T040000Z
DTEND:20251010T050000Z
LOCATION:Field 1
CONTACT:
SUMMARY:A.C Babylon VS. Artilleros
DESCRIPTION:League Name: Men's Over 40 Thursdays\nGame Type: Regular\nGame 
 Status: Complete\nHome Team: A.C Babylon\nAway Team: Artilleros\nHome Scor
 e: 1\nAway Score: 2
END:VEVENT
BEGIN:VEVENT
UID:16657147@ezleagues.ezfacility.com
DTSTAMP:20260424T044022Z
CREATED:20260424T044022Z
DTSTART:20251017T030000Z
DTEND:20251017T040000Z
LOCATION:Field 1
CONTACT:
SUMMARY:A.C Babylon VS. C.F Retro Strikers
DESCRIPTION:League Name: Men's Over 40 Thursdays\nGame Type: Regular\nGame 
 Status: Complete\nHome Team: A.C Babylon\nAway Team: C.F Retro Strikers\nH
 ome Score: 7\nAway Score: 2
END:VEVENT
BEGIN:VEVENT
UID:16657151@ezleagues.ezfacility.com
DTSTAMP:20260424T044022Z
CREATED:20260424T044022Z
DTSTART:20251024T020000Z
DTEND:20251024T030000Z
LOCATION:Field 1
CONTACT:
SUMMARY:Torrecillas F.C.  VS. A.C Babylon
DESCRIPTION:League Name: Men's Over 40 Thursdays\nGame Type: Regular\nGame 
 Status: Complete\nHome Team: Torrecillas F.C. \nAway Team: A.C Babylon\nHo
 me Score: 4\nAway Score: 1
END:VEVENT
BEGIN:VEVENT
UID:16807796@ezleagues.ezfacility.com
DTSTAMP:20260424T044022Z
CREATED:20260424T044022Z
DTSTART:20251031T030000Z
DTEND:20251031T040000Z
LOCATION:Field 1
CONTACT:
SUMMARY:Torrecillas F.C.  VS. A.C Babylon
DESCRIPTION:League Name: Men's Over 40 Thursdays\nGame Type: Postseason\nGa
 me Status: Complete\nHome Team: Torrecillas F.C. \nAway Team: A.C Babylon\
 nHome Score: 3\nAway Score: 4
END:VEVENT
BEGIN:VEVENT
UID:16828372@ezleagues.ezfacility.com
DTSTAMP:20260424T044022Z
CREATED:20260424T044022Z
DTSTART:20251107T040000Z
DTEND:20251107T050000Z
LOCATION:Field 1
CONTACT:
SUMMARY:A.C Babylon VS. Cuervos F.C.
DESCRIPTION:League Name: Men's Over 40 Thursdays\nGame Type: Postseason\nGa
 me Status: Complete\nHome Team: A.C Babylon\nAway Team: Cuervos F.C.\nHome
  Score: 5\nAway Score: 6
END:VEVENT
END:VCALENDAR
