BEGIN:VCALENDAR
VERSION:2.0
PRODID:-//EZFacility.com, Inc.//EZL 2.5.5.28621
BEGIN:VEVENT
UID:16590906@ezleagues.ezfacility.com
DTSTAMP:20260426T033612Z
CREATED:20260426T033612Z
DTSTART:20250913T140000Z
DTEND:20250913T145000Z
LOCATION:Field E
CONTACT:Hannah\, Briella
SUMMARY:Stone View Industries VS. Aqua Systems
DESCRIPTION:League Name: 2025 U8 Boys\nGame Type: Regular\nGame Status: Com
 plete\nHome Team: Stone View Industries\nAway Team: Aqua Systems\nHome Sco
 re: 1\nAway Score: 0
END:VEVENT
BEGIN:VEVENT
UID:16590908@ezleagues.ezfacility.com
DTSTAMP:20260426T033612Z
CREATED:20260426T033612Z
DTSTART:20250915T232000Z
DTEND:20250916T001000Z
LOCATION:Field E
CONTACT:Adyn\, Hannah
SUMMARY:Shelter Insurance - Rohrer Agency VS. Aqua Systems
DESCRIPTION:League Name: 2025 U8 Boys\nGame Type: Regular\nGame Status: Com
 plete\nHome Team: Shelter Insurance - Rohrer Agency\nAway Team: Aqua Syste
 ms\nHome Score: 0\nAway Score: 4
END:VEVENT
BEGIN:VEVENT
UID:16590912@ezleagues.ezfacility.com
DTSTAMP:20260426T033612Z
CREATED:20260426T033612Z
DTSTART:20250920T150000Z
DTEND:20250920T155000Z
LOCATION:Field E
CONTACT:Aubree\, Eden
SUMMARY:Aqua Systems VS. iXL
DESCRIPTION:League Name: 2025 U8 Boys\nGame Type: Regular\nGame Status: Com
 plete\nHome Team: Aqua Systems\nAway Team: iXL\nHome Score: 1\nAway Score:
  0
END:VEVENT
BEGIN:VEVENT
UID:16590919@ezleagues.ezfacility.com
DTSTAMP:20260426T033612Z
CREATED:20260426T033612Z
DTSTART:20250927T140000Z
DTEND:20250927T145000Z
LOCATION:Field E
CONTACT:Aubree\, Hannah
SUMMARY:Brendel Brothers Carpentry VS. Aqua Systems
DESCRIPTION:League Name: 2025 U8 Boys\nGame Type: Regular\nGame Status: Com
 plete\nHome Team: Brendel Brothers Carpentry\nAway Team: Aqua Systems\nHom
 e Score: 8\nAway Score: 2
END:VEVENT
BEGIN:VEVENT
UID:16590921@ezleagues.ezfacility.com
DTSTAMP:20260426T033612Z
CREATED:20260426T033612Z
DTSTART:20251003T232000Z
DTEND:20251004T001000Z
LOCATION:Field E
CONTACT:Aubrey\, Nahla
SUMMARY:Aqua Systems VS. Stone View Industries
DESCRIPTION:League Name: 2025 U8 Boys\nGame Type: Regular\nGame Status: Com
 plete\nHome Team: Aqua Systems\nAway Team: Stone View Industries\nHome Sco
 re: 0\nAway Score: 6
END:VEVENT
BEGIN:VEVENT
UID:16590923@ezleagues.ezfacility.com
DTSTAMP:20260426T033612Z
CREATED:20260426T033612Z
DTSTART:20251004T150000Z
DTEND:20251004T155000Z
LOCATION:Field E
CONTACT:Hannah\, Aubree
SUMMARY:Aqua Systems VS. Shelter Insurance - Rohrer Agency
DESCRIPTION:League Name: 2025 U8 Boys\nGame Type: Regular\nGame Status: Com
 plete\nHome Team: Aqua Systems\nAway Team: Shelter Insurance - Rohrer Agen
 cy\nHome Score: 4\nAway Score: 0
END:VEVENT
BEGIN:VEVENT
UID:16590927@ezleagues.ezfacility.com
DTSTAMP:20260426T033612Z
CREATED:20260426T033612Z
DTSTART:20251006T232000Z
DTEND:20251007T001000Z
LOCATION:Field E
CONTACT:Jacklyn\, Hannah
SUMMARY:iXL VS. Aqua Systems
DESCRIPTION:League Name: 2025 U8 Boys\nGame Type: Regular\nGame Status: Com
 plete\nHome Team: iXL\nAway Team: Aqua Systems\nHome Score: 1\nAway Score:
  0
END:VEVENT
BEGIN:VEVENT
UID:16590904@ezleagues.ezfacility.com
DTSTAMP:20260426T033612Z
CREATED:20260426T033612Z
DTSTART:20251020T232000Z
DTEND:20251021T001000Z
LOCATION:Field E
CONTACT:Aubrey\, Payton
SUMMARY:Aqua Systems VS. Brendel Brothers Carpentry
DESCRIPTION:League Name: 2025 U8 Boys\nGame Type: Regular\nGame Status: Com
 plete\nHome Team: Aqua Systems\nAway Team: Brendel Brothers Carpentry\nHom
 e Score: 1\nAway Score: 3
END:VEVENT
BEGIN:VEVENT
UID:16590930@ezleagues.ezfacility.com
DTSTAMP:20260426T033612Z
CREATED:20260426T033612Z
DTSTART:20251024T231500Z
DTEND:20251025T001500Z
LOCATION:Field E
CONTACT:
SUMMARY:Brendel Brothers Carpentry VS. Aqua Systems
DESCRIPTION:League Name: 2025 U8 Boys\nGame Type: Regular\nGame Status: Com
 plete\nHome Team: Brendel Brothers Carpentry\nAway Team: Aqua Systems\nHom
 e Score: 0\nAway Score: 0
END:VEVENT
BEGIN:VEVENT
UID:16590932@ezleagues.ezfacility.com
DTSTAMP:20260426T033612Z
CREATED:20260426T033612Z
DTSTART:20251025T160000Z
DTEND:20251025T170000Z
LOCATION:Field E
CONTACT:Hannah\, Corena
SUMMARY:iXL VS. Aqua Systems
DESCRIPTION:League Name: 2025 U8 Boys\nGame Type: Regular\nGame Status: Com
 plete\nHome Team: iXL\nAway Team: Aqua Systems\nHome Score: 1\nAway Score:
  2
END:VEVENT
END:VCALENDAR
