BEGIN:VCALENDAR
VERSION:2.0
PRODID:-//EZFacility.com, Inc.//EZL 2.5.5.28621
BEGIN:VEVENT
UID:16595730@ezleagues.ezfacility.com
DTSTAMP:20260424T044126Z
CREATED:20260424T044126Z
DTSTART:20250829T224000Z
DTEND:20250829T233000Z
LOCATION:Rossford Dome FF Field 3
CONTACT:
SUMMARY:Evergreen Vikings VS. Steelers - Ray
DESCRIPTION:League Name: 2025 Dome NFL Fall Flag Football Boys 3/4 Grade\nG
 ame Type: Regular\nGame Status: Complete\nHome Team: Evergreen Vikings\nAw
 ay Team: Steelers - Ray\nHome Score: 30\nAway Score: 0
END:VEVENT
BEGIN:VEVENT
UID:16595737@ezleagues.ezfacility.com
DTSTAMP:20260424T044126Z
CREATED:20260424T044126Z
DTSTART:20250905T215000Z
DTEND:20250905T224000Z
LOCATION:Rossford Dome FF Field 1
CONTACT:
SUMMARY:Evergreen Vikings VS. Eastwood Eagles Red
DESCRIPTION:League Name: 2025 Dome NFL Fall Flag Football Boys 3/4 Grade\nG
 ame Type: Regular\nGame Status: Complete\nHome Team: Evergreen Vikings\nAw
 ay Team: Eastwood Eagles Red\nHome Score: 30\nAway Score: 7
END:VEVENT
BEGIN:VEVENT
UID:16595754@ezleagues.ezfacility.com
DTSTAMP:20260424T044126Z
CREATED:20260424T044126Z
DTSTART:20250912T215000Z
DTEND:20250912T224000Z
LOCATION:Rossford Dome FF Field 1
CONTACT:
SUMMARY:Evergreen Vikings VS. All The Smoke - Thomas
DESCRIPTION:League Name: 2025 Dome NFL Fall Flag Football Boys 3/4 Grade\nG
 ame Type: Regular\nGame Status: Complete\nHome Team: Evergreen Vikings\nAw
 ay Team: All The Smoke - Thomas\nHome Score: 13\nAway Score: 0
END:VEVENT
BEGIN:VEVENT
UID:16595756@ezleagues.ezfacility.com
DTSTAMP:20260424T044126Z
CREATED:20260424T044126Z
DTSTART:20250919T215000Z
DTEND:20250919T224000Z
LOCATION:Rossford Dome FF Field 3
CONTACT:
SUMMARY:Bengals - Billeg VS. Evergreen Vikings
DESCRIPTION:League Name: 2025 Dome NFL Fall Flag Football Boys 3/4 Grade\nG
 ame Type: Regular\nGame Status: Complete\nHome Team: Bengals - Billeg\nAwa
 y Team: Evergreen Vikings\nHome Score: 0\nAway Score: 29
END:VEVENT
BEGIN:VEVENT
UID:16595769@ezleagues.ezfacility.com
DTSTAMP:20260424T044126Z
CREATED:20260424T044126Z
DTSTART:20250926T224000Z
DTEND:20250926T233000Z
LOCATION:Rossford Dome FF Field 2
CONTACT:
SUMMARY:Evergreen Vikings VS. Sylvania Vipers
DESCRIPTION:League Name: 2025 Dome NFL Fall Flag Football Boys 3/4 Grade\nG
 ame Type: Regular\nGame Status: Complete\nHome Team: Evergreen Vikings\nAw
 ay Team: Sylvania Vipers\nHome Score: 28\nAway Score: 0
END:VEVENT
BEGIN:VEVENT
UID:16595782@ezleagues.ezfacility.com
DTSTAMP:20260424T044126Z
CREATED:20260424T044126Z
DTSTART:20251004T171000Z
DTEND:20251004T175000Z
LOCATION:Mudhens Field 1
CONTACT:
SUMMARY:Raiders - Jackson VS. Evergreen Vikings
DESCRIPTION:League Name: 2025 Dome NFL Fall Flag Football Boys 3/4 Grade\nG
 ame Type: Regular\nGame Status: Complete\nHome Team: Raiders - Jackson\nAw
 ay Team: Evergreen Vikings\nHome Score: 22\nAway Score: 22
END:VEVENT
END:VCALENDAR
