BEGIN:VCALENDAR
VERSION:2.0
PRODID:-//EZFacility.com, Inc.//EZL 2.5.5.28621
BEGIN:VEVENT
UID:16656612@ezleagues.ezfacility.com
DTSTAMP:20260424T044144Z
CREATED:20260424T044144Z
DTSTART:20250909T010500Z
DTEND:20250909T020500Z
LOCATION:Basketball Court #1
CONTACT:Martinez\, Prince\, Josh
SUMMARY:The Tribe - 2nd VS. The Aux 3's
DESCRIPTION:League Name: SAT - Fall 5v5 Basketball League\nGame Type: Regul
 ar\nGame Status: Complete\nHome Team: The Tribe - 2nd\nAway Team: The Aux 
 3's\nHome Score: 83\nAway Score: 38
END:VEVENT
BEGIN:VEVENT
UID:16656622@ezleagues.ezfacility.com
DTSTAMP:20260424T044144Z
CREATED:20260424T044144Z
DTSTART:20250916T010500Z
DTEND:20250916T020500Z
LOCATION:Basketball Court #1
CONTACT:Martinez\, Prince\, Cammie
SUMMARY:HotShots VS. The Aux 3's
DESCRIPTION:League Name: SAT - Fall 5v5 Basketball League\nGame Type: Regul
 ar\nGame Status: Complete\nHome Team: HotShots\nAway Team: The Aux 3's\nHo
 me Score: 49\nAway Score: 29
END:VEVENT
BEGIN:VEVENT
UID:16656628@ezleagues.ezfacility.com
DTSTAMP:20260424T044144Z
CREATED:20260424T044144Z
DTSTART:20250923T001000Z
DTEND:20250923T011000Z
LOCATION:Basketball Court #1
CONTACT:Martinez\, Prince\, Cammie
SUMMARY:Bikini Bottom Ballers VS. The Aux 3's
DESCRIPTION:League Name: SAT - Fall 5v5 Basketball League\nGame Type: Regul
 ar\nGame Status: Complete\nHome Team: Bikini Bottom Ballers\nAway Team: Th
 e Aux 3's\nHome Score: 50\nAway Score: 43
END:VEVENT
BEGIN:VEVENT
UID:16656631@ezleagues.ezfacility.com
DTSTAMP:20260424T044144Z
CREATED:20260424T044144Z
DTSTART:20250930T010500Z
DTEND:20250930T020500Z
LOCATION:Basketball Court #1
CONTACT:Alaniz\, Martinez\, Cammie
SUMMARY:G L A D I A T O R S VS. The Aux 3's
DESCRIPTION:League Name: SAT - Fall 5v5 Basketball League\nGame Type: Regul
 ar\nGame Status: Complete\nHome Team: G L A D I A T O R S\nAway Team: The 
 Aux 3's\nHome Score: 56\nAway Score: 65
END:VEVENT
BEGIN:VEVENT
UID:16656642@ezleagues.ezfacility.com
DTSTAMP:20260424T044144Z
CREATED:20260424T044144Z
DTSTART:20251006T231500Z
DTEND:20251007T001500Z
LOCATION:Basketball Court #2
CONTACT:Esparza\, Smith
SUMMARY:The Binary Ballers VS. The Aux 3's
DESCRIPTION:League Name: SAT - Fall 5v5 Basketball League\nGame Type: Regul
 ar\nGame Status: Complete\nHome Team: The Binary Ballers\nAway Team: The A
 ux 3's\nHome Score: 48\nAway Score: 55
END:VEVENT
BEGIN:VEVENT
UID:16656647@ezleagues.ezfacility.com
DTSTAMP:20260424T044144Z
CREATED:20260424T044144Z
DTSTART:20251013T231500Z
DTEND:20251014T001500Z
LOCATION:Basketball Court #1
CONTACT:Dragon\, Martinez\, Cammie
SUMMARY:The Aux 3's VS. 210 Ballers - 1st
DESCRIPTION:League Name: SAT - Fall 5v5 Basketball League\nGame Type: Regul
 ar\nGame Status: Complete\nHome Team: The Aux 3's\nAway Team: 210 Ballers 
 - 1st\nHome Score: 36\nAway Score: 82
END:VEVENT
BEGIN:VEVENT
UID:16656655@ezleagues.ezfacility.com
DTSTAMP:20260424T044144Z
CREATED:20260424T044144Z
DTSTART:20251021T001000Z
DTEND:20251021T011000Z
LOCATION:Basketball Court #2
CONTACT:Smith\, Soliz\, Josh
SUMMARY:The Aux 3's VS. monStars
DESCRIPTION:League Name: SAT - Fall 5v5 Basketball League\nGame Type: Regul
 ar\nGame Status: Complete\nHome Team: The Aux 3's\nAway Team: monStars\nHo
 me Score: 42\nAway Score: 75
END:VEVENT
BEGIN:VEVENT
UID:16656659@ezleagues.ezfacility.com
DTSTAMP:20260424T044144Z
CREATED:20260424T044144Z
DTSTART:20251028T010500Z
DTEND:20251028T020500Z
LOCATION:Basketball Court #1
CONTACT:Martinez\, Prince\, Cammie
SUMMARY:The Aux 3's VS. Night Shift
DESCRIPTION:League Name: SAT - Fall 5v5 Basketball League\nGame Type: Regul
 ar\nGame Status: Complete\nHome Team: The Aux 3's\nAway Team: Night Shift\
 nHome Score: 53\nAway Score: 66
END:VEVENT
BEGIN:VEVENT
UID:16656667@ezleagues.ezfacility.com
DTSTAMP:20260424T044144Z
CREATED:20260424T044144Z
DTSTART:20251104T011000Z
DTEND:20251104T021000Z
LOCATION:Basketball Court #2
CONTACT:Prince\, Smith\, Josh
SUMMARY:The Aux 3's VS. Double Dribble - 4th
DESCRIPTION:League Name: SAT - Fall 5v5 Basketball League\nGame Type: Regul
 ar\nGame Status: Complete\nHome Team: The Aux 3's\nAway Team: Double Dribb
 le - 4th\nHome Score: 0\nAway Score: 2
END:VEVENT
BEGIN:VEVENT
UID:16656677@ezleagues.ezfacility.com
DTSTAMP:20260424T044144Z
CREATED:20260424T044144Z
DTSTART:20251111T030000Z
DTEND:20251111T040000Z
LOCATION:Basketball Court #2
CONTACT:Notified
SUMMARY:The Aux 3's VS. Doomsday
DESCRIPTION:League Name: SAT - Fall 5v5 Basketball League\nGame Type: Regul
 ar\nGame Status: Complete\nHome Team: The Aux 3's\nAway Team: Doomsday\nHo
 me Score: 2\nAway Score: 0
END:VEVENT
BEGIN:VEVENT
UID:16656684@ezleagues.ezfacility.com
DTSTAMP:20260424T044144Z
CREATED:20260424T044144Z
DTSTART:20251118T001500Z
DTEND:20251118T011500Z
LOCATION:Basketball Court #1
CONTACT:Martinez\, Prince\, Cammie
SUMMARY:The Aux 3's VS. Longhorns - 3rd
DESCRIPTION:League Name: SAT - Fall 5v5 Basketball League\nGame Type: Regul
 ar\nGame Status: Complete\nHome Team: The Aux 3's\nAway Team: Longhorns - 
 3rd\nHome Score: 48\nAway Score: 80
END:VEVENT
BEGIN:VEVENT
UID:16656692@ezleagues.ezfacility.com
DTSTAMP:20260424T044144Z
CREATED:20260424T044144Z
DTSTART:20251125T001500Z
DTEND:20251125T011500Z
LOCATION:Basketball Court #1
CONTACT:Martinez\, Prince\, Cammie
SUMMARY:The Aux 3's VS. We Met At USAA
DESCRIPTION:League Name: SAT - Fall 5v5 Basketball League\nGame Type: Regul
 ar\nGame Status: Complete\nHome Team: The Aux 3's\nAway Team: We Met At US
 AA\nHome Score: 47\nAway Score: 67
END:VEVENT
BEGIN:VEVENT
UID:16656699@ezleagues.ezfacility.com
DTSTAMP:20260424T044144Z
CREATED:20260424T044144Z
DTSTART:20251202T030000Z
DTEND:20251202T040000Z
LOCATION:Basketball Court #1
CONTACT:Notified
SUMMARY:Make A Swish Foundation VS. The Aux 3's
DESCRIPTION:League Name: SAT - Fall 5v5 Basketball League\nGame Type: Regul
 ar\nGame Status: Complete\nHome Team: Make A Swish Foundation\nAway Team: 
 The Aux 3's\nHome Score: 0\nAway Score: 2
END:VEVENT
END:VCALENDAR
