BEGIN:VCALENDAR
VERSION:2.0
PRODID:-//EZFacility.com, Inc.//EZL 2.5.5.28621
BEGIN:VEVENT
UID:16594595@ezleagues.ezfacility.com
DTSTAMP:20260424T043233Z
CREATED:20260424T043233Z
DTSTART:20250829T021000Z
DTEND:20250829T031000Z
LOCATION:RCF East - Portland
CONTACT:
SUMMARY:Dairy World FC VS. Alive and Kicking
DESCRIPTION:League Name: RCF East Fall AL 2025 -East Weekday-Mens D5 Silver
  (Th/F)\nGame Type: Regular\nGame Status: Complete\nHome Team: Dairy World
  FC\nAway Team: Alive and Kicking\nHome Score: 6\nAway Score: 7
END:VEVENT
BEGIN:VEVENT
UID:16594596@ezleagues.ezfacility.com
DTSTAMP:20260424T043233Z
CREATED:20260424T043233Z
DTSTART:20250905T041000Z
DTEND:20250905T051000Z
LOCATION:RCF East - Portland
CONTACT:
SUMMARY:Dairy World FC VS. Bread Lady AC
DESCRIPTION:League Name: RCF East Fall AL 2025 -East Weekday-Mens D5 Silver
  (Th/F)\nGame Type: Regular\nGame Status: Complete\nHome Team: Dairy World
  FC\nAway Team: Bread Lady AC\nHome Score: 6\nAway Score: 5
END:VEVENT
BEGIN:VEVENT
UID:16594597@ezleagues.ezfacility.com
DTSTAMP:20260424T043233Z
CREATED:20260424T043233Z
DTSTART:20250913T055000Z
DTEND:20250913T065000Z
LOCATION:RCF East - Barcelona
CONTACT:
SUMMARY:Dairy World FC VS. FC Hogs
DESCRIPTION:League Name: RCF East Fall AL 2025 -East Weekday-Mens D5 Silver
  (Th/F)\nGame Type: Regular\nGame Status: Complete\nHome Team: Dairy World
  FC\nAway Team: FC Hogs\nHome Score: 11\nAway Score: 5
END:VEVENT
BEGIN:VEVENT
UID:16594598@ezleagues.ezfacility.com
DTSTAMP:20260424T043233Z
CREATED:20260424T043233Z
DTSTART:20250919T043000Z
DTEND:20250919T053000Z
LOCATION:RCF East - Rio
CONTACT:
SUMMARY:Dairy World FC VS. Late Arrivals FC
DESCRIPTION:League Name: RCF East Fall AL 2025 -East Weekday-Mens D5 Silver
  (Th/F)\nGame Type: Regular\nGame Status: Complete\nHome Team: Dairy World
  FC\nAway Team: Late Arrivals FC\nHome Score: 0\nAway Score: 2
END:VEVENT
BEGIN:VEVENT
UID:16594599@ezleagues.ezfacility.com
DTSTAMP:20260424T043233Z
CREATED:20260424T043233Z
DTSTART:20250926T045000Z
DTEND:20250926T055000Z
LOCATION:RCF East - Barcelona
CONTACT:
SUMMARY:Dairy World FC VS. Low T
DESCRIPTION:League Name: RCF East Fall AL 2025 -East Weekday-Mens D5 Silver
  (Th/F)\nGame Type: Regular\nGame Status: Complete\nHome Team: Dairy World
  FC\nAway Team: Low T\nHome Score: 4\nAway Score: 9
END:VEVENT
BEGIN:VEVENT
UID:16594600@ezleagues.ezfacility.com
DTSTAMP:20260424T043233Z
CREATED:20260424T043233Z
DTSTART:20251003T051000Z
DTEND:20251003T061000Z
LOCATION:RCF East - Portland
CONTACT:
SUMMARY:Dairy World FC VS. Rocket power
DESCRIPTION:League Name: RCF East Fall AL 2025 -East Weekday-Mens D5 Silver
  (Th/F)\nGame Type: Regular\nGame Status: Complete\nHome Team: Dairy World
  FC\nAway Team: Rocket power\nHome Score: 2\nAway Score: 3
END:VEVENT
BEGIN:VEVENT
UID:16594601@ezleagues.ezfacility.com
DTSTAMP:20260424T043233Z
CREATED:20260424T043233Z
DTSTART:20251011T045000Z
DTEND:20251011T055000Z
LOCATION:Cancellation
CONTACT:
SUMMARY:Dairy World FC VS. Alive and Kicking
DESCRIPTION:League Name: RCF East Fall AL 2025 -East Weekday-Mens D5 Silver
  (Th/F)\nGame Type: Regular\nGame Status: Complete\nHome Team: Dairy World
  FC\nAway Team: Alive and Kicking\nHome Score: 7\nAway Score: 0
END:VEVENT
BEGIN:VEVENT
UID:16594602@ezleagues.ezfacility.com
DTSTAMP:20260424T043233Z
CREATED:20260424T043233Z
DTSTART:20251017T051000Z
DTEND:20251017T061000Z
LOCATION:RCF East - Portland
CONTACT:
SUMMARY:Dairy World FC VS. Late Arrivals FC
DESCRIPTION:League Name: RCF East Fall AL 2025 -East Weekday-Mens D5 Silver
  (Th/F)\nGame Type: Regular\nGame Status: Complete\nHome Team: Dairy World
  FC\nAway Team: Late Arrivals FC\nHome Score: 8\nAway Score: 6
END:VEVENT
BEGIN:VEVENT
UID:16594603@ezleagues.ezfacility.com
DTSTAMP:20260424T043233Z
CREATED:20260424T043233Z
DTSTART:20251024T013000Z
DTEND:20251024T023000Z
LOCATION:RCF East - Rio
CONTACT:
SUMMARY:Dairy World FC VS. FC Hogs
DESCRIPTION:League Name: RCF East Fall AL 2025 -East Weekday-Mens D5 Silver
  (Th/F)\nGame Type: Regular\nGame Status: Complete\nHome Team: Dairy World
  FC\nAway Team: FC Hogs\nHome Score: 4\nAway Score: 2
END:VEVENT
BEGIN:VEVENT
UID:16594604@ezleagues.ezfacility.com
DTSTAMP:20260424T043233Z
CREATED:20260424T043233Z
DTSTART:20251025T041000Z
DTEND:20251025T051000Z
LOCATION:RCF East - Portland
CONTACT:
SUMMARY:Dairy World FC VS. Late Arrivals FC
DESCRIPTION:League Name: RCF East Fall AL 2025 -East Weekday-Mens D5 Silver
  (Th/F)\nGame Type: Regular\nGame Status: Complete\nHome Team: Dairy World
  FC\nAway Team: Late Arrivals FC\nHome Score: 8\nAway Score: 4
END:VEVENT
END:VCALENDAR
