BEGIN:VCALENDAR
VERSION:2.0
PRODID:-//EZFacility.com, Inc.//EZL 2.5.5.28621
BEGIN:VEVENT
UID:16595813@ezleagues.ezfacility.com
DTSTAMP:20260426T033529Z
CREATED:20260426T033529Z
DTSTART:20250826T010000Z
DTEND:20250826T014500Z
LOCATION:Soccer Hub Field
CONTACT:
SUMMARY:Real Vatos  VS. United AR 
DESCRIPTION:League Name: Men's Over 30 Fall\nGame Type: Regular\nGame Statu
 s: Complete\nHome Team: Real Vatos \nAway Team: United AR \nHome Score: 20
 \nAway Score: 17
END:VEVENT
BEGIN:VEVENT
UID:16658539@ezleagues.ezfacility.com
DTSTAMP:20260426T033529Z
CREATED:20260426T033529Z
DTSTART:20250909T010000Z
DTEND:20250909T014500Z
LOCATION:ATX Futsal Court 1
CONTACT:
SUMMARY:Zandelizers VS. United AR 
DESCRIPTION:League Name: Men's Over 30 Fall\nGame Type: Regular\nGame Statu
 s: Complete\nHome Team: Zandelizers\nAway Team: United AR \nHome Score: 23
 \nAway Score: 18
END:VEVENT
BEGIN:VEVENT
UID:16670790@ezleagues.ezfacility.com
DTSTAMP:20260426T033529Z
CREATED:20260426T033529Z
DTSTART:20250916T010000Z
DTEND:20250916T014500Z
LOCATION:ATX Futsal Court 1
CONTACT:
SUMMARY:Thunder Buddies  VS. United AR 
DESCRIPTION:League Name: Men's Over 30 Fall\nGame Type: Regular\nGame Statu
 s: Complete\nHome Team: Thunder Buddies \nAway Team: United AR \nHome Scor
 e: 11\nAway Score: 18
END:VEVENT
BEGIN:VEVENT
UID:16681460@ezleagues.ezfacility.com
DTSTAMP:20260426T033529Z
CREATED:20260426T033529Z
DTSTART:20250923T014500Z
DTEND:20250923T023000Z
LOCATION:ATX Futsal Court 1
CONTACT:
SUMMARY:United AR  VS. Lifestyle
DESCRIPTION:League Name: Men's Over 30 Fall\nGame Type: Regular\nGame Statu
 s: Complete\nHome Team: United AR \nAway Team: Lifestyle\nHome Score: 15\n
 Away Score: 18
END:VEVENT
BEGIN:VEVENT
UID:16728451@ezleagues.ezfacility.com
DTSTAMP:20260426T033529Z
CREATED:20260426T033529Z
DTSTART:20250930T010000Z
DTEND:20250930T014500Z
LOCATION:ATX Futsal Court 1
CONTACT:
SUMMARY:United AR  VS. The Dead Pixels 
DESCRIPTION:League Name: Men's Over 30 Fall\nGame Type: Regular\nGame Statu
 s: Complete\nHome Team: United AR \nAway Team: The Dead Pixels \nHome Scor
 e: 17\nAway Score: 18
END:VEVENT
BEGIN:VEVENT
UID:16743775@ezleagues.ezfacility.com
DTSTAMP:20260426T033529Z
CREATED:20260426T033529Z
DTSTART:20251007T014500Z
DTEND:20251007T023000Z
LOCATION:ATX Futsal Court 1
CONTACT:
SUMMARY:United AR  VS. Real Vatos 
DESCRIPTION:League Name: Men's Over 30 Fall\nGame Type: Regular\nGame Statu
 s: Complete\nHome Team: United AR \nAway Team: Real Vatos \nHome Score: 19
 \nAway Score: 21
END:VEVENT
END:VCALENDAR
