BEGIN:VCALENDAR
VERSION:2.0
PRODID:-//EZFacility.com, Inc.//EZL 2.5.5.28621
BEGIN:VEVENT
UID:16607360@ezleagues.ezfacility.com
DTSTAMP:20260424T044134Z
CREATED:20260424T044134Z
DTSTART:20250903T233000Z
DTEND:20250904T003000Z
LOCATION:SAC Main Court
CONTACT:
SUMMARY:Lady Gators 7th/8th (Huttinger) VS. Lady Legacy 7th (Gabriel)
DESCRIPTION:League Name: Fall Session - 7th/8th Grade Girls\nGame Type: Reg
 ular\nGame Status: Complete\nHome Team: Lady Gators 7th/8th (Huttinger)\nA
 way Team: Lady Legacy 7th (Gabriel)\nHome Score: 31\nAway Score: 41
END:VEVENT
BEGIN:VEVENT
UID:16661072@ezleagues.ezfacility.com
DTSTAMP:20260424T044134Z
CREATED:20260424T044134Z
DTSTART:20250911T233000Z
DTEND:20250912T003000Z
LOCATION:SAC Main Court
CONTACT:
SUMMARY:Boom Squad (Faamoe) VS. Lady Gators 7th/8th (Huttinger)
DESCRIPTION:League Name: Fall Session - 7th/8th Grade Girls\nGame Type: Reg
 ular\nGame Status: Complete\nHome Team: Boom Squad (Faamoe)\nAway Team: La
 dy Gators 7th/8th (Huttinger)\nHome Score: 20\nAway Score: 42
END:VEVENT
BEGIN:VEVENT
UID:16674044@ezleagues.ezfacility.com
DTSTAMP:20260424T044134Z
CREATED:20260424T044134Z
DTSTART:20250919T003000Z
DTEND:20250919T013000Z
LOCATION:SAC Main Court
CONTACT:
SUMMARY:Sixers Supreme (Ryan) VS. Lady Gators 7th/8th (Huttinger)
DESCRIPTION:League Name: Fall Session - 7th/8th Grade Girls\nGame Type: Reg
 ular\nGame Status: Complete\nHome Team: Sixers Supreme (Ryan)\nAway Team: 
 Lady Gators 7th/8th (Huttinger)\nHome Score: 2\nAway Score: 79
END:VEVENT
BEGIN:VEVENT
UID:16674070@ezleagues.ezfacility.com
DTSTAMP:20260424T044134Z
CREATED:20260424T044134Z
DTSTART:20250925T233000Z
DTEND:20250926T003000Z
LOCATION:SAC Main Court
CONTACT:
SUMMARY:Boom Squad (Faamoe) VS. Lady Gators 7th/8th (Huttinger)
DESCRIPTION:League Name: Fall Session - 7th/8th Grade Girls\nGame Type: Reg
 ular\nGame Status: Complete\nHome Team: Boom Squad (Faamoe)\nAway Team: La
 dy Gators 7th/8th (Huttinger)\nHome Score: 16\nAway Score: 41
END:VEVENT
BEGIN:VEVENT
UID:16674120@ezleagues.ezfacility.com
DTSTAMP:20260424T044134Z
CREATED:20260424T044134Z
DTSTART:20251003T013000Z
DTEND:20251003T023000Z
LOCATION:SAC Main Court
CONTACT:
SUMMARY:Lady Gators 7th/8th (Huttinger) VS. Sixers Supreme (Ryan)
DESCRIPTION:League Name: Fall Session - 7th/8th Grade Girls\nGame Type: Reg
 ular\nGame Status: Postponed\nHome Team: Lady Gators 7th/8th (Huttinger)\n
 Away Team: Sixers Supreme (Ryan)\n
END:VEVENT
BEGIN:VEVENT
UID:16674122@ezleagues.ezfacility.com
DTSTAMP:20260424T044134Z
CREATED:20260424T044134Z
DTSTART:20251016T233000Z
DTEND:20251017T003000Z
LOCATION:SAC Main Court
CONTACT:
SUMMARY:Lady Gators 7th/8th (Huttinger) VS. Boom Squad (Faamoe)
DESCRIPTION:League Name: Fall Session - 7th/8th Grade Girls\nGame Type: Reg
 ular\nGame Status: Pending\nHome Team: Lady Gators 7th/8th (Huttinger)\nAw
 ay Team: Boom Squad (Faamoe)\n
END:VEVENT
BEGIN:VEVENT
UID:16674123@ezleagues.ezfacility.com
DTSTAMP:20260424T044134Z
CREATED:20260424T044134Z
DTSTART:20251023T233000Z
DTEND:20251024T003000Z
LOCATION:SAC Main Court
CONTACT:
SUMMARY:Lady Gators 7th/8th (Huttinger) VS. Boom Squad (Faamoe)
DESCRIPTION:League Name: Fall Session - 7th/8th Grade Girls\nGame Type: Reg
 ular\nGame Status: Complete\nHome Team: Lady Gators 7th/8th (Huttinger)\nA
 way Team: Boom Squad (Faamoe)\nHome Score: 60\nAway Score: 24
END:VEVENT
BEGIN:VEVENT
UID:16674124@ezleagues.ezfacility.com
DTSTAMP:20260424T044134Z
CREATED:20260424T044134Z
DTSTART:20251031T003000Z
DTEND:20251031T013000Z
LOCATION:SAC Main Court
CONTACT:
SUMMARY:Boom Squad (Faamoe) VS. Lady Gators 7th/8th (Huttinger)
DESCRIPTION:League Name: Fall Session - 7th/8th Grade Girls\nGame Type: Reg
 ular\nGame Status: Cancelled\nHome Team: Boom Squad (Faamoe)\nAway Team: L
 ady Gators 7th/8th (Huttinger)\n
END:VEVENT
END:VCALENDAR
