BEGIN:VCALENDAR
VERSION:2.0
PRODID:-//EZFacility.com, Inc.//EZL 2.5.5.28621
BEGIN:VEVENT
UID:16597403@ezleagues.ezfacility.com
DTSTAMP:20260421T154801Z
CREATED:20260421T154801Z
DTSTART:20250917T043000Z
DTEND:20250917T053000Z
LOCATION:Beaverton Hoop YMCA Ct. #6
CONTACT:
SUMMARY:Deloitte VS. Jack W Olds and Co.
DESCRIPTION:League Name: OSCPA 2025\nGame Type: Regular\nGame Status: Compl
 ete\nHome Team: Deloitte\nAway Team: Jack W Olds and Co.\nHome Score: 57\n
 Away Score: 99
END:VEVENT
BEGIN:VEVENT
UID:16597407@ezleagues.ezfacility.com
DTSTAMP:20260421T154801Z
CREATED:20260421T154801Z
DTSTART:20250924T043000Z
DTEND:20250924T053000Z
LOCATION:Beaverton Hoop YMCA Ct. #6
CONTACT:
SUMMARY:Allen Trust Co. VS. Deloitte
DESCRIPTION:League Name: OSCPA 2025\nGame Type: Regular\nGame Status: Compl
 ete\nHome Team: Allen Trust Co.\nAway Team: Deloitte\nHome Score: 65\nAway
  Score: 74
END:VEVENT
BEGIN:VEVENT
UID:16597413@ezleagues.ezfacility.com
DTSTAMP:20260421T154801Z
CREATED:20260421T154801Z
DTSTART:20251008T043000Z
DTEND:20251008T053000Z
LOCATION:Beaverton Hoop YMCA Ct. #5
CONTACT:
SUMMARY:PWC VS. Deloitte
DESCRIPTION:League Name: OSCPA 2025\nGame Type: Regular\nGame Status: Compl
 ete\nHome Team: PWC\nAway Team: Deloitte\nHome Score: 51\nAway Score: 78
END:VEVENT
BEGIN:VEVENT
UID:16597416@ezleagues.ezfacility.com
DTSTAMP:20260421T154801Z
CREATED:20260421T154801Z
DTSTART:20251015T033000Z
DTEND:20251015T043000Z
LOCATION:Beaverton Hoop YMCA Ct. #5
CONTACT:
SUMMARY:Aldrich VS. Deloitte
DESCRIPTION:League Name: OSCPA 2025\nGame Type: Regular\nGame Status: Compl
 ete\nHome Team: Aldrich\nAway Team: Deloitte\nHome Score: 53\nAway Score: 
 54
END:VEVENT
BEGIN:VEVENT
UID:16597421@ezleagues.ezfacility.com
DTSTAMP:20260421T154801Z
CREATED:20260421T154801Z
DTSTART:20251022T033000Z
DTEND:20251022T043000Z
LOCATION:Beaverton Hoop YMCA Ct. #5
CONTACT:
SUMMARY:Deloitte VS. Baker Tilly
DESCRIPTION:League Name: OSCPA 2025\nGame Type: Regular\nGame Status: Compl
 ete\nHome Team: Deloitte\nAway Team: Baker Tilly\nHome Score: 47\nAway Sco
 re: 54
END:VEVENT
BEGIN:VEVENT
UID:16597410@ezleagues.ezfacility.com
DTSTAMP:20260421T154801Z
CREATED:20260421T154801Z
DTSTART:20251029T043000Z
DTEND:20251029T053000Z
LOCATION:Beaverton Hoop YMCA Ct. #5
CONTACT:
SUMMARY:Ernst and Young VS. Deloitte
DESCRIPTION:League Name: OSCPA 2025\nGame Type: Regular\nGame Status: Compl
 ete\nHome Team: Ernst and Young\nAway Team: Deloitte\nHome Score: 61\nAway
  Score: 68
END:VEVENT
BEGIN:VEVENT
UID:16597398@ezleagues.ezfacility.com
DTSTAMP:20260421T154801Z
CREATED:20260421T154801Z
DTSTART:20251105T043000Z
DTEND:20251105T053000Z
LOCATION:Beaverton Hoop YMCA Ct. #6
CONTACT:
SUMMARY:Deloitte VS. KPMG
DESCRIPTION:League Name: OSCPA 2025\nGame Type: Regular\nGame Status: Compl
 ete\nHome Team: Deloitte\nAway Team: KPMG\nHome Score: 50\nAway Score: 61
END:VEVENT
BEGIN:VEVENT
UID:16597890@ezleagues.ezfacility.com
DTSTAMP:20260421T154801Z
CREATED:20260421T154801Z
DTSTART:20251112T053000Z
DTEND:20251112T063000Z
LOCATION:Beaverton Hoop YMCA Ct. #6
CONTACT:
SUMMARY:Baker Tilly VS. Deloitte
DESCRIPTION:League Name: OSCPA 2025\nGame Type: Postseason\nGame Status: Co
 mplete\nHome Team: Baker Tilly\nAway Team: Deloitte\nHome Score: 63\nAway 
 Score: 67
END:VEVENT
BEGIN:VEVENT
UID:16597891@ezleagues.ezfacility.com
DTSTAMP:20260421T154801Z
CREATED:20260421T154801Z
DTSTART:20251119T043000Z
DTEND:20251119T053000Z
LOCATION:Beaverton Hoop YMCA Ct. #5
CONTACT:
SUMMARY:Jack W Olds and Co. VS. Deloitte
DESCRIPTION:League Name: OSCPA 2025\nGame Type: Postseason\nGame Status: Co
 mplete\nHome Team: Jack W Olds and Co.\nAway Team: Deloitte\nHome Score: 4
 8\nAway Score: 53
END:VEVENT
BEGIN:VEVENT
UID:16597894@ezleagues.ezfacility.com
DTSTAMP:20260421T154801Z
CREATED:20260421T154801Z
DTSTART:20251126T043000Z
DTEND:20251126T053000Z
LOCATION:Beaverton Hoop YMCA Ct. #5
CONTACT:
SUMMARY:Deloitte VS. Aldrich
DESCRIPTION:League Name: OSCPA 2025\nGame Type: Postseason\nGame Status: Co
 mplete\nHome Team: Deloitte\nAway Team: Aldrich\nHome Score: 44\nAway Scor
 e: 47
END:VEVENT
END:VCALENDAR
