BEGIN:VCALENDAR
VERSION:2.0
PRODID:-//EZFacility.com, Inc.//EZL 2.5.5.28621
BEGIN:VEVENT
UID:16597401@ezleagues.ezfacility.com
DTSTAMP:20260424T044039Z
CREATED:20260424T044039Z
DTSTART:20250917T043000Z
DTEND:20250917T053000Z
LOCATION:Beaverton Hoop YMCA Ct. #5
CONTACT:
SUMMARY:Baker Tilly VS. KPMG
DESCRIPTION:League Name: OSCPA 2025\nGame Type: Regular\nGame Status: Compl
 ete\nHome Team: Baker Tilly\nAway Team: KPMG\nHome Score: 44\nAway Score: 
 74
END:VEVENT
BEGIN:VEVENT
UID:16597404@ezleagues.ezfacility.com
DTSTAMP:20260424T044039Z
CREATED:20260424T044039Z
DTSTART:20250924T043000Z
DTEND:20250924T053000Z
LOCATION:Beaverton Hoop YMCA Ct. #5
CONTACT:
SUMMARY:KPMG VS. Aldrich
DESCRIPTION:League Name: OSCPA 2025\nGame Type: Regular\nGame Status: Compl
 ete\nHome Team: KPMG\nAway Team: Aldrich\nHome Score: 38\nAway Score: 85
END:VEVENT
BEGIN:VEVENT
UID:16597414@ezleagues.ezfacility.com
DTSTAMP:20260424T044039Z
CREATED:20260424T044039Z
DTSTART:20251008T033000Z
DTEND:20251008T043000Z
LOCATION:Beaverton Hoop YMCA Ct. #6
CONTACT:
SUMMARY:KPMG VS. Allen Trust Co.
DESCRIPTION:League Name: OSCPA 2025\nGame Type: Regular\nGame Status: Compl
 ete\nHome Team: KPMG\nAway Team: Allen Trust Co.\nHome Score: 59\nAway Sco
 re: 52
END:VEVENT
BEGIN:VEVENT
UID:16597419@ezleagues.ezfacility.com
DTSTAMP:20260424T044039Z
CREATED:20260424T044039Z
DTSTART:20251015T043000Z
DTEND:20251015T053000Z
LOCATION:Beaverton Hoop YMCA Ct. #6
CONTACT:
SUMMARY:KPMG VS. Ernst and Young
DESCRIPTION:League Name: OSCPA 2025\nGame Type: Regular\nGame Status: Compl
 ete\nHome Team: KPMG\nAway Team: Ernst and Young\nHome Score: 59\nAway Sco
 re: 49
END:VEVENT
BEGIN:VEVENT
UID:16597423@ezleagues.ezfacility.com
DTSTAMP:20260424T044039Z
CREATED:20260424T044039Z
DTSTART:20251022T043000Z
DTEND:20251022T053000Z
LOCATION:Beaverton Hoop YMCA Ct. #5
CONTACT:
SUMMARY:PWC VS. KPMG
DESCRIPTION:League Name: OSCPA 2025\nGame Type: Regular\nGame Status: Compl
 ete\nHome Team: PWC\nAway Team: KPMG\nHome Score: 37\nAway Score: 40
END:VEVENT
BEGIN:VEVENT
UID:16597409@ezleagues.ezfacility.com
DTSTAMP:20260424T044039Z
CREATED:20260424T044039Z
DTSTART:20251029T033000Z
DTEND:20251029T043000Z
LOCATION:Beaverton Hoop YMCA Ct. #5
CONTACT:
SUMMARY:KPMG VS. Jack W Olds and Co.
DESCRIPTION:League Name: OSCPA 2025\nGame Type: Regular\nGame Status: Compl
 ete\nHome Team: KPMG\nAway Team: Jack W Olds and Co.\nHome Score: 55\nAway
  Score: 62
END:VEVENT
BEGIN:VEVENT
UID:16597398@ezleagues.ezfacility.com
DTSTAMP:20260424T044039Z
CREATED:20260424T044039Z
DTSTART:20251105T043000Z
DTEND:20251105T053000Z
LOCATION:Beaverton Hoop YMCA Ct. #6
CONTACT:
SUMMARY:Deloitte VS. KPMG
DESCRIPTION:League Name: OSCPA 2025\nGame Type: Regular\nGame Status: Compl
 ete\nHome Team: Deloitte\nAway Team: KPMG\nHome Score: 50\nAway Score: 61
END:VEVENT
BEGIN:VEVENT
UID:16597889@ezleagues.ezfacility.com
DTSTAMP:20260424T044039Z
CREATED:20260424T044039Z
DTSTART:20251112T053000Z
DTEND:20251112T063000Z
LOCATION:Beaverton Hoop YMCA Ct. #5
CONTACT:
SUMMARY:KPMG VS. Allen Trust Co.
DESCRIPTION:League Name: OSCPA 2025\nGame Type: Postseason\nGame Status: Co
 mplete\nHome Team: KPMG\nAway Team: Allen Trust Co.\nHome Score: 40\nAway 
 Score: 50
END:VEVENT
END:VCALENDAR
