BEGIN:VCALENDAR
VERSION:2.0
PRODID:-//EZFacility.com, Inc.//EZL 2.5.5.28621
BEGIN:VEVENT
UID:16600552@ezleagues.ezfacility.com
DTSTAMP:20260426T033613Z
CREATED:20260426T033613Z
DTSTART:20250828T001000Z
DTEND:20250828T010000Z
LOCATION:Outdoor Field
CONTACT:
SUMMARY:American Outlaws VS. Freseros AC
DESCRIPTION:League Name: Men's 30+ Black Group\nGame Type: Regular\nGame St
 atus: Complete\nHome Team: American Outlaws\nAway Team: Freseros AC\nHome 
 Score: 6\nAway Score: 2
END:VEVENT
BEGIN:VEVENT
UID:16600557@ezleagues.ezfacility.com
DTSTAMP:20260426T033613Z
CREATED:20260426T033613Z
DTSTART:20250904T001000Z
DTEND:20250904T010000Z
LOCATION:Indoor Field
CONTACT:
SUMMARY:Freseros AC VS. Loki Locos
DESCRIPTION:League Name: Men's 30+ Black Group\nGame Type: Regular\nGame St
 atus: Complete\nHome Team: Freseros AC\nAway Team: Loki Locos\nHome Score:
  5\nAway Score: 5
END:VEVENT
BEGIN:VEVENT
UID:16600562@ezleagues.ezfacility.com
DTSTAMP:20260426T033613Z
CREATED:20260426T033613Z
DTSTART:20250911T010000Z
DTEND:20250911T015000Z
LOCATION:Outdoor Field
CONTACT:
SUMMARY:Freseros AC VS. La Banca FC
DESCRIPTION:League Name: Men's 30+ Black Group\nGame Type: Regular\nGame St
 atus: Complete\nHome Team: Freseros AC\nAway Team: La Banca FC\nHome Score
 : 4\nAway Score: 12
END:VEVENT
BEGIN:VEVENT
UID:16600571@ezleagues.ezfacility.com
DTSTAMP:20260426T033613Z
CREATED:20260426T033613Z
DTSTART:20250925T015000Z
DTEND:20250925T024000Z
LOCATION:Outdoor Field
CONTACT:
SUMMARY:Guerreros VS. Freseros AC
DESCRIPTION:League Name: Men's 30+ Black Group\nGame Type: Regular\nGame St
 atus: Complete\nHome Team: Guerreros\nAway Team: Freseros AC\nHome Score: 
 9\nAway Score: 4
END:VEVENT
BEGIN:VEVENT
UID:16600574@ezleagues.ezfacility.com
DTSTAMP:20260426T033613Z
CREATED:20260426T033613Z
DTSTART:20251002T024000Z
DTEND:20251002T033000Z
LOCATION:Indoor Field
CONTACT:
SUMMARY:Cobras FC VS. Freseros AC
DESCRIPTION:League Name: Men's 30+ Black Group\nGame Type: Regular\nGame St
 atus: Complete\nHome Team: Cobras FC\nAway Team: Freseros AC\nHome Score: 
 13\nAway Score: 2
END:VEVENT
BEGIN:VEVENT
UID:16600577@ezleagues.ezfacility.com
DTSTAMP:20260426T033613Z
CREATED:20260426T033613Z
DTSTART:20251009T010000Z
DTEND:20251009T015000Z
LOCATION:Outdoor Field
CONTACT:
SUMMARY:Galacticos  VS. Freseros AC
DESCRIPTION:League Name: Men's 30+ Black Group\nGame Type: Regular\nGame St
 atus: Complete\nHome Team: Galacticos \nAway Team: Freseros AC\nHome Score
 : 22\nAway Score: 2
END:VEVENT
BEGIN:VEVENT
UID:16600652@ezleagues.ezfacility.com
DTSTAMP:20260426T033613Z
CREATED:20260426T033613Z
DTSTART:20251016T001000Z
DTEND:20251016T010000Z
LOCATION:Indoor Field
CONTACT:
SUMMARY:Spartans FC VS. Freseros AC
DESCRIPTION:League Name: Men's 30+ Black Group\nGame Type: Regular\nGame St
 atus: Complete\nHome Team: Spartans FC\nAway Team: Freseros AC\nHome Score
 : 8\nAway Score: 4
END:VEVENT
END:VCALENDAR
