BEGIN:VCALENDAR
VERSION:2.0
PRODID:-//EZFacility.com, Inc.//EZL 2.5.5.28621
BEGIN:VEVENT
UID:16600556@ezleagues.ezfacility.com
DTSTAMP:20260424T043233Z
CREATED:20260424T043233Z
DTSTART:20250904T015000Z
DTEND:20250904T024000Z
LOCATION:Indoor Field
CONTACT:
SUMMARY:Guerreros VS. Cobras FC
DESCRIPTION:League Name: Men's 30+ Black Group\nGame Type: Regular\nGame St
 atus: Complete\nHome Team: Guerreros\nAway Team: Cobras FC\nHome Score: 7\
 nAway Score: 5
END:VEVENT
BEGIN:VEVENT
UID:16600563@ezleagues.ezfacility.com
DTSTAMP:20260424T043233Z
CREATED:20260424T043233Z
DTSTART:20250911T001000Z
DTEND:20250911T010000Z
LOCATION:Outdoor Field
CONTACT:
SUMMARY:Cobras FC VS. Galacticos 
DESCRIPTION:League Name: Men's 30+ Black Group\nGame Type: Regular\nGame St
 atus: Complete\nHome Team: Cobras FC\nAway Team: Galacticos \nHome Score: 
 3\nAway Score: 13
END:VEVENT
BEGIN:VEVENT
UID:16600567@ezleagues.ezfacility.com
DTSTAMP:20260424T043233Z
CREATED:20260424T043233Z
DTSTART:20250918T024000Z
DTEND:20250918T033000Z
LOCATION:Indoor Field
CONTACT:
SUMMARY:Cobras FC VS. FC Viejos
DESCRIPTION:League Name: Men's 30+ Black Group\nGame Type: Regular\nGame St
 atus: Complete\nHome Team: Cobras FC\nAway Team: FC Viejos\nHome Score: 3\
 nAway Score: 10
END:VEVENT
BEGIN:VEVENT
UID:16600569@ezleagues.ezfacility.com
DTSTAMP:20260424T043233Z
CREATED:20260424T043233Z
DTSTART:20250925T001000Z
DTEND:20250925T010000Z
LOCATION:Outdoor Field
CONTACT:
SUMMARY:Spartans FC VS. Cobras FC
DESCRIPTION:League Name: Men's 30+ Black Group\nGame Type: Regular\nGame St
 atus: Complete\nHome Team: Spartans FC\nAway Team: Cobras FC\nHome Score: 
 13\nAway Score: 7
END:VEVENT
BEGIN:VEVENT
UID:16600574@ezleagues.ezfacility.com
DTSTAMP:20260424T043233Z
CREATED:20260424T043233Z
DTSTART:20251002T024000Z
DTEND:20251002T033000Z
LOCATION:Indoor Field
CONTACT:
SUMMARY:Cobras FC VS. Freseros AC
DESCRIPTION:League Name: Men's 30+ Black Group\nGame Type: Regular\nGame St
 atus: Complete\nHome Team: Cobras FC\nAway Team: Freseros AC\nHome Score: 
 13\nAway Score: 2
END:VEVENT
BEGIN:VEVENT
UID:16600578@ezleagues.ezfacility.com
DTSTAMP:20260424T043233Z
CREATED:20260424T043233Z
DTSTART:20251009T024000Z
DTEND:20251009T033000Z
LOCATION:Outdoor Field
CONTACT:
SUMMARY:La Banca FC VS. Cobras FC
DESCRIPTION:League Name: Men's 30+ Black Group\nGame Type: Regular\nGame St
 atus: Complete\nHome Team: La Banca FC\nAway Team: Cobras FC\nHome Score: 
 8\nAway Score: 5
END:VEVENT
BEGIN:VEVENT
UID:16600653@ezleagues.ezfacility.com
DTSTAMP:20260424T043233Z
CREATED:20260424T043233Z
DTSTART:20251016T024000Z
DTEND:20251016T033000Z
LOCATION:Indoor Field
CONTACT:
SUMMARY:Cobras FC VS. American Outlaws
DESCRIPTION:League Name: Men's 30+ Black Group\nGame Type: Regular\nGame St
 atus: Complete\nHome Team: Cobras FC\nAway Team: American Outlaws\nHome Sc
 ore: 6\nAway Score: 0
END:VEVENT
END:VCALENDAR
