BEGIN:VCALENDAR
VERSION:2.0
PRODID:-//EZFacility.com, Inc.//EZL 2.5.5.28621
BEGIN:VEVENT
UID:16602745@ezleagues.ezfacility.com
DTSTAMP:20260426T033418Z
CREATED:20260426T033418Z
DTSTART:20250829T000000Z
DTEND:20250829T005000Z
LOCATION:Field 2
CONTACT:
SUMMARY:City Boys VS. All Star Shooters
DESCRIPTION:League Name: Adult Soccer Thursday League Session 1-Thursday Re
 creational B League\nGame Type: Regular\nGame Status: Complete\nHome Team:
  City Boys\nAway Team: All Star Shooters\nHome Score: 4\nAway Score: 2
END:VEVENT
BEGIN:VEVENT
UID:16602752@ezleagues.ezfacility.com
DTSTAMP:20260426T033418Z
CREATED:20260426T033418Z
DTSTART:20250905T014000Z
DTEND:20250905T023000Z
LOCATION:Field 2
CONTACT:
SUMMARY:All Star Shooters VS. Red Devils
DESCRIPTION:League Name: Adult Soccer Thursday League Session 1-Thursday Re
 creational B League\nGame Type: Regular\nGame Status: Complete\nHome Team:
  All Star Shooters\nAway Team: Red Devils\nHome Score: 4\nAway Score: 0
END:VEVENT
BEGIN:VEVENT
UID:16602759@ezleagues.ezfacility.com
DTSTAMP:20260426T033418Z
CREATED:20260426T033418Z
DTSTART:20250912T014000Z
DTEND:20250912T023000Z
LOCATION:Field 2
CONTACT:
SUMMARY:Greif FC VS. All Star Shooters
DESCRIPTION:League Name: Adult Soccer Thursday League Session 1-Thursday Re
 creational B League\nGame Type: Regular\nGame Status: Complete\nHome Team:
  Greif FC\nAway Team: All Star Shooters\nHome Score: 0\nAway Score: 0
END:VEVENT
BEGIN:VEVENT
UID:16602776@ezleagues.ezfacility.com
DTSTAMP:20260426T033418Z
CREATED:20260426T033418Z
DTSTART:20250919T014000Z
DTEND:20250919T023000Z
LOCATION:Field 1
CONTACT:
SUMMARY:All Star Shooters VS. MKE Eagles
DESCRIPTION:League Name: Adult Soccer Thursday League Session 1-Thursday Re
 creational B League\nGame Type: Regular\nGame Status: Complete\nHome Team:
  All Star Shooters\nAway Team: MKE Eagles\nHome Score: 2\nAway Score: 4
END:VEVENT
BEGIN:VEVENT
UID:16602780@ezleagues.ezfacility.com
DTSTAMP:20260426T033418Z
CREATED:20260426T033418Z
DTSTART:20250926T005000Z
DTEND:20250926T014000Z
LOCATION:Field 2
CONTACT:
SUMMARY:All Star Shooters VS. Hunters FC
DESCRIPTION:League Name: Adult Soccer Thursday League Session 1-Thursday Re
 creational B League\nGame Type: Regular\nGame Status: Complete\nHome Team:
  All Star Shooters\nAway Team: Hunters FC\nHome Score: 0\nAway Score: 2
END:VEVENT
BEGIN:VEVENT
UID:16602785@ezleagues.ezfacility.com
DTSTAMP:20260426T033418Z
CREATED:20260426T033418Z
DTSTART:20251003T000000Z
DTEND:20251003T005000Z
LOCATION:Field 2
CONTACT:
SUMMARY:FC HMC VS. All Star Shooters
DESCRIPTION:League Name: Adult Soccer Thursday League Session 1-Thursday Re
 creational B League\nGame Type: Regular\nGame Status: Complete\nHome Team:
  FC HMC\nAway Team: All Star Shooters\nHome Score: 0\nAway Score: 0
END:VEVENT
BEGIN:VEVENT
UID:16602794@ezleagues.ezfacility.com
DTSTAMP:20260426T033418Z
CREATED:20260426T033418Z
DTSTART:20251010T005000Z
DTEND:20251010T014000Z
LOCATION:Field 1
CONTACT:
SUMMARY:All Star Shooters VS. CF Lakefront
DESCRIPTION:League Name: Adult Soccer Thursday League Session 1-Thursday Re
 creational B League\nGame Type: Regular\nGame Status: Complete\nHome Team:
  All Star Shooters\nAway Team: CF Lakefront\nHome Score: 1\nAway Score: 4
END:VEVENT
BEGIN:VEVENT
UID:16704897@ezleagues.ezfacility.com
DTSTAMP:20260426T033418Z
CREATED:20260426T033418Z
DTSTART:20251017T030000Z
DTEND:20251017T034000Z
LOCATION:Field 2
CONTACT:
SUMMARY:Hunters FC VS. All Star Shooters
DESCRIPTION:League Name: Adult Soccer Thursday League Session 1-Thursday Re
 creational B League\nGame Type: Exhibition\nGame Status: Complete\nHome Te
 am: Hunters FC\nAway Team: All Star Shooters\nHome Score: 4\nAway Score: 7
END:VEVENT
END:VCALENDAR
