BEGIN:VCALENDAR
VERSION:2.0
PRODID:-//EZFacility.com, Inc.//EZL 2.5.5.28621
BEGIN:VEVENT
UID:16606711@ezleagues.ezfacility.com
DTSTAMP:20260424T044010Z
CREATED:20260424T044010Z
DTSTART:20250913T153000Z
DTEND:20250913T174000Z
LOCATION:Field 7
CONTACT:
SUMMARY:Cubs VS. Red Sox
DESCRIPTION:League Name: Coach Pitch Fall 2025\nGame Type: Regular\nGame St
 atus: Pending\nHome Team: Cubs\nAway Team: Red Sox\n
END:VEVENT
BEGIN:VEVENT
UID:16606714@ezleagues.ezfacility.com
DTSTAMP:20260424T044010Z
CREATED:20260424T044010Z
DTSTART:20250920T190000Z
DTEND:20250920T211000Z
LOCATION:Field 7
CONTACT:
SUMMARY:Cubs VS. Diamondbacks
DESCRIPTION:League Name: Coach Pitch Fall 2025\nGame Type: Regular\nGame St
 atus: Pending\nHome Team: Cubs\nAway Team: Diamondbacks\n
END:VEVENT
BEGIN:VEVENT
UID:16606717@ezleagues.ezfacility.com
DTSTAMP:20260424T044010Z
CREATED:20260424T044010Z
DTSTART:20250927T160000Z
DTEND:20250927T181000Z
LOCATION:Field 7
CONTACT:
SUMMARY:Cubs VS. Rockies
DESCRIPTION:League Name: Coach Pitch Fall 2025\nGame Type: Regular\nGame St
 atus: Rescheduled\nHome Team: Cubs\nAway Team: Rockies\n
END:VEVENT
BEGIN:VEVENT
UID:16606720@ezleagues.ezfacility.com
DTSTAMP:20260424T044010Z
CREATED:20260424T044010Z
DTSTART:20251004T171500Z
DTEND:20251004T192500Z
LOCATION:Field 7
CONTACT:
SUMMARY:Cubs VS. Yankees
DESCRIPTION:League Name: Coach Pitch Fall 2025\nGame Type: Regular\nGame St
 atus: Pending\nHome Team: Cubs\nAway Team: Yankees\n
END:VEVENT
BEGIN:VEVENT
UID:16606723@ezleagues.ezfacility.com
DTSTAMP:20260424T044010Z
CREATED:20260424T044010Z
DTSTART:20251011T171500Z
DTEND:20251011T192500Z
LOCATION:Field 7
CONTACT:
SUMMARY:Angels VS. Cubs
DESCRIPTION:League Name: Coach Pitch Fall 2025\nGame Type: Regular\nGame St
 atus: Rescheduled\nHome Team: Angels\nAway Team: Cubs\n
END:VEVENT
BEGIN:VEVENT
UID:16606726@ezleagues.ezfacility.com
DTSTAMP:20260424T044010Z
CREATED:20260424T044010Z
DTSTART:20251018T171500Z
DTEND:20251018T192500Z
LOCATION:Field 7
CONTACT:
SUMMARY:Red Sox VS. Cubs
DESCRIPTION:League Name: Coach Pitch Fall 2025\nGame Type: Regular\nGame St
 atus: Pending\nHome Team: Red Sox\nAway Team: Cubs\n
END:VEVENT
BEGIN:VEVENT
UID:16606729@ezleagues.ezfacility.com
DTSTAMP:20260424T044010Z
CREATED:20260424T044010Z
DTSTART:20251025T153000Z
DTEND:20251025T174000Z
LOCATION:Field 7
CONTACT:
SUMMARY:Diamondbacks VS. Cubs
DESCRIPTION:League Name: Coach Pitch Fall 2025\nGame Type: Regular\nGame St
 atus: Pending\nHome Team: Diamondbacks\nAway Team: Cubs\n
END:VEVENT
BEGIN:VEVENT
UID:16606732@ezleagues.ezfacility.com
DTSTAMP:20260424T044010Z
CREATED:20260424T044010Z
DTSTART:20251101T174500Z
DTEND:20251101T195500Z
LOCATION:Field 7
CONTACT:
SUMMARY:Rockies VS. Cubs
DESCRIPTION:League Name: Coach Pitch Fall 2025\nGame Type: Regular\nGame St
 atus: Pending\nHome Team: Rockies\nAway Team: Cubs\n
END:VEVENT
BEGIN:VEVENT
UID:16749299@ezleagues.ezfacility.com
DTSTAMP:20260424T044010Z
CREATED:20260424T044010Z
DTSTART:20251108T160000Z
DTEND:20251108T181000Z
LOCATION:Field 7
CONTACT:
SUMMARY:Angels VS. Cubs
DESCRIPTION:League Name: Coach Pitch Fall 2025\nGame Type: Regular\nGame St
 atus: Pending\nHome Team: Angels\nAway Team: Cubs\n
END:VEVENT
BEGIN:VEVENT
UID:16778805@ezleagues.ezfacility.com
DTSTAMP:20260424T044010Z
CREATED:20260424T044010Z
DTSTART:20251115T174500Z
DTEND:20251115T195500Z
LOCATION:Field 7
CONTACT:
SUMMARY:Cubs VS. Diamondbacks
DESCRIPTION:League Name: Coach Pitch Fall 2025\nGame Type: Regular\nGame St
 atus: Pending\nHome Team: Cubs\nAway Team: Diamondbacks\n
END:VEVENT
END:VCALENDAR
