BEGIN:VCALENDAR
VERSION:2.0
PRODID:-//EZFacility.com, Inc.//EZL 2.5.5.28621
BEGIN:VEVENT
UID:16604597@ezleagues.ezfacility.com
DTSTAMP:20260424T043951Z
CREATED:20260424T043951Z
DTSTART:20250913T153000Z
DTEND:20250913T165000Z
LOCATION:T-Ball Field
CONTACT:
SUMMARY:Hot Rods VS. River Cats
DESCRIPTION:League Name: T-Ball Fall 2025\nGame Type: Regular\nGame Status:
  Pending\nHome Team: Hot Rods\nAway Team: River Cats\n
END:VEVENT
BEGIN:VEVENT
UID:16604601@ezleagues.ezfacility.com
DTSTAMP:20260424T043951Z
CREATED:20260424T043951Z
DTSTART:20250920T170000Z
DTEND:20250920T182000Z
LOCATION:T-Ball Field
CONTACT:
SUMMARY:River Cats VS. Timber Rattlers
DESCRIPTION:League Name: T-Ball Fall 2025\nGame Type: Regular\nGame Status:
  Pending\nHome Team: River Cats\nAway Team: Timber Rattlers\n
END:VEVENT
BEGIN:VEVENT
UID:16604605@ezleagues.ezfacility.com
DTSTAMP:20260424T043951Z
CREATED:20260424T043951Z
DTSTART:20250927T183000Z
DTEND:20250927T195000Z
LOCATION:T-Ball Field
CONTACT:
SUMMARY:Storm VS. River Cats
DESCRIPTION:League Name: T-Ball Fall 2025\nGame Type: Regular\nGame Status:
  Rescheduled\nHome Team: Storm\nAway Team: River Cats\n
END:VEVENT
BEGIN:VEVENT
UID:16604608@ezleagues.ezfacility.com
DTSTAMP:20260424T043951Z
CREATED:20260424T043951Z
DTSTART:20251004T183000Z
DTEND:20251004T195000Z
LOCATION:T-Ball Field
CONTACT:
SUMMARY:Bulls VS. River Cats
DESCRIPTION:League Name: T-Ball Fall 2025\nGame Type: Regular\nGame Status:
  Pending\nHome Team: Bulls\nAway Team: River Cats\n
END:VEVENT
BEGIN:VEVENT
UID:16604610@ezleagues.ezfacility.com
DTSTAMP:20260424T043951Z
CREATED:20260424T043951Z
DTSTART:20251011T153000Z
DTEND:20251011T165000Z
LOCATION:T-Ball Field
CONTACT:
SUMMARY:Bats VS. River Cats
DESCRIPTION:League Name: T-Ball Fall 2025\nGame Type: Regular\nGame Status:
  Rescheduled\nHome Team: Bats\nAway Team: River Cats\n
END:VEVENT
BEGIN:VEVENT
UID:16604612@ezleagues.ezfacility.com
DTSTAMP:20260424T043951Z
CREATED:20260424T043951Z
DTSTART:20251018T170000Z
DTEND:20251018T182000Z
LOCATION:T-Ball Field
CONTACT:
SUMMARY:River Cats VS. Hot Rods
DESCRIPTION:League Name: T-Ball Fall 2025\nGame Type: Regular\nGame Status:
  Pending\nHome Team: River Cats\nAway Team: Hot Rods\n
END:VEVENT
BEGIN:VEVENT
UID:16604616@ezleagues.ezfacility.com
DTSTAMP:20260424T043951Z
CREATED:20260424T043951Z
DTSTART:20251025T170000Z
DTEND:20251025T182000Z
LOCATION:T-Ball Field
CONTACT:
SUMMARY:River Cats VS. Timber Rattlers
DESCRIPTION:League Name: T-Ball Fall 2025\nGame Type: Regular\nGame Status:
  Pending\nHome Team: River Cats\nAway Team: Timber Rattlers\n
END:VEVENT
BEGIN:VEVENT
UID:16604620@ezleagues.ezfacility.com
DTSTAMP:20260424T043951Z
CREATED:20260424T043951Z
DTSTART:20251101T170000Z
DTEND:20251101T182000Z
LOCATION:T-Ball Field
CONTACT:
SUMMARY:River Cats VS. Storm
DESCRIPTION:League Name: T-Ball Fall 2025\nGame Type: Regular\nGame Status:
  Pending\nHome Team: River Cats\nAway Team: Storm\n
END:VEVENT
BEGIN:VEVENT
UID:16749406@ezleagues.ezfacility.com
DTSTAMP:20260424T043951Z
CREATED:20260424T043951Z
DTSTART:20251108T183000Z
DTEND:20251108T195000Z
LOCATION:T-Ball Field
CONTACT:
SUMMARY:Storm VS. River Cats
DESCRIPTION:League Name: T-Ball Fall 2025\nGame Type: Regular\nGame Status:
  Pending\nHome Team: Storm\nAway Team: River Cats\n
END:VEVENT
BEGIN:VEVENT
UID:16778806@ezleagues.ezfacility.com
DTSTAMP:20260424T043951Z
CREATED:20260424T043951Z
DTSTART:20251115T153000Z
DTEND:20251115T165000Z
LOCATION:T-Ball Field
CONTACT:
SUMMARY:Bats VS. River Cats
DESCRIPTION:League Name: T-Ball Fall 2025\nGame Type: Regular\nGame Status:
  Pending\nHome Team: Bats\nAway Team: River Cats\n
END:VEVENT
END:VCALENDAR
