BEGIN:VCALENDAR
VERSION:2.0
PRODID:-//EZFacility.com, Inc.//EZL 2.5.5.28621
BEGIN:VEVENT
UID:16605195@ezleagues.ezfacility.com
DTSTAMP:20260424T044131Z
CREATED:20260424T044131Z
DTSTART:20250903T000000Z
DTEND:20250903T004500Z
LOCATION:ATX Futsal Court 1
CONTACT:
SUMMARY:Soccer Aid VS. Goals R Us
DESCRIPTION:League Name: Co-Ed Fall\nGame Type: Regular\nGame Status: Compl
 ete\nHome Team: Soccer Aid\nAway Team: Goals R Us\nHome Score: 19\nAway Sc
 ore: 22
END:VEVENT
BEGIN:VEVENT
UID:16663882@ezleagues.ezfacility.com
DTSTAMP:20260424T044131Z
CREATED:20260424T044131Z
DTSTART:20250910T000000Z
DTEND:20250910T004500Z
LOCATION:ATX Futsal Court 1
CONTACT:
SUMMARY:Soccer Aid VS. Lakshitha FC
DESCRIPTION:League Name: Co-Ed Fall\nGame Type: Regular\nGame Status: Compl
 ete\nHome Team: Soccer Aid\nAway Team: Lakshitha FC\nHome Score: 21\nAway 
 Score: 24
END:VEVENT
BEGIN:VEVENT
UID:16681463@ezleagues.ezfacility.com
DTSTAMP:20260424T044131Z
CREATED:20260424T044131Z
DTSTART:20250924T001500Z
DTEND:20250924T010000Z
LOCATION:ATX Futsal Court 1
CONTACT:
SUMMARY:Soccer Aid VS. Ghostbusters
DESCRIPTION:League Name: Co-Ed Fall\nGame Type: Regular\nGame Status: Compl
 ete\nHome Team: Soccer Aid\nAway Team: Ghostbusters\nHome Score: 18\nAway 
 Score: 22
END:VEVENT
BEGIN:VEVENT
UID:16728459@ezleagues.ezfacility.com
DTSTAMP:20260424T044131Z
CREATED:20260424T044131Z
DTSTART:20251001T001500Z
DTEND:20251001T010000Z
LOCATION:ATX Futsal Court 1
CONTACT:
SUMMARY:Soccer Aid VS. SOF
DESCRIPTION:League Name: Co-Ed Fall\nGame Type: Regular\nGame Status: Compl
 ete\nHome Team: Soccer Aid\nAway Team: SOF\nHome Score: 16\nAway Score: 16
END:VEVENT
BEGIN:VEVENT
UID:16745691@ezleagues.ezfacility.com
DTSTAMP:20260424T044131Z
CREATED:20260424T044131Z
DTSTART:20251008T001500Z
DTEND:20251008T010000Z
LOCATION:ATX Futsal Court 1
CONTACT:
SUMMARY:Upper 90 VS. Soccer Aid
DESCRIPTION:League Name: Co-Ed Fall\nGame Type: Regular\nGame Status: Postp
 oned\nHome Team: Upper 90\nAway Team: Soccer Aid\n
END:VEVENT
BEGIN:VEVENT
UID:16777378@ezleagues.ezfacility.com
DTSTAMP:20260424T044131Z
CREATED:20260424T044131Z
DTSTART:20251015T001500Z
DTEND:20251015T010000Z
LOCATION:ATX Futsal Court 1
CONTACT:
SUMMARY:Soccer Aid VS. Goals R Us
DESCRIPTION:League Name: Co-Ed Fall\nGame Type: Regular\nGame Status: Compl
 ete\nHome Team: Soccer Aid\nAway Team: Goals R Us\nHome Score: 15\nAway Sc
 ore: 25
END:VEVENT
BEGIN:VEVENT
UID:16792356@ezleagues.ezfacility.com
DTSTAMP:20260424T044131Z
CREATED:20260424T044131Z
DTSTART:20251022T010000Z
DTEND:20251022T014500Z
LOCATION:ATX Futsal Court 1
CONTACT:
SUMMARY:Put me in Coach VS. Soccer Aid
DESCRIPTION:League Name: Co-Ed Fall\nGame Type: Regular\nGame Status: Compl
 ete\nHome Team: Put me in Coach\nAway Team: Soccer Aid\nHome Score: 21\nAw
 ay Score: 16
END:VEVENT
END:VCALENDAR
