BEGIN:VCALENDAR
VERSION:2.0
PRODID:-//EZFacility.com, Inc.//EZL 2.5.5.28621
BEGIN:VEVENT
UID:16605809@ezleagues.ezfacility.com
DTSTAMP:20260421T115324Z
CREATED:20260421T115324Z
DTSTART:20250903T234500Z
DTEND:20250904T003000Z
LOCATION:South Court (3)
CONTACT:
SUMMARY:Rookie Szn VS. Gals in the Kitchen
DESCRIPTION:League Name: Pickleball South\nGame Type: Regular\nGame Status:
  Complete\nHome Team: Rookie Szn\nAway Team: Gals in the Kitchen\nHome Sco
 re: 0\nAway Score: 2
END:VEVENT
BEGIN:VEVENT
UID:16605813@ezleagues.ezfacility.com
DTSTAMP:20260421T115324Z
CREATED:20260421T115324Z
DTSTART:20250910T234500Z
DTEND:20250911T003000Z
LOCATION:South Court (3)
CONTACT:
SUMMARY:Kind of a Big Dill VS. Rookie Szn
DESCRIPTION:League Name: Pickleball South\nGame Type: Regular\nGame Status:
  Complete\nHome Team: Kind of a Big Dill\nAway Team: Rookie Szn\nHome Scor
 e: 0\nAway Score: 2
END:VEVENT
BEGIN:VEVENT
UID:16605816@ezleagues.ezfacility.com
DTSTAMP:20260421T115324Z
CREATED:20260421T115324Z
DTSTART:20250917T230000Z
DTEND:20250917T234500Z
LOCATION:South Court (3)
CONTACT:
SUMMARY:In A Pickle VS. Rookie Szn
DESCRIPTION:League Name: Pickleball South\nGame Type: Regular\nGame Status:
  Complete\nHome Team: In A Pickle\nAway Team: Rookie Szn\nHome Score: 1\nA
 way Score: 2
END:VEVENT
BEGIN:VEVENT
UID:16605819@ezleagues.ezfacility.com
DTSTAMP:20260421T115324Z
CREATED:20260421T115324Z
DTSTART:20250924T230000Z
DTEND:20250924T234500Z
LOCATION:South Court (1)
CONTACT:
SUMMARY:Smash or Pass VS. Rookie Szn
DESCRIPTION:League Name: Pickleball South\nGame Type: Regular\nGame Status:
  Complete\nHome Team: Smash or Pass\nAway Team: Rookie Szn\nHome Score: 2\
 nAway Score: 0
END:VEVENT
BEGIN:VEVENT
UID:16605822@ezleagues.ezfacility.com
DTSTAMP:20260421T115324Z
CREATED:20260421T115324Z
DTSTART:20251001T234500Z
DTEND:20251002T003000Z
LOCATION:South Court (1)
CONTACT:
SUMMARY:Rookie Szn VS. Dr. Pickle Poppers
DESCRIPTION:League Name: Pickleball South\nGame Type: Regular\nGame Status:
  Complete\nHome Team: Rookie Szn\nAway Team: Dr. Pickle Poppers\nHome Scor
 e: 2\nAway Score: 0
END:VEVENT
BEGIN:VEVENT
UID:16605827@ezleagues.ezfacility.com
DTSTAMP:20260421T115324Z
CREATED:20260421T115324Z
DTSTART:20251008T234500Z
DTEND:20251009T003000Z
LOCATION:South Court (1)
CONTACT:
SUMMARY:Rookie Szn VS. Golden Girls
DESCRIPTION:League Name: Pickleball South\nGame Type: Regular\nGame Status:
  Complete\nHome Team: Rookie Szn\nAway Team: Golden Girls\nHome Score: 1\n
 Away Score: 2
END:VEVENT
BEGIN:VEVENT
UID:16605832@ezleagues.ezfacility.com
DTSTAMP:20260421T115324Z
CREATED:20260421T115324Z
DTSTART:20251009T003000Z
DTEND:20251009T011500Z
LOCATION:South Court (3)
CONTACT:
SUMMARY:Rookie Szn VS. Pickled
DESCRIPTION:League Name: Pickleball South\nGame Type: Regular\nGame Status:
  Complete\nHome Team: Rookie Szn\nAway Team: Pickled\nHome Score: 2\nAway 
 Score: 0
END:VEVENT
END:VCALENDAR
