BEGIN:VCALENDAR
VERSION:2.0
PRODID:-//EZFacility.com, Inc.//EZL 2.5.5.28621
BEGIN:VEVENT
UID:16650827@ezleagues.ezfacility.com
DTSTAMP:20260426T033613Z
CREATED:20260426T033613Z
DTSTART:20250908T062500Z
DTEND:20250908T072500Z
LOCATION:P4A
CONTACT:
SUMMARY:Burraroos VS. The Ronaldo Rockets
DESCRIPTION:League Name: Kar u7/8 Mixed Div 2 (Mon)\nGame Type: Regular\nGa
 me Status: Pending\nHome Team: Burraroos\nAway Team: The Ronaldo Rockets\n
END:VEVENT
BEGIN:VEVENT
UID:16650834@ezleagues.ezfacility.com
DTSTAMP:20260426T033613Z
CREATED:20260426T033613Z
DTSTART:20250915T062500Z
DTEND:20250915T072500Z
LOCATION:P4B
CONTACT:
SUMMARY:Little Legends FC VS. The Ronaldo Rockets
DESCRIPTION:League Name: Kar u7/8 Mixed Div 2 (Mon)\nGame Type: Regular\nGa
 me Status: Pending\nHome Team: Little Legends FC\nAway Team: The Ronaldo R
 ockets\n
END:VEVENT
BEGIN:VEVENT
UID:16650840@ezleagues.ezfacility.com
DTSTAMP:20260426T033613Z
CREATED:20260426T033613Z
DTSTART:20250922T062500Z
DTEND:20250922T072500Z
LOCATION:P4B
CONTACT:
SUMMARY:The Ronaldo Rockets VS. Minitildas 
DESCRIPTION:League Name: Kar u7/8 Mixed Div 2 (Mon)\nGame Type: Regular\nGa
 me Status: Pending\nHome Team: The Ronaldo Rockets\nAway Team: Minitildas 
 \n
END:VEVENT
BEGIN:VEVENT
UID:16650845@ezleagues.ezfacility.com
DTSTAMP:20260426T033613Z
CREATED:20260426T033613Z
DTSTART:20250929T062500Z
DTEND:20250929T072500Z
LOCATION:P4B
CONTACT:
SUMMARY:Burraroos VS. The Ronaldo Rockets
DESCRIPTION:League Name: Kar u7/8 Mixed Div 2 (Mon)\nGame Type: Regular\nGa
 me Status: Pending\nHome Team: Burraroos\nAway Team: The Ronaldo Rockets\n
END:VEVENT
BEGIN:VEVENT
UID:16650852@ezleagues.ezfacility.com
DTSTAMP:20260426T033613Z
CREATED:20260426T033613Z
DTSTART:20251006T052500Z
DTEND:20251006T062500Z
LOCATION:P4A
CONTACT:
SUMMARY:The Ronaldo Rockets VS. Little Legends FC
DESCRIPTION:League Name: Kar u7/8 Mixed Div 2 (Mon)\nGame Type: Regular\nGa
 me Status: Pending\nHome Team: The Ronaldo Rockets\nAway Team: Little Lege
 nds FC\n
END:VEVENT
BEGIN:VEVENT
UID:16650858@ezleagues.ezfacility.com
DTSTAMP:20260426T033613Z
CREATED:20260426T033613Z
DTSTART:20251013T052500Z
DTEND:20251013T062500Z
LOCATION:P4A
CONTACT:
SUMMARY:Minitildas  VS. The Ronaldo Rockets
DESCRIPTION:League Name: Kar u7/8 Mixed Div 2 (Mon)\nGame Type: Regular\nGa
 me Status: Pending\nHome Team: Minitildas \nAway Team: The Ronaldo Rockets
 \n
END:VEVENT
BEGIN:VEVENT
UID:16650863@ezleagues.ezfacility.com
DTSTAMP:20260426T033613Z
CREATED:20260426T033613Z
DTSTART:20251020T052500Z
DTEND:20251020T062500Z
LOCATION:P4A
CONTACT:
SUMMARY:The Ronaldo Rockets VS. Burraroos
DESCRIPTION:League Name: Kar u7/8 Mixed Div 2 (Mon)\nGame Type: Regular\nGa
 me Status: Pending\nHome Team: The Ronaldo Rockets\nAway Team: Burraroos\n
END:VEVENT
BEGIN:VEVENT
UID:16650870@ezleagues.ezfacility.com
DTSTAMP:20260426T033613Z
CREATED:20260426T033613Z
DTSTART:20251027T052500Z
DTEND:20251027T062500Z
LOCATION:P4B
CONTACT:
SUMMARY:The Ronaldo Rockets VS. Little Legends FC
DESCRIPTION:League Name: Kar u7/8 Mixed Div 2 (Mon)\nGame Type: Regular\nGa
 me Status: Pending\nHome Team: The Ronaldo Rockets\nAway Team: Little Lege
 nds FC\n
END:VEVENT
BEGIN:VEVENT
UID:16650876@ezleagues.ezfacility.com
DTSTAMP:20260426T033613Z
CREATED:20260426T033613Z
DTSTART:20251103T052500Z
DTEND:20251103T062500Z
LOCATION:P4B
CONTACT:
SUMMARY:Minitildas  VS. The Ronaldo Rockets
DESCRIPTION:League Name: Kar u7/8 Mixed Div 2 (Mon)\nGame Type: Regular\nGa
 me Status: Pending\nHome Team: Minitildas \nAway Team: The Ronaldo Rockets
 \n
END:VEVENT
BEGIN:VEVENT
UID:16650881@ezleagues.ezfacility.com
DTSTAMP:20260426T033613Z
CREATED:20260426T033613Z
DTSTART:20251110T052500Z
DTEND:20251110T062500Z
LOCATION:P4B
CONTACT:
SUMMARY:The Ronaldo Rockets VS. Burraroos
DESCRIPTION:League Name: Kar u7/8 Mixed Div 2 (Mon)\nGame Type: Regular\nGa
 me Status: Pending\nHome Team: The Ronaldo Rockets\nAway Team: Burraroos\n
END:VEVENT
END:VCALENDAR
